BEGIN:VCALENDAR
VERSION:2.0
PRODID:-//Hillcrest RV Resort - ECPv6.15.20//NONSGML v1.0//EN
CALSCALE:GREGORIAN
METHOD:PUBLISH
X-ORIGINAL-URL:https://hillcrestrvresortfl.com
X-WR-CALDESC:Events for Hillcrest RV Resort
REFRESH-INTERVAL;VALUE=DURATION:PT1H
X-Robots-Tag:noindex
X-PUBLISHED-TTL:PT1H
BEGIN:VTIMEZONE
TZID:America/Chicago
BEGIN:DAYLIGHT
TZOFFSETFROM:-0600
TZOFFSETTO:-0500
TZNAME:CDT
DTSTART:20240310T080000
END:DAYLIGHT
BEGIN:STANDARD
TZOFFSETFROM:-0500
TZOFFSETTO:-0600
TZNAME:CST
DTSTART:20241103T070000
END:STANDARD
BEGIN:DAYLIGHT
TZOFFSETFROM:-0600
TZOFFSETTO:-0500
TZNAME:CDT
DTSTART:20250309T080000
END:DAYLIGHT
BEGIN:STANDARD
TZOFFSETFROM:-0500
TZOFFSETTO:-0600
TZNAME:CST
DTSTART:20251102T070000
END:STANDARD
BEGIN:DAYLIGHT
TZOFFSETFROM:-0600
TZOFFSETTO:-0500
TZNAME:CDT
DTSTART:20260308T080000
END:DAYLIGHT
BEGIN:STANDARD
TZOFFSETFROM:-0500
TZOFFSETTO:-0600
TZNAME:CST
DTSTART:20261101T070000
END:STANDARD
END:VTIMEZONE
BEGIN:VEVENT
DTSTART;TZID=America/Chicago:20250227T080000
DTEND;TZID=America/Chicago:20250227T120000
DTSTAMP:20260425T191223
CREATED:20250115T192621Z
LAST-MODIFIED:20250115T192621Z
UID:17815-1740643200-1740657600@hillcrestrvresortfl.com
SUMMARY:Water Aerobics
DESCRIPTION:
URL:https://hillcrestrvresortfl.com/event/water-aerobics-187/
END:VEVENT
BEGIN:VEVENT
DTSTART;TZID=America/Chicago:20250227T080000
DTEND;TZID=America/Chicago:20250227T220000
DTSTAMP:20260425T191223
CREATED:20250114T170739Z
LAST-MODIFIED:20250114T170739Z
UID:17686-1740643200-1740693600@hillcrestrvresortfl.com
SUMMARY:Pickleball
DESCRIPTION:
URL:https://hillcrestrvresortfl.com/event/pickleball-217/
END:VEVENT
BEGIN:VEVENT
DTSTART;TZID=America/Chicago:20250227T090000
DTEND;TZID=America/Chicago:20250227T103000
DTSTAMP:20260425T191223
CREATED:20250116T170437Z
LAST-MODIFIED:20250116T170437Z
UID:18013-1740646800-1740652200@hillcrestrvresortfl.com
SUMMARY:Choir Practice
DESCRIPTION:
URL:https://hillcrestrvresortfl.com/event/choir-practice-17/
END:VEVENT
BEGIN:VEVENT
DTSTART;TZID=America/Chicago:20250227T090000
DTEND;TZID=America/Chicago:20250227T170000
DTSTAMP:20260425T191223
CREATED:20250114T175439Z
LAST-MODIFIED:20250114T175439Z
UID:17734-1740646800-1740675600@hillcrestrvresortfl.com
SUMMARY:Horseshoes
DESCRIPTION:
URL:https://hillcrestrvresortfl.com/event/horseshoes-195/
END:VEVENT
BEGIN:VEVENT
DTSTART;TZID=America/Chicago:20250227T090000
DTEND;TZID=America/Chicago:20250227T170000
DTSTAMP:20260425T191223
CREATED:20250115T191917Z
LAST-MODIFIED:20250115T191917Z
UID:17775-1740646800-1740675600@hillcrestrvresortfl.com
SUMMARY:Shuffleboard
DESCRIPTION:
URL:https://hillcrestrvresortfl.com/event/shuffleboard-186/
END:VEVENT
BEGIN:VEVENT
DTSTART;TZID=America/Chicago:20250227T100000
DTEND;TZID=America/Chicago:20250227T113000
DTSTAMP:20260425T191223
CREATED:20250114T152553Z
LAST-MODIFIED:20250114T152553Z
UID:17572-1740650400-1740655800@hillcrestrvresortfl.com
SUMMARY:Drumming Exercises
DESCRIPTION:
URL:https://hillcrestrvresortfl.com/event/drumming-exercises-8/
END:VEVENT
BEGIN:VEVENT
DTSTART;TZID=America/Chicago:20250227T100000
DTEND;TZID=America/Chicago:20250227T170000
DTSTAMP:20260425T191223
CREATED:20250115T195535Z
LAST-MODIFIED:20250115T195535Z
UID:17871-1740650400-1740675600@hillcrestrvresortfl.com
SUMMARY:Pentanque
DESCRIPTION:
URL:https://hillcrestrvresortfl.com/event/pentanque-137/
END:VEVENT
BEGIN:VEVENT
DTSTART;TZID=America/Chicago:20250227T110000
DTEND;TZID=America/Chicago:20250227T130000
DTSTAMP:20260425T191223
CREATED:20250114T153028Z
LAST-MODIFIED:20250114T153028Z
UID:17580-1740654000-1740661200@hillcrestrvresortfl.com
SUMMARY:Cornhole
DESCRIPTION:
URL:https://hillcrestrvresortfl.com/event/cornhole-13/
END:VEVENT
BEGIN:VEVENT
DTSTART;TZID=America/Chicago:20250227T130000
DTEND;TZID=America/Chicago:20250227T150000
DTSTAMP:20260425T191223
CREATED:20250114T153156Z
LAST-MODIFIED:20250114T153156Z
UID:17586-1740661200-1740668400@hillcrestrvresortfl.com
SUMMARY:Line Dancing
DESCRIPTION:
URL:https://hillcrestrvresortfl.com/event/line-dancing-24/
END:VEVENT
BEGIN:VEVENT
DTSTART;TZID=America/Chicago:20250227T150000
DTEND;TZID=America/Chicago:20250227T170000
DTSTAMP:20260425T191223
CREATED:20250114T153421Z
LAST-MODIFIED:20250114T153421Z
UID:17594-1740668400-1740675600@hillcrestrvresortfl.com
SUMMARY:Acoustic Jam
DESCRIPTION:
URL:https://hillcrestrvresortfl.com/event/acoustic-jam-32/
END:VEVENT
BEGIN:VEVENT
DTSTART;TZID=America/Chicago:20250227T180000
DTEND;TZID=America/Chicago:20250227T210000
DTSTAMP:20260425T191223
CREATED:20250115T203952Z
LAST-MODIFIED:20250115T203952Z
UID:17977-1740679200-1740690000@hillcrestrvresortfl.com
SUMMARY:Bid Euchre
DESCRIPTION:
URL:https://hillcrestrvresortfl.com/event/bid-euchre-51/
END:VEVENT
BEGIN:VEVENT
DTSTART;TZID=America/Chicago:20250227T183000
DTEND;TZID=America/Chicago:20250227T210000
DTSTAMP:20260425T191223
CREATED:20250114T154113Z
LAST-MODIFIED:20250114T154113Z
UID:17602-1740681000-1740690000@hillcrestrvresortfl.com
SUMMARY:Bingo
DESCRIPTION:
URL:https://hillcrestrvresortfl.com/event/bingo-60/
END:VEVENT
BEGIN:VEVENT
DTSTART;TZID=America/Chicago:20250227T183000
DTEND;TZID=America/Chicago:20250227T210000
DTSTAMP:20260425T191223
CREATED:20250115T202617Z
LAST-MODIFIED:20250115T202617Z
UID:17953-1740681000-1740690000@hillcrestrvresortfl.com
SUMMARY:Men's Billiards
DESCRIPTION:
URL:https://hillcrestrvresortfl.com/event/mens-billiards-77/
END:VEVENT
END:VCALENDAR