BEGIN:VCALENDAR
VERSION:2.0
PRODID:-//Hillcrest RV Resort - ECPv6.15.20//NONSGML v1.0//EN
CALSCALE:GREGORIAN
METHOD:PUBLISH
X-WR-CALNAME:Hillcrest RV Resort
X-ORIGINAL-URL:https://hillcrestrvresortfl.com
X-WR-CALDESC:Events for Hillcrest RV Resort
REFRESH-INTERVAL;VALUE=DURATION:PT1H
X-Robots-Tag:noindex
X-PUBLISHED-TTL:PT1H
BEGIN:VTIMEZONE
TZID:America/Chicago
BEGIN:DAYLIGHT
TZOFFSETFROM:-0600
TZOFFSETTO:-0500
TZNAME:CDT
DTSTART:20240310T080000
END:DAYLIGHT
BEGIN:STANDARD
TZOFFSETFROM:-0500
TZOFFSETTO:-0600
TZNAME:CST
DTSTART:20241103T070000
END:STANDARD
BEGIN:DAYLIGHT
TZOFFSETFROM:-0600
TZOFFSETTO:-0500
TZNAME:CDT
DTSTART:20250309T080000
END:DAYLIGHT
BEGIN:STANDARD
TZOFFSETFROM:-0500
TZOFFSETTO:-0600
TZNAME:CST
DTSTART:20251102T070000
END:STANDARD
BEGIN:DAYLIGHT
TZOFFSETFROM:-0600
TZOFFSETTO:-0500
TZNAME:CDT
DTSTART:20260308T080000
END:DAYLIGHT
BEGIN:STANDARD
TZOFFSETFROM:-0500
TZOFFSETTO:-0600
TZNAME:CST
DTSTART:20261101T070000
END:STANDARD
END:VTIMEZONE
BEGIN:VEVENT
DTSTART;TZID=America/Chicago:20250226T080000
DTEND;TZID=America/Chicago:20250226T120000
DTSTAMP:20260425T191102
CREATED:20250115T192603Z
LAST-MODIFIED:20250115T192603Z
UID:17813-1740556800-1740571200@hillcrestrvresortfl.com
SUMMARY:Water Aerobics
DESCRIPTION:
URL:https://hillcrestrvresortfl.com/event/water-aerobics-186/
END:VEVENT
BEGIN:VEVENT
DTSTART;TZID=America/Chicago:20250226T080000
DTEND;TZID=America/Chicago:20250226T220000
DTSTAMP:20260425T191102
CREATED:20250114T170721Z
LAST-MODIFIED:20250114T170721Z
UID:17684-1740556800-1740607200@hillcrestrvresortfl.com
SUMMARY:Pickleball
DESCRIPTION:
URL:https://hillcrestrvresortfl.com/event/pickleball-216/
END:VEVENT
BEGIN:VEVENT
DTSTART;TZID=America/Chicago:20250226T090000
DTEND;TZID=America/Chicago:20250226T103000
DTSTAMP:20260425T191102
CREATED:20250114T144925Z
LAST-MODIFIED:20250114T144925Z
UID:17544-1740560400-1740565800@hillcrestrvresortfl.com
SUMMARY:Bone Builder Exercises
DESCRIPTION:
URL:https://hillcrestrvresortfl.com/event/bone-builder-exercises-14/
END:VEVENT
BEGIN:VEVENT
DTSTART;TZID=America/Chicago:20250226T090000
DTEND;TZID=America/Chicago:20250226T170000
DTSTAMP:20260425T191102
CREATED:20250114T175421Z
LAST-MODIFIED:20250114T175421Z
UID:17732-1740560400-1740589200@hillcrestrvresortfl.com
SUMMARY:Horseshoes
DESCRIPTION:
URL:https://hillcrestrvresortfl.com/event/horseshoes-194/
END:VEVENT
BEGIN:VEVENT
DTSTART;TZID=America/Chicago:20250226T090000
DTEND;TZID=America/Chicago:20250226T170000
DTSTAMP:20260425T191102
CREATED:20250115T191902Z
LAST-MODIFIED:20250115T191902Z
UID:17773-1740560400-1740589200@hillcrestrvresortfl.com
SUMMARY:Shuffleboard
DESCRIPTION:
URL:https://hillcrestrvresortfl.com/event/shuffleboard-185/
END:VEVENT
BEGIN:VEVENT
DTSTART;TZID=America/Chicago:20250226T100000
DTEND;TZID=America/Chicago:20250226T120000
DTSTAMP:20260425T191102
CREATED:20250115T201131Z
LAST-MODIFIED:20250115T201131Z
UID:17903-1740564000-1740571200@hillcrestrvresortfl.com
SUMMARY:Womens' Billiards
DESCRIPTION:
URL:https://hillcrestrvresortfl.com/event/womens-billiards-53/
END:VEVENT
BEGIN:VEVENT
DTSTART;TZID=America/Chicago:20250226T100000
DTEND;TZID=America/Chicago:20250226T123000
DTSTAMP:20260425T191102
CREATED:20250115T204652Z
LAST-MODIFIED:20250115T204652Z
UID:17997-1740564000-1740573000@hillcrestrvresortfl.com
SUMMARY:Scrabble
DESCRIPTION:
URL:https://hillcrestrvresortfl.com/event/scrabble-31/
END:VEVENT
BEGIN:VEVENT
DTSTART;TZID=America/Chicago:20250226T100000
DTEND;TZID=America/Chicago:20250226T170000
DTSTAMP:20260425T191102
CREATED:20250115T195517Z
LAST-MODIFIED:20250115T195517Z
UID:17869-1740564000-1740589200@hillcrestrvresortfl.com
SUMMARY:Pentanque
DESCRIPTION:
URL:https://hillcrestrvresortfl.com/event/pentanque-136/
END:VEVENT
BEGIN:VEVENT
DTSTART;TZID=America/Chicago:20250226T103000
DTEND;TZID=America/Chicago:20250226T170000
DTSTAMP:20260425T191102
CREATED:20250116T170251Z
LAST-MODIFIED:20250116T170251Z
UID:18005-1740565800-1740589200@hillcrestrvresortfl.com
SUMMARY:Golf
DESCRIPTION:
URL:https://hillcrestrvresortfl.com/event/golf-17/
END:VEVENT
BEGIN:VEVENT
DTSTART;TZID=America/Chicago:20250226T110000
DTEND;TZID=America/Chicago:20250226T123000
DTSTAMP:20260425T191102
CREATED:20250114T145033Z
LAST-MODIFIED:20250114T145033Z
UID:17548-1740567600-1740573000@hillcrestrvresortfl.com
SUMMARY:Bible Study
DESCRIPTION:
URL:https://hillcrestrvresortfl.com/event/bible-study-14/
END:VEVENT
BEGIN:VEVENT
DTSTART;TZID=America/Chicago:20250226T130000
DTEND;TZID=America/Chicago:20250226T150000
DTSTAMP:20260425T191102
CREATED:20250114T152142Z
LAST-MODIFIED:20250114T152142Z
UID:17556-1740574800-1740582000@hillcrestrvresortfl.com
SUMMARY:Fiddler's Jam
DESCRIPTION:
URL:https://hillcrestrvresortfl.com/event/fiddlers-jam-26/
END:VEVENT
BEGIN:VEVENT
DTSTART;TZID=America/Chicago:20250226T180000
DTEND;TZID=America/Chicago:20250226T210000
DTSTAMP:20260425T191102
CREATED:20250115T201744Z
LAST-MODIFIED:20250115T201744Z
UID:17929-1740592800-1740603600@hillcrestrvresortfl.com
SUMMARY:Game Night
DESCRIPTION:
URL:https://hillcrestrvresortfl.com/event/game-night-62/
END:VEVENT
BEGIN:VEVENT
DTSTART;TZID=America/Chicago:20250226T190000
DTEND;TZID=America/Chicago:20250226T210000
DTSTAMP:20260425T191102
CREATED:20250114T152347Z
LAST-MODIFIED:20250114T152347Z
UID:17564-1740596400-1740603600@hillcrestrvresortfl.com
SUMMARY:Talent Show
DESCRIPTION:
URL:https://hillcrestrvresortfl.com/event/talent-show-3/
END:VEVENT
END:VCALENDAR