BEGIN:VCALENDAR
VERSION:2.0
PRODID:-//Hillcrest RV Resort - ECPv6.15.20//NONSGML v1.0//EN
CALSCALE:GREGORIAN
METHOD:PUBLISH
X-WR-CALNAME:Hillcrest RV Resort
X-ORIGINAL-URL:https://hillcrestrvresortfl.com
X-WR-CALDESC:Events for Hillcrest RV Resort
REFRESH-INTERVAL;VALUE=DURATION:PT1H
X-Robots-Tag:noindex
X-PUBLISHED-TTL:PT1H
BEGIN:VTIMEZONE
TZID:America/Chicago
BEGIN:DAYLIGHT
TZOFFSETFROM:-0600
TZOFFSETTO:-0500
TZNAME:CDT
DTSTART:20240310T080000
END:DAYLIGHT
BEGIN:STANDARD
TZOFFSETFROM:-0500
TZOFFSETTO:-0600
TZNAME:CST
DTSTART:20241103T070000
END:STANDARD
BEGIN:DAYLIGHT
TZOFFSETFROM:-0600
TZOFFSETTO:-0500
TZNAME:CDT
DTSTART:20250309T080000
END:DAYLIGHT
BEGIN:STANDARD
TZOFFSETFROM:-0500
TZOFFSETTO:-0600
TZNAME:CST
DTSTART:20251102T070000
END:STANDARD
BEGIN:DAYLIGHT
TZOFFSETFROM:-0600
TZOFFSETTO:-0500
TZNAME:CDT
DTSTART:20260308T080000
END:DAYLIGHT
BEGIN:STANDARD
TZOFFSETFROM:-0500
TZOFFSETTO:-0600
TZNAME:CST
DTSTART:20261101T070000
END:STANDARD
END:VTIMEZONE
BEGIN:VEVENT
DTSTART;TZID=America/Chicago:20250224T073000
DTEND;TZID=America/Chicago:20250224T090000
DTSTAMP:20260425T191103
CREATED:20250114T140913Z
LAST-MODIFIED:20250114T140913Z
UID:17472-1740382200-1740387600@hillcrestrvresortfl.com
SUMMARY:Breakfast Strawberry Pancake
DESCRIPTION:
URL:https://hillcrestrvresortfl.com/event/breakfast-strawberry-pancake/
END:VEVENT
BEGIN:VEVENT
DTSTART;TZID=America/Chicago:20250224T080000
DTEND;TZID=America/Chicago:20250224T120000
DTSTAMP:20260425T191103
CREATED:20250115T192524Z
LAST-MODIFIED:20250115T192524Z
UID:17809-1740384000-1740398400@hillcrestrvresortfl.com
SUMMARY:Water Aerobics
DESCRIPTION:
URL:https://hillcrestrvresortfl.com/event/water-aerobics-184/
END:VEVENT
BEGIN:VEVENT
DTSTART;TZID=America/Chicago:20250224T080000
DTEND;TZID=America/Chicago:20250224T220000
DTSTAMP:20260425T191103
CREATED:20250114T170641Z
LAST-MODIFIED:20250114T170641Z
UID:17680-1740384000-1740434400@hillcrestrvresortfl.com
SUMMARY:Pickleball
DESCRIPTION:
URL:https://hillcrestrvresortfl.com/event/pickleball-214/
END:VEVENT
BEGIN:VEVENT
DTSTART;TZID=America/Chicago:20250224T090000
DTEND;TZID=America/Chicago:20250224T170000
DTSTAMP:20260425T191103
CREATED:20250115T191826Z
LAST-MODIFIED:20250115T191826Z
UID:17769-1740387600-1740416400@hillcrestrvresortfl.com
SUMMARY:Shuffleboard
DESCRIPTION:
URL:https://hillcrestrvresortfl.com/event/shuffleboard-183/
END:VEVENT
BEGIN:VEVENT
DTSTART;TZID=America/Chicago:20250224T093000
DTEND;TZID=America/Chicago:20250224T170000
DTSTAMP:20260425T191103
CREATED:20250114T175339Z
LAST-MODIFIED:20250114T175339Z
UID:17728-1740389400-1740416400@hillcrestrvresortfl.com
SUMMARY:Horseshoes
DESCRIPTION:
URL:https://hillcrestrvresortfl.com/event/horseshoes-192/
END:VEVENT
BEGIN:VEVENT
DTSTART;TZID=America/Chicago:20250224T100000
DTEND;TZID=America/Chicago:20250224T110000
DTSTAMP:20260425T191103
CREATED:20250114T142156Z
LAST-MODIFIED:20250114T142156Z
UID:17502-1740391200-1740394800@hillcrestrvresortfl.com
SUMMARY:Dancersize
DESCRIPTION:
URL:https://hillcrestrvresortfl.com/event/dancersize-14/
END:VEVENT
BEGIN:VEVENT
DTSTART;TZID=America/Chicago:20250224T100000
DTEND;TZID=America/Chicago:20250224T120000
DTSTAMP:20260425T191103
CREATED:20250115T201109Z
LAST-MODIFIED:20250115T201109Z
UID:17901-1740391200-1740398400@hillcrestrvresortfl.com
SUMMARY:Womens' Billiards
DESCRIPTION:
URL:https://hillcrestrvresortfl.com/event/womens-billiards-52/
END:VEVENT
BEGIN:VEVENT
DTSTART;TZID=America/Chicago:20250224T100000
DTEND;TZID=America/Chicago:20250224T170000
DTSTAMP:20260425T191103
CREATED:20250115T195200Z
LAST-MODIFIED:20250115T195200Z
UID:17865-1740391200-1740416400@hillcrestrvresortfl.com
SUMMARY:Pentanque
DESCRIPTION:
URL:https://hillcrestrvresortfl.com/event/pentanque-134/
END:VEVENT
BEGIN:VEVENT
DTSTART;TZID=America/Chicago:20250224T130000
DTEND;TZID=America/Chicago:20250224T170000
DTSTAMP:20260425T191103
CREATED:20250114T141144Z
LAST-MODIFIED:20250114T141144Z
UID:17480-1740402000-1740416400@hillcrestrvresortfl.com
SUMMARY:Quilting Sewing Knitting Crocheting
DESCRIPTION:
URL:https://hillcrestrvresortfl.com/event/quilting-sewing-knitting-crocheting-14/
END:VEVENT
BEGIN:VEVENT
DTSTART;TZID=America/Chicago:20250224T130000
DTEND;TZID=America/Chicago:20250224T170000
DTSTAMP:20260425T191103
CREATED:20250114T141518Z
LAST-MODIFIED:20250114T141518Z
UID:17488-1740402000-1740416400@hillcrestrvresortfl.com
SUMMARY:Watercolor
DESCRIPTION:
URL:https://hillcrestrvresortfl.com/event/watercolor-8/
END:VEVENT
BEGIN:VEVENT
DTSTART;TZID=America/Chicago:20250224T130000
DTEND;TZID=America/Chicago:20250224T180000
DTSTAMP:20260425T191103
CREATED:20250115T201346Z
LAST-MODIFIED:20250115T201346Z
UID:17913-1740402000-1740420000@hillcrestrvresortfl.com
SUMMARY:Cribbage
DESCRIPTION:
URL:https://hillcrestrvresortfl.com/event/cribbage-26/
END:VEVENT
BEGIN:VEVENT
DTSTART;TZID=America/Chicago:20250224T180000
DTEND;TZID=America/Chicago:20250224T210000
DTSTAMP:20260425T191103
CREATED:20250115T201548Z
LAST-MODIFIED:20250115T201548Z
UID:17921-1740420000-1740430800@hillcrestrvresortfl.com
SUMMARY:Game Night
DESCRIPTION:
URL:https://hillcrestrvresortfl.com/event/game-night-58/
END:VEVENT
BEGIN:VEVENT
DTSTART;TZID=America/Chicago:20250224T180000
DTEND;TZID=America/Chicago:20250224T210000
DTSTAMP:20260425T191103
CREATED:20250115T202113Z
LAST-MODIFIED:20250115T202113Z
UID:17937-1740420000-1740430800@hillcrestrvresortfl.com
SUMMARY:Mixed Billiards
DESCRIPTION:
URL:https://hillcrestrvresortfl.com/event/mixed-billiards-19/
END:VEVENT
BEGIN:VEVENT
DTSTART;TZID=America/Chicago:20250224T183000
DTEND;TZID=America/Chicago:20250224T213000
DTSTAMP:20260425T191103
CREATED:20250114T142019Z
LAST-MODIFIED:20250114T142019Z
UID:17496-1740421800-1740432600@hillcrestrvresortfl.com
SUMMARY:Bingo
DESCRIPTION:
URL:https://hillcrestrvresortfl.com/event/bingo-56/
END:VEVENT
END:VCALENDAR