BEGIN:VCALENDAR
VERSION:2.0
PRODID:-//Hillcrest RV Resort - ECPv6.15.20//NONSGML v1.0//EN
CALSCALE:GREGORIAN
METHOD:PUBLISH
X-WR-CALNAME:Hillcrest RV Resort
X-ORIGINAL-URL:https://hillcrestrvresortfl.com
X-WR-CALDESC:Events for Hillcrest RV Resort
REFRESH-INTERVAL;VALUE=DURATION:PT1H
X-Robots-Tag:noindex
X-PUBLISHED-TTL:PT1H
BEGIN:VTIMEZONE
TZID:America/Chicago
BEGIN:DAYLIGHT
TZOFFSETFROM:-0600
TZOFFSETTO:-0500
TZNAME:CDT
DTSTART:20240310T080000
END:DAYLIGHT
BEGIN:STANDARD
TZOFFSETFROM:-0500
TZOFFSETTO:-0600
TZNAME:CST
DTSTART:20241103T070000
END:STANDARD
BEGIN:DAYLIGHT
TZOFFSETFROM:-0600
TZOFFSETTO:-0500
TZNAME:CDT
DTSTART:20250309T080000
END:DAYLIGHT
BEGIN:STANDARD
TZOFFSETFROM:-0500
TZOFFSETTO:-0600
TZNAME:CST
DTSTART:20251102T070000
END:STANDARD
BEGIN:DAYLIGHT
TZOFFSETFROM:-0600
TZOFFSETTO:-0500
TZNAME:CDT
DTSTART:20260308T080000
END:DAYLIGHT
BEGIN:STANDARD
TZOFFSETFROM:-0500
TZOFFSETTO:-0600
TZNAME:CST
DTSTART:20261101T070000
END:STANDARD
END:VTIMEZONE
BEGIN:VEVENT
DTSTART;TZID=America/Chicago:20250222T080000
DTEND;TZID=America/Chicago:20250222T220000
DTSTAMP:20260425T203414
CREATED:20250114T170558Z
LAST-MODIFIED:20250114T170558Z
UID:17676-1740211200-1740261600@hillcrestrvresortfl.com
SUMMARY:Pickleball
DESCRIPTION:
URL:https://hillcrestrvresortfl.com/event/pickleball-212/
END:VEVENT
BEGIN:VEVENT
DTSTART;TZID=America/Chicago:20250222T090000
DTEND;TZID=America/Chicago:20250222T170000
DTSTAMP:20260425T203414
CREATED:20250114T175321Z
LAST-MODIFIED:20250114T175321Z
UID:17726-1740214800-1740243600@hillcrestrvresortfl.com
SUMMARY:Horseshoes
DESCRIPTION:
URL:https://hillcrestrvresortfl.com/event/horseshoes-191/
END:VEVENT
BEGIN:VEVENT
DTSTART;TZID=America/Chicago:20250222T100000
DTEND;TZID=America/Chicago:20250222T170000
DTSTAMP:20260425T203414
CREATED:20250115T195124Z
LAST-MODIFIED:20250115T195124Z
UID:17861-1740218400-1740243600@hillcrestrvresortfl.com
SUMMARY:Pentanque
DESCRIPTION:
URL:https://hillcrestrvresortfl.com/event/pentanque-132/
END:VEVENT
BEGIN:VEVENT
DTSTART;TZID=America/Chicago:20250222T103000
DTEND;TZID=America/Chicago:20250222T123000
DTSTAMP:20260425T203414
CREATED:20250114T165509Z
LAST-MODIFIED:20250114T165509Z
UID:17630-1740220200-1740227400@hillcrestrvresortfl.com
SUMMARY:Couple's Line Dancing
DESCRIPTION:
URL:https://hillcrestrvresortfl.com/event/couples-line-dancing-5/
END:VEVENT
BEGIN:VEVENT
DTSTART;TZID=America/Chicago:20250222T140000
DTEND;TZID=America/Chicago:20250222T220000
DTSTAMP:20260425T203414
CREATED:20250114T165616Z
LAST-MODIFIED:20250114T165616Z
UID:17632-1740232800-1740261600@hillcrestrvresortfl.com
SUMMARY:Sock Hop Dance Car Show BBQ
DESCRIPTION:DJ Bob & Lisa
URL:https://hillcrestrvresortfl.com/event/sock-hop-dance-car-show-bbq/
END:VEVENT
END:VCALENDAR