BEGIN:VCALENDAR
VERSION:2.0
PRODID:-//Hillcrest RV Resort - ECPv6.15.20//NONSGML v1.0//EN
CALSCALE:GREGORIAN
METHOD:PUBLISH
X-WR-CALNAME:Hillcrest RV Resort
X-ORIGINAL-URL:https://hillcrestrvresortfl.com
X-WR-CALDESC:Events for Hillcrest RV Resort
REFRESH-INTERVAL;VALUE=DURATION:PT1H
X-Robots-Tag:noindex
X-PUBLISHED-TTL:PT1H
BEGIN:VTIMEZONE
TZID:America/Chicago
BEGIN:DAYLIGHT
TZOFFSETFROM:-0600
TZOFFSETTO:-0500
TZNAME:CDT
DTSTART:20240310T080000
END:DAYLIGHT
BEGIN:STANDARD
TZOFFSETFROM:-0500
TZOFFSETTO:-0600
TZNAME:CST
DTSTART:20241103T070000
END:STANDARD
BEGIN:DAYLIGHT
TZOFFSETFROM:-0600
TZOFFSETTO:-0500
TZNAME:CDT
DTSTART:20250309T080000
END:DAYLIGHT
BEGIN:STANDARD
TZOFFSETFROM:-0500
TZOFFSETTO:-0600
TZNAME:CST
DTSTART:20251102T070000
END:STANDARD
BEGIN:DAYLIGHT
TZOFFSETFROM:-0600
TZOFFSETTO:-0500
TZNAME:CDT
DTSTART:20260308T080000
END:DAYLIGHT
BEGIN:STANDARD
TZOFFSETFROM:-0500
TZOFFSETTO:-0600
TZNAME:CST
DTSTART:20261101T070000
END:STANDARD
END:VTIMEZONE
BEGIN:VEVENT
DTSTART;TZID=America/Chicago:20250216T080000
DTEND;TZID=America/Chicago:20250216T220000
DTSTAMP:20260425T203413
CREATED:20250114T170241Z
LAST-MODIFIED:20250114T170241Z
UID:17664-1739692800-1739743200@hillcrestrvresortfl.com
SUMMARY:Pickleball
DESCRIPTION:
URL:https://hillcrestrvresortfl.com/event/pickleball-206/
END:VEVENT
BEGIN:VEVENT
DTSTART;TZID=America/Chicago:20250216T100000
DTEND;TZID=America/Chicago:20250216T113000
DTSTAMP:20260425T203413
CREATED:20250115T200622Z
LAST-MODIFIED:20250115T200622Z
UID:17879-1739700000-1739705400@hillcrestrvresortfl.com
SUMMARY:Church
DESCRIPTION:
URL:https://hillcrestrvresortfl.com/event/church-34/
END:VEVENT
BEGIN:VEVENT
DTSTART;TZID=America/Chicago:20250216T100000
DTEND;TZID=America/Chicago:20250216T170000
DTSTAMP:20260425T203413
CREATED:20250115T194932Z
LAST-MODIFIED:20250115T194932Z
UID:17849-1739700000-1739725200@hillcrestrvresortfl.com
SUMMARY:Pentanque
DESCRIPTION:
URL:https://hillcrestrvresortfl.com/event/pentanque-126/
END:VEVENT
BEGIN:VEVENT
DTSTART;TZID=America/Chicago:20250216T180000
DTEND;TZID=America/Chicago:20250216T190000
DTSTAMP:20260425T203413
CREATED:20250114T140128Z
LAST-MODIFIED:20250114T140128Z
UID:17452-1739728800-1739732400@hillcrestrvresortfl.com
SUMMARY:Ice cream Social
DESCRIPTION:
URL:https://hillcrestrvresortfl.com/event/ice-cream-social-20/
END:VEVENT
BEGIN:VEVENT
DTSTART;TZID=America/Chicago:20250216T190000
DTEND;TZID=America/Chicago:20250216T220000
DTSTAMP:20260425T203413
CREATED:20250114T140504Z
LAST-MODIFIED:20250114T140504Z
UID:17460-1739732400-1739743200@hillcrestrvresortfl.com
SUMMARY:Jesse Derringer
DESCRIPTION:
URL:https://hillcrestrvresortfl.com/event/jesse-derringer/
END:VEVENT
END:VCALENDAR