BEGIN:VCALENDAR
VERSION:2.0
PRODID:-//Hillcrest RV Resort - ECPv6.15.20//NONSGML v1.0//EN
CALSCALE:GREGORIAN
METHOD:PUBLISH
X-WR-CALNAME:Hillcrest RV Resort
X-ORIGINAL-URL:https://hillcrestrvresortfl.com
X-WR-CALDESC:Events for Hillcrest RV Resort
REFRESH-INTERVAL;VALUE=DURATION:PT1H
X-Robots-Tag:noindex
X-PUBLISHED-TTL:PT1H
BEGIN:VTIMEZONE
TZID:America/Chicago
BEGIN:DAYLIGHT
TZOFFSETFROM:-0600
TZOFFSETTO:-0500
TZNAME:CDT
DTSTART:20240310T080000
END:DAYLIGHT
BEGIN:STANDARD
TZOFFSETFROM:-0500
TZOFFSETTO:-0600
TZNAME:CST
DTSTART:20241103T070000
END:STANDARD
BEGIN:DAYLIGHT
TZOFFSETFROM:-0600
TZOFFSETTO:-0500
TZNAME:CDT
DTSTART:20250309T080000
END:DAYLIGHT
BEGIN:STANDARD
TZOFFSETFROM:-0500
TZOFFSETTO:-0600
TZNAME:CST
DTSTART:20251102T070000
END:STANDARD
BEGIN:DAYLIGHT
TZOFFSETFROM:-0600
TZOFFSETTO:-0500
TZNAME:CDT
DTSTART:20260308T080000
END:DAYLIGHT
BEGIN:STANDARD
TZOFFSETFROM:-0500
TZOFFSETTO:-0600
TZNAME:CST
DTSTART:20261101T070000
END:STANDARD
END:VTIMEZONE
BEGIN:VEVENT
DTSTART;TZID=America/Chicago:20250210T073000
DTEND;TZID=America/Chicago:20250210T090000
DTSTAMP:20260425T203437
CREATED:20250114T140810Z
LAST-MODIFIED:20250114T140810Z
UID:17468-1739172600-1739178000@hillcrestrvresortfl.com
SUMMARY:Breakfast
DESCRIPTION:
URL:https://hillcrestrvresortfl.com/event/breakfast-24/
END:VEVENT
BEGIN:VEVENT
DTSTART;TZID=America/Chicago:20250210T080000
DTEND;TZID=America/Chicago:20250210T120000
DTSTAMP:20260425T203437
CREATED:20250115T192157Z
LAST-MODIFIED:20250115T192157Z
UID:17789-1739174400-1739188800@hillcrestrvresortfl.com
SUMMARY:Water Aerobics
DESCRIPTION:
URL:https://hillcrestrvresortfl.com/event/water-aerobics-174/
END:VEVENT
BEGIN:VEVENT
DTSTART;TZID=America/Chicago:20250210T080000
DTEND;TZID=America/Chicago:20250210T220000
DTSTAMP:20260425T203437
CREATED:20250114T170038Z
LAST-MODIFIED:20250114T170038Z
UID:17652-1739174400-1739224800@hillcrestrvresortfl.com
SUMMARY:Pickleball
DESCRIPTION:
URL:https://hillcrestrvresortfl.com/event/pickleball-200/
END:VEVENT
BEGIN:VEVENT
DTSTART;TZID=America/Chicago:20250210T090000
DTEND;TZID=America/Chicago:20250210T170000
DTSTAMP:20260425T203437
CREATED:20250114T175004Z
LAST-MODIFIED:20250114T175004Z
UID:17704-1739178000-1739206800@hillcrestrvresortfl.com
SUMMARY:Horseshoes
DESCRIPTION:
URL:https://hillcrestrvresortfl.com/event/horseshoes-180/
END:VEVENT
BEGIN:VEVENT
DTSTART;TZID=America/Chicago:20250210T090000
DTEND;TZID=America/Chicago:20250210T170000
DTSTAMP:20260425T203437
CREATED:20250115T191537Z
LAST-MODIFIED:20250115T191537Z
UID:17749-1739178000-1739206800@hillcrestrvresortfl.com
SUMMARY:Shuffleboard
DESCRIPTION:
URL:https://hillcrestrvresortfl.com/event/shuffleboard-173/
END:VEVENT
BEGIN:VEVENT
DTSTART;TZID=America/Chicago:20250210T100000
DTEND;TZID=America/Chicago:20250210T110000
DTSTAMP:20260425T203437
CREATED:20250114T142104Z
LAST-MODIFIED:20250114T142104Z
UID:17498-1739181600-1739185200@hillcrestrvresortfl.com
SUMMARY:Dancersize
DESCRIPTION:
URL:https://hillcrestrvresortfl.com/event/dancersize-12/
END:VEVENT
BEGIN:VEVENT
DTSTART;TZID=America/Chicago:20250210T100000
DTEND;TZID=America/Chicago:20250210T120000
DTSTAMP:20260425T203437
CREATED:20250115T200853Z
LAST-MODIFIED:20250115T200853Z
UID:17889-1739181600-1739188800@hillcrestrvresortfl.com
SUMMARY:Womens' Billiards
DESCRIPTION:
URL:https://hillcrestrvresortfl.com/event/womens-billiards-46/
END:VEVENT
BEGIN:VEVENT
DTSTART;TZID=America/Chicago:20250210T100000
DTEND;TZID=America/Chicago:20250210T170000
DTSTAMP:20260425T203437
CREATED:20250115T193040Z
LAST-MODIFIED:20250115T193040Z
UID:17837-1739181600-1739206800@hillcrestrvresortfl.com
SUMMARY:Pentanque
DESCRIPTION:
URL:https://hillcrestrvresortfl.com/event/pentanque-120/
END:VEVENT
BEGIN:VEVENT
DTSTART;TZID=America/Chicago:20250210T130000
DTEND;TZID=America/Chicago:20250210T170000
DTSTAMP:20260425T203437
CREATED:20250114T141051Z
LAST-MODIFIED:20250114T141051Z
UID:17476-1739192400-1739206800@hillcrestrvresortfl.com
SUMMARY:Quilting Sewing Knitting Crocheting
DESCRIPTION:
URL:https://hillcrestrvresortfl.com/event/quilting-sewing-knitting-crocheting-12/
END:VEVENT
BEGIN:VEVENT
DTSTART;TZID=America/Chicago:20250210T130000
DTEND;TZID=America/Chicago:20250210T170000
DTSTAMP:20260425T203437
CREATED:20250114T141356Z
LAST-MODIFIED:20250114T141356Z
UID:17484-1739192400-1739206800@hillcrestrvresortfl.com
SUMMARY:Watercolor
DESCRIPTION:
URL:https://hillcrestrvresortfl.com/event/watercolor-6/
END:VEVENT
BEGIN:VEVENT
DTSTART;TZID=America/Chicago:20250210T130000
DTEND;TZID=America/Chicago:20250210T180000
DTSTAMP:20260425T203437
CREATED:20250115T201300Z
LAST-MODIFIED:20250115T201300Z
UID:17909-1739192400-1739210400@hillcrestrvresortfl.com
SUMMARY:Cribbage
DESCRIPTION:
URL:https://hillcrestrvresortfl.com/event/cribbage-24/
END:VEVENT
BEGIN:VEVENT
DTSTART;TZID=America/Chicago:20250210T180000
DTEND;TZID=America/Chicago:20250210T210000
DTSTAMP:20260425T203437
CREATED:20250115T201450Z
LAST-MODIFIED:20250115T201450Z
UID:17917-1739210400-1739221200@hillcrestrvresortfl.com
SUMMARY:Game Night
DESCRIPTION:
URL:https://hillcrestrvresortfl.com/event/game-night-56/
END:VEVENT
BEGIN:VEVENT
DTSTART;TZID=America/Chicago:20250210T180000
DTEND;TZID=America/Chicago:20250210T210000
DTSTAMP:20260425T203437
CREATED:20250115T202013Z
LAST-MODIFIED:20250115T202013Z
UID:17933-1739210400-1739221200@hillcrestrvresortfl.com
SUMMARY:Mixed Billiards
DESCRIPTION:
URL:https://hillcrestrvresortfl.com/event/mixed-billiards-17/
END:VEVENT
BEGIN:VEVENT
DTSTART;TZID=America/Chicago:20250210T183000
DTEND;TZID=America/Chicago:20250210T213000
DTSTAMP:20260425T203437
CREATED:20250114T141649Z
LAST-MODIFIED:20250114T141649Z
UID:17492-1739212200-1739223000@hillcrestrvresortfl.com
SUMMARY:Bingo
DESCRIPTION:
URL:https://hillcrestrvresortfl.com/event/bingo-54/
END:VEVENT
END:VCALENDAR