BEGIN:VCALENDAR
VERSION:2.0
PRODID:-//Hillcrest RV Resort - ECPv6.15.20//NONSGML v1.0//EN
CALSCALE:GREGORIAN
METHOD:PUBLISH
X-WR-CALNAME:Hillcrest RV Resort
X-ORIGINAL-URL:https://hillcrestrvresortfl.com
X-WR-CALDESC:Events for Hillcrest RV Resort
REFRESH-INTERVAL;VALUE=DURATION:PT1H
X-Robots-Tag:noindex
X-PUBLISHED-TTL:PT1H
BEGIN:VTIMEZONE
TZID:America/Chicago
BEGIN:DAYLIGHT
TZOFFSETFROM:-0600
TZOFFSETTO:-0500
TZNAME:CDT
DTSTART:20240310T080000
END:DAYLIGHT
BEGIN:STANDARD
TZOFFSETFROM:-0500
TZOFFSETTO:-0600
TZNAME:CST
DTSTART:20241103T070000
END:STANDARD
BEGIN:DAYLIGHT
TZOFFSETFROM:-0600
TZOFFSETTO:-0500
TZNAME:CDT
DTSTART:20250309T080000
END:DAYLIGHT
BEGIN:STANDARD
TZOFFSETFROM:-0500
TZOFFSETTO:-0600
TZNAME:CST
DTSTART:20251102T070000
END:STANDARD
BEGIN:DAYLIGHT
TZOFFSETFROM:-0600
TZOFFSETTO:-0500
TZNAME:CDT
DTSTART:20260308T080000
END:DAYLIGHT
BEGIN:STANDARD
TZOFFSETFROM:-0500
TZOFFSETTO:-0600
TZNAME:CST
DTSTART:20261101T070000
END:STANDARD
END:VTIMEZONE
BEGIN:VEVENT
DTSTART;TZID=America/Chicago:20250203T073000
DTEND;TZID=America/Chicago:20250203T090000
DTSTAMP:20260425T203437
CREATED:20250114T140711Z
LAST-MODIFIED:20250114T140711Z
UID:17466-1738567800-1738573200@hillcrestrvresortfl.com
SUMMARY:Breakfast
DESCRIPTION:
URL:https://hillcrestrvresortfl.com/event/breakfast-23/
END:VEVENT
BEGIN:VEVENT
DTSTART;TZID=America/Chicago:20250203T080000
DTEND;TZID=America/Chicago:20250203T120000
DTSTAMP:20260425T203437
CREATED:20250115T192017Z
LAST-MODIFIED:20250115T192017Z
UID:17779-1738569600-1738584000@hillcrestrvresortfl.com
SUMMARY:Water Aerobics
DESCRIPTION:
URL:https://hillcrestrvresortfl.com/event/water-aerobics-169/
END:VEVENT
BEGIN:VEVENT
DTSTART;TZID=America/Chicago:20250203T080000
DTEND;TZID=America/Chicago:20250203T220000
DTSTAMP:20260425T203437
CREATED:20250114T165813Z
LAST-MODIFIED:20250114T165813Z
UID:17638-1738569600-1738620000@hillcrestrvresortfl.com
SUMMARY:Pickleball
DESCRIPTION:
URL:https://hillcrestrvresortfl.com/event/pickleball-193/
END:VEVENT
BEGIN:VEVENT
DTSTART;TZID=America/Chicago:20250203T090000
DTEND;TZID=America/Chicago:20250203T170000
DTSTAMP:20260425T203437
CREATED:20250114T174804Z
LAST-MODIFIED:20250114T174804Z
UID:17692-1738573200-1738602000@hillcrestrvresortfl.com
SUMMARY:Horseshoes
DESCRIPTION:
URL:https://hillcrestrvresortfl.com/event/horseshoes-174/
END:VEVENT
BEGIN:VEVENT
DTSTART;TZID=America/Chicago:20250203T090000
DTEND;TZID=America/Chicago:20250203T170000
DTSTAMP:20260425T203437
CREATED:20250115T191405Z
LAST-MODIFIED:20250115T191405Z
UID:17739-1738573200-1738602000@hillcrestrvresortfl.com
SUMMARY:Shuffleboard
DESCRIPTION:
URL:https://hillcrestrvresortfl.com/event/shuffleboard-168/
END:VEVENT
BEGIN:VEVENT
DTSTART;TZID=America/Chicago:20250203T100000
DTEND;TZID=America/Chicago:20250203T110000
DTSTAMP:20260425T203437
CREATED:20250114T140622Z
LAST-MODIFIED:20250114T140644Z
UID:17464-1738576800-1738580400@hillcrestrvresortfl.com
SUMMARY:Association Meeting
DESCRIPTION:
URL:https://hillcrestrvresortfl.com/event/association-meeting-9/
END:VEVENT
BEGIN:VEVENT
DTSTART;TZID=America/Chicago:20250203T100000
DTEND;TZID=America/Chicago:20250203T120000
DTSTAMP:20260425T203437
CREATED:20250115T200741Z
LAST-MODIFIED:20250115T200741Z
UID:17883-1738576800-1738584000@hillcrestrvresortfl.com
SUMMARY:Womens' Billiards
DESCRIPTION:
URL:https://hillcrestrvresortfl.com/event/womens-billiards-43/
END:VEVENT
BEGIN:VEVENT
DTSTART;TZID=America/Chicago:20250203T100000
DTEND;TZID=America/Chicago:20250203T170000
DTSTAMP:20260425T203437
CREATED:20250115T192834Z
LAST-MODIFIED:20250115T192834Z
UID:17823-1738576800-1738602000@hillcrestrvresortfl.com
SUMMARY:Pentanque
DESCRIPTION:
URL:https://hillcrestrvresortfl.com/event/pentanque-113/
END:VEVENT
BEGIN:VEVENT
DTSTART;TZID=America/Chicago:20250203T130000
DTEND;TZID=America/Chicago:20250203T170000
DTSTAMP:20260425T203437
CREATED:20250114T141021Z
LAST-MODIFIED:20250114T141021Z
UID:17474-1738587600-1738602000@hillcrestrvresortfl.com
SUMMARY:Quilting Sewing Knitting Crocheting
DESCRIPTION:
URL:https://hillcrestrvresortfl.com/event/quilting-sewing-knitting-crocheting-11/
END:VEVENT
BEGIN:VEVENT
DTSTART;TZID=America/Chicago:20250203T130000
DTEND;TZID=America/Chicago:20250203T170000
DTSTAMP:20260425T203437
CREATED:20250114T141252Z
LAST-MODIFIED:20250114T141252Z
UID:17482-1738587600-1738602000@hillcrestrvresortfl.com
SUMMARY:Watercolor
DESCRIPTION:
URL:https://hillcrestrvresortfl.com/event/watercolor-5/
END:VEVENT
BEGIN:VEVENT
DTSTART;TZID=America/Chicago:20250203T130000
DTEND;TZID=America/Chicago:20250203T180000
DTSTAMP:20260425T203437
CREATED:20250115T201233Z
LAST-MODIFIED:20250115T201233Z
UID:17907-1738587600-1738605600@hillcrestrvresortfl.com
SUMMARY:Cribbage
DESCRIPTION:
URL:https://hillcrestrvresortfl.com/event/cribbage-23/
END:VEVENT
BEGIN:VEVENT
DTSTART;TZID=America/Chicago:20250203T180000
DTEND;TZID=America/Chicago:20250203T210000
DTSTAMP:20260425T203437
CREATED:20250115T201424Z
LAST-MODIFIED:20250115T201424Z
UID:17915-1738605600-1738616400@hillcrestrvresortfl.com
SUMMARY:Game Night
DESCRIPTION:
URL:https://hillcrestrvresortfl.com/event/game-night-55/
END:VEVENT
BEGIN:VEVENT
DTSTART;TZID=America/Chicago:20250203T180000
DTEND;TZID=America/Chicago:20250203T210000
DTSTAMP:20260425T203437
CREATED:20250115T201825Z
LAST-MODIFIED:20250115T201825Z
UID:17931-1738605600-1738616400@hillcrestrvresortfl.com
SUMMARY:Mixed Billiards
DESCRIPTION:
URL:https://hillcrestrvresortfl.com/event/mixed-billiards-16/
END:VEVENT
BEGIN:VEVENT
DTSTART;TZID=America/Chicago:20250203T183000
DTEND;TZID=America/Chicago:20250203T213000
DTSTAMP:20260425T203437
CREATED:20250114T141613Z
LAST-MODIFIED:20250114T141613Z
UID:17490-1738607400-1738618200@hillcrestrvresortfl.com
SUMMARY:Bingo
DESCRIPTION:
URL:https://hillcrestrvresortfl.com/event/bingo-53/
END:VEVENT
END:VCALENDAR