BEGIN:VCALENDAR
VERSION:2.0
PRODID:-//Hillcrest RV Resort - ECPv6.15.20//NONSGML v1.0//EN
CALSCALE:GREGORIAN
METHOD:PUBLISH
X-ORIGINAL-URL:https://hillcrestrvresortfl.com
X-WR-CALDESC:Events for Hillcrest RV Resort
REFRESH-INTERVAL;VALUE=DURATION:PT1H
X-Robots-Tag:noindex
X-PUBLISHED-TTL:PT1H
BEGIN:VTIMEZONE
TZID:America/Chicago
BEGIN:DAYLIGHT
TZOFFSETFROM:-0600
TZOFFSETTO:-0500
TZNAME:CDT
DTSTART:20240310T080000
END:DAYLIGHT
BEGIN:STANDARD
TZOFFSETFROM:-0500
TZOFFSETTO:-0600
TZNAME:CST
DTSTART:20241103T070000
END:STANDARD
BEGIN:DAYLIGHT
TZOFFSETFROM:-0600
TZOFFSETTO:-0500
TZNAME:CDT
DTSTART:20250309T080000
END:DAYLIGHT
BEGIN:STANDARD
TZOFFSETFROM:-0500
TZOFFSETTO:-0600
TZNAME:CST
DTSTART:20251102T070000
END:STANDARD
BEGIN:DAYLIGHT
TZOFFSETFROM:-0600
TZOFFSETTO:-0500
TZNAME:CDT
DTSTART:20260308T080000
END:DAYLIGHT
BEGIN:STANDARD
TZOFFSETFROM:-0500
TZOFFSETTO:-0600
TZNAME:CST
DTSTART:20261101T070000
END:STANDARD
END:VTIMEZONE
BEGIN:VEVENT
DTSTART;TZID=America/Chicago:20250201T080000
DTEND;TZID=America/Chicago:20250201T220000
DTSTAMP:20260425T203451
CREATED:20250114T165722Z
LAST-MODIFIED:20250114T165722Z
UID:17634-1738396800-1738447200@hillcrestrvresortfl.com
SUMMARY:Pickleball
DESCRIPTION:
URL:https://hillcrestrvresortfl.com/event/pickleball-191/
END:VEVENT
BEGIN:VEVENT
DTSTART;TZID=America/Chicago:20250201T090000
DTEND;TZID=America/Chicago:20250201T170000
DTSTAMP:20260425T203451
CREATED:20250114T170856Z
LAST-MODIFIED:20250114T170856Z
UID:17690-1738400400-1738429200@hillcrestrvresortfl.com
SUMMARY:Horseshoes
DESCRIPTION:
URL:https://hillcrestrvresortfl.com/event/horseshoes-172/
END:VEVENT
BEGIN:VEVENT
DTSTART;TZID=America/Chicago:20250201T100000
DTEND;TZID=America/Chicago:20250201T170000
DTSTAMP:20260425T203451
CREATED:20250115T192740Z
LAST-MODIFIED:20250115T192740Z
UID:17819-1738404000-1738429200@hillcrestrvresortfl.com
SUMMARY:Pentanque
DESCRIPTION:
URL:https://hillcrestrvresortfl.com/event/pentanque-111/
END:VEVENT
BEGIN:VEVENT
DTSTART;TZID=America/Chicago:20250201T193000
DTEND;TZID=America/Chicago:20250201T220000
DTSTAMP:20260425T203451
CREATED:20250114T135842Z
LAST-MODIFIED:20250114T135842Z
UID:17448-1738438200-1738447200@hillcrestrvresortfl.com
SUMMARY:70's 80's 90's Dance
DESCRIPTION:
URL:https://hillcrestrvresortfl.com/event/70s-80s-90s-dance/
END:VEVENT
END:VCALENDAR