BEGIN:VCALENDAR
VERSION:2.0
PRODID:-//Hillcrest RV Resort - ECPv6.15.20//NONSGML v1.0//EN
CALSCALE:GREGORIAN
METHOD:PUBLISH
X-ORIGINAL-URL:https://hillcrestrvresortfl.com
X-WR-CALDESC:Events for Hillcrest RV Resort
REFRESH-INTERVAL;VALUE=DURATION:PT1H
X-Robots-Tag:noindex
X-PUBLISHED-TTL:PT1H
BEGIN:VTIMEZONE
TZID:America/Chicago
BEGIN:DAYLIGHT
TZOFFSETFROM:-0600
TZOFFSETTO:-0500
TZNAME:CDT
DTSTART:20240310T080000
END:DAYLIGHT
BEGIN:STANDARD
TZOFFSETFROM:-0500
TZOFFSETTO:-0600
TZNAME:CST
DTSTART:20241103T070000
END:STANDARD
BEGIN:DAYLIGHT
TZOFFSETFROM:-0600
TZOFFSETTO:-0500
TZNAME:CDT
DTSTART:20250309T080000
END:DAYLIGHT
BEGIN:STANDARD
TZOFFSETFROM:-0500
TZOFFSETTO:-0600
TZNAME:CST
DTSTART:20251102T070000
END:STANDARD
BEGIN:DAYLIGHT
TZOFFSETFROM:-0600
TZOFFSETTO:-0500
TZNAME:CDT
DTSTART:20260308T080000
END:DAYLIGHT
BEGIN:STANDARD
TZOFFSETFROM:-0500
TZOFFSETTO:-0600
TZNAME:CST
DTSTART:20261101T070000
END:STANDARD
END:VTIMEZONE
BEGIN:VEVENT
DTSTART;TZID=America/Chicago:20250131T080000
DTEND;TZID=America/Chicago:20250131T170000
DTSTAMP:20260425T203453
CREATED:20250113T195937Z
LAST-MODIFIED:20250113T195937Z
UID:17164-1738310400-1738342800@hillcrestrvresortfl.com
SUMMARY:shuffleboard
DESCRIPTION:
URL:https://hillcrestrvresortfl.com/event/shuffleboard-166/
END:VEVENT
BEGIN:VEVENT
DTSTART;TZID=America/Chicago:20250131T080000
DTEND;TZID=America/Chicago:20250131T170000
DTSTAMP:20260425T203453
CREATED:20250113T204909Z
LAST-MODIFIED:20250113T204909Z
UID:17210-1738310400-1738342800@hillcrestrvresortfl.com
SUMMARY:Water Aerobics
DESCRIPTION:
URL:https://hillcrestrvresortfl.com/event/water-aerobics-168/
END:VEVENT
BEGIN:VEVENT
DTSTART;TZID=America/Chicago:20250131T080000
DTEND;TZID=America/Chicago:20250131T220000
DTSTAMP:20260425T203453
CREATED:20250113T184400Z
LAST-MODIFIED:20250113T184400Z
UID:17054-1738310400-1738360800@hillcrestrvresortfl.com
SUMMARY:Pickleball
DESCRIPTION:
URL:https://hillcrestrvresortfl.com/event/pickleball-190/
END:VEVENT
BEGIN:VEVENT
DTSTART;TZID=America/Chicago:20250131T090000
DTEND;TZID=America/Chicago:20250131T103000
DTSTAMP:20260425T203453
CREATED:20250113T181733Z
LAST-MODIFIED:20250113T181733Z
UID:16986-1738314000-1738319400@hillcrestrvresortfl.com
SUMMARY:Bone Builder Exercises
DESCRIPTION:
URL:https://hillcrestrvresortfl.com/event/bone-builder-exercises-11/
END:VEVENT
BEGIN:VEVENT
DTSTART;TZID=America/Chicago:20250131T090000
DTEND;TZID=America/Chicago:20250131T210000
DTSTAMP:20260425T203453
CREATED:20250113T184446Z
LAST-MODIFIED:20250113T184446Z
UID:17056-1738314000-1738357200@hillcrestrvresortfl.com
SUMMARY:Horseshoes
DESCRIPTION:
URL:https://hillcrestrvresortfl.com/event/horseshoes-140/
END:VEVENT
BEGIN:VEVENT
DTSTART;TZID=America/Chicago:20250131T100000
DTEND;TZID=America/Chicago:20250131T130000
DTSTAMP:20260425T203453
CREATED:20250114T130029Z
LAST-MODIFIED:20250114T130029Z
UID:17302-1738317600-1738328400@hillcrestrvresortfl.com
SUMMARY:Women's Billiards
DESCRIPTION:
URL:https://hillcrestrvresortfl.com/event/womens-billiards-42/
END:VEVENT
BEGIN:VEVENT
DTSTART;TZID=America/Chicago:20250131T100000
DTEND;TZID=America/Chicago:20250131T170000
DTSTAMP:20260425T203453
CREATED:20250114T124548Z
LAST-MODIFIED:20250114T124548Z
UID:17273-1738317600-1738342800@hillcrestrvresortfl.com
SUMMARY:Pentanque
DESCRIPTION:
URL:https://hillcrestrvresortfl.com/event/pentanque-110/
END:VEVENT
BEGIN:VEVENT
DTSTART;TZID=America/Chicago:20250131T110000
DTEND;TZID=America/Chicago:20250131T123000
DTSTAMP:20260425T203453
CREATED:20250113T181813Z
LAST-MODIFIED:20250113T181813Z
UID:16988-1738321200-1738326600@hillcrestrvresortfl.com
SUMMARY:Rock Painting
DESCRIPTION:
URL:https://hillcrestrvresortfl.com/event/rock-painting-25/
END:VEVENT
BEGIN:VEVENT
DTSTART;TZID=America/Chicago:20250131T130000
DTEND;TZID=America/Chicago:20250131T150000
DTSTAMP:20260425T203453
CREATED:20250114T133303Z
LAST-MODIFIED:20250114T133303Z
UID:17396-1738328400-1738335600@hillcrestrvresortfl.com
SUMMARY:Men's Billiards
DESCRIPTION:
URL:https://hillcrestrvresortfl.com/event/mens-billiards-69/
END:VEVENT
BEGIN:VEVENT
DTSTART;TZID=America/Chicago:20250131T130000
DTEND;TZID=America/Chicago:20250131T170000
DTSTAMP:20260425T203453
CREATED:20250114T133457Z
LAST-MODIFIED:20250114T133457Z
UID:17406-1738328400-1738342800@hillcrestrvresortfl.com
SUMMARY:Bowling
DESCRIPTION:
URL:https://hillcrestrvresortfl.com/event/bowling-32/
END:VEVENT
BEGIN:VEVENT
DTSTART;TZID=America/Chicago:20250131T150000
DTEND;TZID=America/Chicago:20250131T170000
DTSTAMP:20260425T203453
CREATED:20250113T181851Z
LAST-MODIFIED:20250113T181851Z
UID:16990-1738335600-1738342800@hillcrestrvresortfl.com
SUMMARY:Card Bingo
DESCRIPTION:
URL:https://hillcrestrvresortfl.com/event/card-bingo-4/
END:VEVENT
BEGIN:VEVENT
DTSTART;TZID=America/Chicago:20250131T183000
DTEND;TZID=America/Chicago:20250131T213000
DTSTAMP:20260425T203453
CREATED:20250113T181956Z
LAST-MODIFIED:20250113T181956Z
UID:16992-1738348200-1738359000@hillcrestrvresortfl.com
SUMMARY:Friday Night Jam
DESCRIPTION:
URL:https://hillcrestrvresortfl.com/event/friday-night-jam-6/
END:VEVENT
END:VCALENDAR