BEGIN:VCALENDAR
VERSION:2.0
PRODID:-//Hillcrest RV Resort - ECPv6.15.20//NONSGML v1.0//EN
CALSCALE:GREGORIAN
METHOD:PUBLISH
X-ORIGINAL-URL:https://hillcrestrvresortfl.com
X-WR-CALDESC:Events for Hillcrest RV Resort
REFRESH-INTERVAL;VALUE=DURATION:PT1H
X-Robots-Tag:noindex
X-PUBLISHED-TTL:PT1H
BEGIN:VTIMEZONE
TZID:America/Chicago
BEGIN:DAYLIGHT
TZOFFSETFROM:-0600
TZOFFSETTO:-0500
TZNAME:CDT
DTSTART:20240310T080000
END:DAYLIGHT
BEGIN:STANDARD
TZOFFSETFROM:-0500
TZOFFSETTO:-0600
TZNAME:CST
DTSTART:20241103T070000
END:STANDARD
BEGIN:DAYLIGHT
TZOFFSETFROM:-0600
TZOFFSETTO:-0500
TZNAME:CDT
DTSTART:20250309T080000
END:DAYLIGHT
BEGIN:STANDARD
TZOFFSETFROM:-0500
TZOFFSETTO:-0600
TZNAME:CST
DTSTART:20251102T070000
END:STANDARD
BEGIN:DAYLIGHT
TZOFFSETFROM:-0600
TZOFFSETTO:-0500
TZNAME:CDT
DTSTART:20260308T080000
END:DAYLIGHT
BEGIN:STANDARD
TZOFFSETFROM:-0500
TZOFFSETTO:-0600
TZNAME:CST
DTSTART:20261101T070000
END:STANDARD
END:VTIMEZONE
BEGIN:VEVENT
DTSTART;TZID=America/Chicago:20250126T080000
DTEND;TZID=America/Chicago:20250126T170000
DTSTAMP:20260425T220307
CREATED:20250114T124426Z
LAST-MODIFIED:20250114T124426Z
UID:17263-1737878400-1737910800@hillcrestrvresortfl.com
SUMMARY:Pentanque
DESCRIPTION:
URL:https://hillcrestrvresortfl.com/event/pentanque-105/
END:VEVENT
BEGIN:VEVENT
DTSTART;TZID=America/Chicago:20250126T080000
DTEND;TZID=America/Chicago:20250126T220000
DTSTAMP:20260425T220307
CREATED:20250113T184206Z
LAST-MODIFIED:20250113T184206Z
UID:17044-1737878400-1737928800@hillcrestrvresortfl.com
SUMMARY:Pickleball
DESCRIPTION:
URL:https://hillcrestrvresortfl.com/event/pickleball-185/
END:VEVENT
BEGIN:VEVENT
DTSTART;TZID=America/Chicago:20250126T090000
DTEND;TZID=America/Chicago:20250126T210000
DTSTAMP:20260425T220307
CREATED:20250113T184707Z
LAST-MODIFIED:20250113T184707Z
UID:17066-1737882000-1737925200@hillcrestrvresortfl.com
SUMMARY:Horseshoes
DESCRIPTION:
URL:https://hillcrestrvresortfl.com/event/horseshoes-145/
END:VEVENT
BEGIN:VEVENT
DTSTART;TZID=America/Chicago:20250126T100000
DTEND;TZID=America/Chicago:20250126T120000
DTSTAMP:20260425T220307
CREATED:20250114T133642Z
LAST-MODIFIED:20250114T133642Z
UID:17414-1737885600-1737892800@hillcrestrvresortfl.com
SUMMARY:Church
DESCRIPTION:
URL:https://hillcrestrvresortfl.com/event/church-31/
END:VEVENT
BEGIN:VEVENT
DTSTART;TZID=America/Chicago:20250126T180000
DTEND;TZID=America/Chicago:20250126T190000
DTSTAMP:20260425T220307
CREATED:20250113T175429Z
LAST-MODIFIED:20250113T175429Z
UID:16946-1737914400-1737918000@hillcrestrvresortfl.com
SUMMARY:Ice Cream Social
DESCRIPTION:
URL:https://hillcrestrvresortfl.com/event/ice-cream-social-18/
END:VEVENT
BEGIN:VEVENT
DTSTART;TZID=America/Chicago:20250126T190000
DTEND;TZID=America/Chicago:20250126T213000
DTSTAMP:20260425T220307
CREATED:20250113T175501Z
LAST-MODIFIED:20250113T175501Z
UID:16948-1737918000-1737927000@hillcrestrvresortfl.com
SUMMARY:DJ Tammy Groulx
DESCRIPTION:
URL:https://hillcrestrvresortfl.com/event/dj-tammy-groulx/
END:VEVENT
END:VCALENDAR