BEGIN:VCALENDAR
VERSION:2.0
PRODID:-//Hillcrest RV Resort - ECPv6.15.20//NONSGML v1.0//EN
CALSCALE:GREGORIAN
METHOD:PUBLISH
X-WR-CALNAME:Hillcrest RV Resort
X-ORIGINAL-URL:https://hillcrestrvresortfl.com
X-WR-CALDESC:Events for Hillcrest RV Resort
REFRESH-INTERVAL;VALUE=DURATION:PT1H
X-Robots-Tag:noindex
X-PUBLISHED-TTL:PT1H
BEGIN:VTIMEZONE
TZID:America/Chicago
BEGIN:DAYLIGHT
TZOFFSETFROM:-0600
TZOFFSETTO:-0500
TZNAME:CDT
DTSTART:20240310T080000
END:DAYLIGHT
BEGIN:STANDARD
TZOFFSETFROM:-0500
TZOFFSETTO:-0600
TZNAME:CST
DTSTART:20241103T070000
END:STANDARD
BEGIN:DAYLIGHT
TZOFFSETFROM:-0600
TZOFFSETTO:-0500
TZNAME:CDT
DTSTART:20250309T080000
END:DAYLIGHT
BEGIN:STANDARD
TZOFFSETFROM:-0500
TZOFFSETTO:-0600
TZNAME:CST
DTSTART:20251102T070000
END:STANDARD
BEGIN:DAYLIGHT
TZOFFSETFROM:-0600
TZOFFSETTO:-0500
TZNAME:CDT
DTSTART:20260308T080000
END:DAYLIGHT
BEGIN:STANDARD
TZOFFSETFROM:-0500
TZOFFSETTO:-0600
TZNAME:CST
DTSTART:20261101T070000
END:STANDARD
END:VTIMEZONE
BEGIN:VEVENT
DTSTART;TZID=America/Chicago:20250123T080000
DTEND;TZID=America/Chicago:20250123T170000
DTSTAMP:20260425T220939
CREATED:20250113T195744Z
LAST-MODIFIED:20250113T195744Z
UID:17152-1737619200-1737651600@hillcrestrvresortfl.com
SUMMARY:shuffleboard
DESCRIPTION:
URL:https://hillcrestrvresortfl.com/event/shuffleboard-160/
END:VEVENT
BEGIN:VEVENT
DTSTART;TZID=America/Chicago:20250123T080000
DTEND;TZID=America/Chicago:20250123T170000
DTSTAMP:20260425T220939
CREATED:20250113T204742Z
LAST-MODIFIED:20250113T204742Z
UID:17198-1737619200-1737651600@hillcrestrvresortfl.com
SUMMARY:Water Aerobics
DESCRIPTION:
URL:https://hillcrestrvresortfl.com/event/water-aerobics-162/
END:VEVENT
BEGIN:VEVENT
DTSTART;TZID=America/Chicago:20250123T080000
DTEND;TZID=America/Chicago:20250123T170000
DTSTAMP:20260425T220939
CREATED:20250114T124335Z
LAST-MODIFIED:20250114T124335Z
UID:17257-1737619200-1737651600@hillcrestrvresortfl.com
SUMMARY:Pentanque
DESCRIPTION:
URL:https://hillcrestrvresortfl.com/event/pentanque-102/
END:VEVENT
BEGIN:VEVENT
DTSTART;TZID=America/Chicago:20250123T080000
DTEND;TZID=America/Chicago:20250123T220000
DTSTAMP:20260425T220939
CREATED:20250113T184034Z
LAST-MODIFIED:20250113T184034Z
UID:17038-1737619200-1737669600@hillcrestrvresortfl.com
SUMMARY:Pickleball
DESCRIPTION:
URL:https://hillcrestrvresortfl.com/event/pickleball-182/
END:VEVENT
BEGIN:VEVENT
DTSTART;TZID=America/Chicago:20250123T090000
DTEND;TZID=America/Chicago:20250123T103000
DTSTAMP:20260425T220939
CREATED:20250114T132150Z
LAST-MODIFIED:20250114T132150Z
UID:17348-1737622800-1737628200@hillcrestrvresortfl.com
SUMMARY:Choir Practice
DESCRIPTION:
URL:https://hillcrestrvresortfl.com/event/choir-practice-12/
END:VEVENT
BEGIN:VEVENT
DTSTART;TZID=America/Chicago:20250123T090000
DTEND;TZID=America/Chicago:20250123T210000
DTSTAMP:20260425T220939
CREATED:20250113T184831Z
LAST-MODIFIED:20250113T184831Z
UID:17072-1737622800-1737666000@hillcrestrvresortfl.com
SUMMARY:Horseshoes
DESCRIPTION:
URL:https://hillcrestrvresortfl.com/event/horseshoes-148/
END:VEVENT
BEGIN:VEVENT
DTSTART;TZID=America/Chicago:20250123T100000
DTEND;TZID=America/Chicago:20250123T120000
DTSTAMP:20260425T220939
CREATED:20250113T135141Z
LAST-MODIFIED:20250113T135141Z
UID:16841-1737626400-1737633600@hillcrestrvresortfl.com
SUMMARY:Drumming Exercises
DESCRIPTION:
URL:https://hillcrestrvresortfl.com/event/drumming-exercises-3/
END:VEVENT
BEGIN:VEVENT
DTSTART;TZID=America/Chicago:20250123T110000
DTEND;TZID=America/Chicago:20250123T120000
DTSTAMP:20260425T220939
CREATED:20250113T135426Z
LAST-MODIFIED:20250113T135426Z
UID:16847-1737630000-1737633600@hillcrestrvresortfl.com
SUMMARY:Cornhole
DESCRIPTION:
URL:https://hillcrestrvresortfl.com/event/cornhole-8/
END:VEVENT
BEGIN:VEVENT
DTSTART;TZID=America/Chicago:20250123T113000
DTEND;TZID=America/Chicago:20250123T123000
DTSTAMP:20260425T220939
CREATED:20250113T175031Z
LAST-MODIFIED:20250113T175031Z
UID:16934-1737631800-1737635400@hillcrestrvresortfl.com
SUMMARY:Alzheimer's Seminar
DESCRIPTION:
URL:https://hillcrestrvresortfl.com/event/alzheimers-seminar/
END:VEVENT
BEGIN:VEVENT
DTSTART;TZID=America/Chicago:20250123T130000
DTEND;TZID=America/Chicago:20250123T150000
DTSTAMP:20260425T220939
CREATED:20250113T135635Z
LAST-MODIFIED:20250113T135635Z
UID:16853-1737637200-1737644400@hillcrestrvresortfl.com
SUMMARY:Line Dancing
DESCRIPTION:
URL:https://hillcrestrvresortfl.com/event/line-dancing-20/
END:VEVENT
BEGIN:VEVENT
DTSTART;TZID=America/Chicago:20250123T150000
DTEND;TZID=America/Chicago:20250123T170000
DTSTAMP:20260425T220939
CREATED:20250113T135810Z
LAST-MODIFIED:20250113T135810Z
UID:16859-1737644400-1737651600@hillcrestrvresortfl.com
SUMMARY:Acoustic Jam
DESCRIPTION:
URL:https://hillcrestrvresortfl.com/event/acoustic-jam-27/
END:VEVENT
BEGIN:VEVENT
DTSTART;TZID=America/Chicago:20250123T180000
DTEND;TZID=America/Chicago:20250123T210000
DTSTAMP:20260425T220939
CREATED:20250114T132549Z
LAST-MODIFIED:20250114T132549Z
UID:17364-1737655200-1737666000@hillcrestrvresortfl.com
SUMMARY:Bid Euchre
DESCRIPTION:
URL:https://hillcrestrvresortfl.com/event/bid-euchre-41/
END:VEVENT
BEGIN:VEVENT
DTSTART;TZID=America/Chicago:20250123T180000
DTEND;TZID=America/Chicago:20250123T213000
DTSTAMP:20260425T220939
CREATED:20250113T135935Z
LAST-MODIFIED:20250113T135935Z
UID:16865-1737655200-1737667800@hillcrestrvresortfl.com
SUMMARY:Bingo
DESCRIPTION:
URL:https://hillcrestrvresortfl.com/event/bingo-48/
END:VEVENT
BEGIN:VEVENT
DTSTART;TZID=America/Chicago:20250123T183000
DTEND;TZID=America/Chicago:20250123T210000
DTSTAMP:20260425T220939
CREATED:20250114T133111Z
LAST-MODIFIED:20250114T133111Z
UID:17388-1737657000-1737666000@hillcrestrvresortfl.com
SUMMARY:Men's Billiards
DESCRIPTION:
URL:https://hillcrestrvresortfl.com/event/mens-billiards-65/
END:VEVENT
END:VCALENDAR