BEGIN:VCALENDAR
VERSION:2.0
PRODID:-//Hillcrest RV Resort - ECPv6.15.20//NONSGML v1.0//EN
CALSCALE:GREGORIAN
METHOD:PUBLISH
X-ORIGINAL-URL:https://hillcrestrvresortfl.com
X-WR-CALDESC:Events for Hillcrest RV Resort
REFRESH-INTERVAL;VALUE=DURATION:PT1H
X-Robots-Tag:noindex
X-PUBLISHED-TTL:PT1H
BEGIN:VTIMEZONE
TZID:America/Chicago
BEGIN:DAYLIGHT
TZOFFSETFROM:-0600
TZOFFSETTO:-0500
TZNAME:CDT
DTSTART:20240310T080000
END:DAYLIGHT
BEGIN:STANDARD
TZOFFSETFROM:-0500
TZOFFSETTO:-0600
TZNAME:CST
DTSTART:20241103T070000
END:STANDARD
BEGIN:DAYLIGHT
TZOFFSETFROM:-0600
TZOFFSETTO:-0500
TZNAME:CDT
DTSTART:20250309T080000
END:DAYLIGHT
BEGIN:STANDARD
TZOFFSETFROM:-0500
TZOFFSETTO:-0600
TZNAME:CST
DTSTART:20251102T070000
END:STANDARD
BEGIN:DAYLIGHT
TZOFFSETFROM:-0600
TZOFFSETTO:-0500
TZNAME:CDT
DTSTART:20260308T080000
END:DAYLIGHT
BEGIN:STANDARD
TZOFFSETFROM:-0500
TZOFFSETTO:-0600
TZNAME:CST
DTSTART:20261101T070000
END:STANDARD
END:VTIMEZONE
BEGIN:VEVENT
DTSTART;TZID=America/Chicago:20250120T073000
DTEND;TZID=America/Chicago:20250120T090000
DTSTAMP:20260425T220308
CREATED:20250113T174507Z
LAST-MODIFIED:20250113T174507Z
UID:16922-1737358200-1737363600@hillcrestrvresortfl.com
SUMMARY:Breakfast
DESCRIPTION:
URL:https://hillcrestrvresortfl.com/event/breakfast-21/
END:VEVENT
BEGIN:VEVENT
DTSTART;TZID=America/Chicago:20250120T080000
DTEND;TZID=America/Chicago:20250120T170000
DTSTAMP:20260425T220308
CREATED:20250113T195655Z
LAST-MODIFIED:20250113T195655Z
UID:17146-1737360000-1737392400@hillcrestrvresortfl.com
SUMMARY:shuffleboard
DESCRIPTION:
URL:https://hillcrestrvresortfl.com/event/shuffleboard-157/
END:VEVENT
BEGIN:VEVENT
DTSTART;TZID=America/Chicago:20250120T080000
DTEND;TZID=America/Chicago:20250120T170000
DTSTAMP:20260425T220308
CREATED:20250113T204653Z
LAST-MODIFIED:20250113T204653Z
UID:17192-1737360000-1737392400@hillcrestrvresortfl.com
SUMMARY:Water Aerobics
DESCRIPTION:
URL:https://hillcrestrvresortfl.com/event/water-aerobics-159/
END:VEVENT
BEGIN:VEVENT
DTSTART;TZID=America/Chicago:20250120T080000
DTEND;TZID=America/Chicago:20250120T170000
DTSTAMP:20260425T220308
CREATED:20250114T124245Z
LAST-MODIFIED:20250114T124245Z
UID:17251-1737360000-1737392400@hillcrestrvresortfl.com
SUMMARY:Pentanque
DESCRIPTION:
URL:https://hillcrestrvresortfl.com/event/pentanque-99/
END:VEVENT
BEGIN:VEVENT
DTSTART;TZID=America/Chicago:20250120T080000
DTEND;TZID=America/Chicago:20250120T220000
DTSTAMP:20260425T220308
CREATED:20250113T183926Z
LAST-MODIFIED:20250113T183926Z
UID:17032-1737360000-1737410400@hillcrestrvresortfl.com
SUMMARY:Pickleball
DESCRIPTION:
URL:https://hillcrestrvresortfl.com/event/pickleball-179/
END:VEVENT
BEGIN:VEVENT
DTSTART;TZID=America/Chicago:20250120T090000
DTEND;TZID=America/Chicago:20250120T210000
DTSTAMP:20260425T220308
CREATED:20250113T184943Z
LAST-MODIFIED:20250113T184943Z
UID:17078-1737363600-1737406800@hillcrestrvresortfl.com
SUMMARY:Horseshoes
DESCRIPTION:
URL:https://hillcrestrvresortfl.com/event/horseshoes-151/
END:VEVENT
BEGIN:VEVENT
DTSTART;TZID=America/Chicago:20250120T100000
DTEND;TZID=America/Chicago:20250120T110000
DTSTAMP:20260425T220308
CREATED:20250113T145453Z
LAST-MODIFIED:20250113T145453Z
UID:16881-1737367200-1737370800@hillcrestrvresortfl.com
SUMMARY:Dancersize
DESCRIPTION:
URL:https://hillcrestrvresortfl.com/event/dancersize-10/
END:VEVENT
BEGIN:VEVENT
DTSTART;TZID=America/Chicago:20250120T100000
DTEND;TZID=America/Chicago:20250120T130000
DTSTAMP:20260425T220308
CREATED:20250114T125822Z
LAST-MODIFIED:20250114T125822Z
UID:17292-1737367200-1737378000@hillcrestrvresortfl.com
SUMMARY:Women's Billiards
DESCRIPTION:
URL:https://hillcrestrvresortfl.com/event/womens-billiards-37/
END:VEVENT
BEGIN:VEVENT
DTSTART;TZID=America/Chicago:20250120T130000
DTEND;TZID=America/Chicago:20250120T150000
DTSTAMP:20260425T220308
CREATED:20250114T133804Z
LAST-MODIFIED:20250114T133804Z
UID:17420-1737378000-1737385200@hillcrestrvresortfl.com
SUMMARY:Cribbage
DESCRIPTION:
URL:https://hillcrestrvresortfl.com/event/cribbage-21/
END:VEVENT
BEGIN:VEVENT
DTSTART;TZID=America/Chicago:20250120T130000
DTEND;TZID=America/Chicago:20250120T160000
DTSTAMP:20260425T220308
CREATED:20250113T145703Z
LAST-MODIFIED:20250113T145703Z
UID:16885-1737378000-1737388800@hillcrestrvresortfl.com
SUMMARY:Quilting Sewing Knitting Crocheting
DESCRIPTION:
URL:https://hillcrestrvresortfl.com/event/quilting-sewing-knitting-crocheting-9/
END:VEVENT
BEGIN:VEVENT
DTSTART;TZID=America/Chicago:20250120T130000
DTEND;TZID=America/Chicago:20250120T160000
DTSTAMP:20260425T220308
CREATED:20250113T150226Z
LAST-MODIFIED:20250113T150226Z
UID:16889-1737378000-1737388800@hillcrestrvresortfl.com
SUMMARY:Watercolor
DESCRIPTION:
URL:https://hillcrestrvresortfl.com/event/watercolor-3/
END:VEVENT
BEGIN:VEVENT
DTSTART;TZID=America/Chicago:20250120T180000
DTEND;TZID=America/Chicago:20250120T210000
DTSTAMP:20260425T220308
CREATED:20250114T130751Z
LAST-MODIFIED:20250114T130751Z
UID:17334-1737396000-1737406800@hillcrestrvresortfl.com
SUMMARY:Game Night
DESCRIPTION:
URL:https://hillcrestrvresortfl.com/event/game-night-51/
END:VEVENT
BEGIN:VEVENT
DTSTART;TZID=America/Chicago:20250120T180000
DTEND;TZID=America/Chicago:20250120T210000
DTSTAMP:20260425T220308
CREATED:20250114T134008Z
LAST-MODIFIED:20250114T134008Z
UID:17428-1737396000-1737406800@hillcrestrvresortfl.com
SUMMARY:Mixed Billiards
DESCRIPTION:
URL:https://hillcrestrvresortfl.com/event/mixed-billiards-14/
END:VEVENT
BEGIN:VEVENT
DTSTART;TZID=America/Chicago:20250120T180000
DTEND;TZID=America/Chicago:20250120T213000
DTSTAMP:20260425T220308
CREATED:20250113T174608Z
LAST-MODIFIED:20250113T174608Z
UID:16924-1737396000-1737408600@hillcrestrvresortfl.com
SUMMARY:Bingo
DESCRIPTION:
URL:https://hillcrestrvresortfl.com/event/bingo-50/
END:VEVENT
END:VCALENDAR