BEGIN:VCALENDAR
VERSION:2.0
PRODID:-//Hillcrest RV Resort - ECPv6.15.20//NONSGML v1.0//EN
CALSCALE:GREGORIAN
METHOD:PUBLISH
X-ORIGINAL-URL:https://hillcrestrvresortfl.com
X-WR-CALDESC:Events for Hillcrest RV Resort
REFRESH-INTERVAL;VALUE=DURATION:PT1H
X-Robots-Tag:noindex
X-PUBLISHED-TTL:PT1H
BEGIN:VTIMEZONE
TZID:America/Chicago
BEGIN:DAYLIGHT
TZOFFSETFROM:-0600
TZOFFSETTO:-0500
TZNAME:CDT
DTSTART:20240310T080000
END:DAYLIGHT
BEGIN:STANDARD
TZOFFSETFROM:-0500
TZOFFSETTO:-0600
TZNAME:CST
DTSTART:20241103T070000
END:STANDARD
BEGIN:DAYLIGHT
TZOFFSETFROM:-0600
TZOFFSETTO:-0500
TZNAME:CDT
DTSTART:20250309T080000
END:DAYLIGHT
BEGIN:STANDARD
TZOFFSETFROM:-0500
TZOFFSETTO:-0600
TZNAME:CST
DTSTART:20251102T070000
END:STANDARD
BEGIN:DAYLIGHT
TZOFFSETFROM:-0600
TZOFFSETTO:-0500
TZNAME:CDT
DTSTART:20260308T080000
END:DAYLIGHT
BEGIN:STANDARD
TZOFFSETFROM:-0500
TZOFFSETTO:-0600
TZNAME:CST
DTSTART:20261101T070000
END:STANDARD
END:VTIMEZONE
BEGIN:VEVENT
DTSTART;TZID=America/Chicago:20250116T080000
DTEND;TZID=America/Chicago:20250116T170000
DTSTAMP:20260425T220308
CREATED:20250113T195619Z
LAST-MODIFIED:20250113T195619Z
UID:17142-1737014400-1737046800@hillcrestrvresortfl.com
SUMMARY:shuffleboard
DESCRIPTION:
URL:https://hillcrestrvresortfl.com/event/shuffleboard-155/
END:VEVENT
BEGIN:VEVENT
DTSTART;TZID=America/Chicago:20250116T080000
DTEND;TZID=America/Chicago:20250116T170000
DTSTAMP:20260425T220308
CREATED:20250113T204345Z
LAST-MODIFIED:20250113T204345Z
UID:17188-1737014400-1737046800@hillcrestrvresortfl.com
SUMMARY:Water Aerobics
DESCRIPTION:
URL:https://hillcrestrvresortfl.com/event/water-aerobics-157/
END:VEVENT
BEGIN:VEVENT
DTSTART;TZID=America/Chicago:20250116T080000
DTEND;TZID=America/Chicago:20250116T170000
DTSTAMP:20260425T220308
CREATED:20250114T124138Z
LAST-MODIFIED:20250114T124138Z
UID:17243-1737014400-1737046800@hillcrestrvresortfl.com
SUMMARY:Pentanque
DESCRIPTION:
URL:https://hillcrestrvresortfl.com/event/pentanque-95/
END:VEVENT
BEGIN:VEVENT
DTSTART;TZID=America/Chicago:20250116T080000
DTEND;TZID=America/Chicago:20250116T220000
DTSTAMP:20260425T220308
CREATED:20250113T183802Z
LAST-MODIFIED:20250113T183802Z
UID:17024-1737014400-1737064800@hillcrestrvresortfl.com
SUMMARY:Pickleball
DESCRIPTION:
URL:https://hillcrestrvresortfl.com/event/pickleball-175/
END:VEVENT
BEGIN:VEVENT
DTSTART;TZID=America/Chicago:20250116T090000
DTEND;TZID=America/Chicago:20250116T103000
DTSTAMP:20260425T220308
CREATED:20250114T132126Z
LAST-MODIFIED:20250114T132126Z
UID:17346-1737018000-1737023400@hillcrestrvresortfl.com
SUMMARY:Choir Practice
DESCRIPTION:
URL:https://hillcrestrvresortfl.com/event/choir-practice-11/
END:VEVENT
BEGIN:VEVENT
DTSTART;TZID=America/Chicago:20250116T090000
DTEND;TZID=America/Chicago:20250116T210000
DTSTAMP:20260425T220308
CREATED:20250113T185118Z
LAST-MODIFIED:20250113T185118Z
UID:17086-1737018000-1737061200@hillcrestrvresortfl.com
SUMMARY:Horseshoes
DESCRIPTION:
URL:https://hillcrestrvresortfl.com/event/horseshoes-155/
END:VEVENT
BEGIN:VEVENT
DTSTART;TZID=America/Chicago:20250116T100000
DTEND;TZID=America/Chicago:20250116T120000
DTSTAMP:20260425T220308
CREATED:20250113T135115Z
LAST-MODIFIED:20250113T135115Z
UID:16839-1737021600-1737028800@hillcrestrvresortfl.com
SUMMARY:Drumming Exercises
DESCRIPTION:
URL:https://hillcrestrvresortfl.com/event/drumming-exercises-2/
END:VEVENT
BEGIN:VEVENT
DTSTART;TZID=America/Chicago:20250116T100000
DTEND;TZID=America/Chicago:20250116T120000
DTSTAMP:20260425T220308
CREATED:20250114T130217Z
LAST-MODIFIED:20250114T130217Z
UID:17310-1737021600-1737028800@hillcrestrvresortfl.com
SUMMARY:Scrabble
DESCRIPTION:
URL:https://hillcrestrvresortfl.com/event/scrabble-26/
END:VEVENT
BEGIN:VEVENT
DTSTART;TZID=America/Chicago:20250116T110000
DTEND;TZID=America/Chicago:20250116T120000
DTSTAMP:20260425T220308
CREATED:20250113T135400Z
LAST-MODIFIED:20250113T135400Z
UID:16845-1737025200-1737028800@hillcrestrvresortfl.com
SUMMARY:Cornhole
DESCRIPTION:
URL:https://hillcrestrvresortfl.com/event/cornhole-7/
END:VEVENT
BEGIN:VEVENT
DTSTART;TZID=America/Chicago:20250116T130000
DTEND;TZID=America/Chicago:20250116T150000
DTSTAMP:20260425T220308
CREATED:20250113T135554Z
LAST-MODIFIED:20250113T135554Z
UID:16851-1737032400-1737039600@hillcrestrvresortfl.com
SUMMARY:Line Dancing
DESCRIPTION:
URL:https://hillcrestrvresortfl.com/event/line-dancing-19/
END:VEVENT
BEGIN:VEVENT
DTSTART;TZID=America/Chicago:20250116T150000
DTEND;TZID=America/Chicago:20250116T170000
DTSTAMP:20260425T220308
CREATED:20250113T135745Z
LAST-MODIFIED:20250113T135745Z
UID:16857-1737039600-1737046800@hillcrestrvresortfl.com
SUMMARY:Acoustic Jam
DESCRIPTION:
URL:https://hillcrestrvresortfl.com/event/acoustic-jam-26/
END:VEVENT
BEGIN:VEVENT
DTSTART;TZID=America/Chicago:20250116T180000
DTEND;TZID=America/Chicago:20250116T210000
DTSTAMP:20260425T220308
CREATED:20250114T132452Z
LAST-MODIFIED:20250114T132452Z
UID:17360-1737050400-1737061200@hillcrestrvresortfl.com
SUMMARY:Bid Euchre
DESCRIPTION:
URL:https://hillcrestrvresortfl.com/event/bid-euchre-39/
END:VEVENT
BEGIN:VEVENT
DTSTART;TZID=America/Chicago:20250116T180000
DTEND;TZID=America/Chicago:20250116T213000
DTSTAMP:20260425T220308
CREATED:20250113T135911Z
LAST-MODIFIED:20250113T135911Z
UID:16863-1737050400-1737063000@hillcrestrvresortfl.com
SUMMARY:Bingo
DESCRIPTION:
URL:https://hillcrestrvresortfl.com/event/bingo-47/
END:VEVENT
BEGIN:VEVENT
DTSTART;TZID=America/Chicago:20250116T183000
DTEND;TZID=America/Chicago:20250116T210000
DTSTAMP:20260425T220308
CREATED:20250114T133000Z
LAST-MODIFIED:20250114T133000Z
UID:17382-1737052200-1737061200@hillcrestrvresortfl.com
SUMMARY:Men's Billiards
DESCRIPTION:
URL:https://hillcrestrvresortfl.com/event/mens-billiards-62/
END:VEVENT
END:VCALENDAR