BEGIN:VCALENDAR
VERSION:2.0
PRODID:-//Hillcrest RV Resort - ECPv6.15.20//NONSGML v1.0//EN
CALSCALE:GREGORIAN
METHOD:PUBLISH
X-WR-CALNAME:Hillcrest RV Resort
X-ORIGINAL-URL:https://hillcrestrvresortfl.com
X-WR-CALDESC:Events for Hillcrest RV Resort
REFRESH-INTERVAL;VALUE=DURATION:PT1H
X-Robots-Tag:noindex
X-PUBLISHED-TTL:PT1H
BEGIN:VTIMEZONE
TZID:America/Chicago
BEGIN:DAYLIGHT
TZOFFSETFROM:-0600
TZOFFSETTO:-0500
TZNAME:CDT
DTSTART:20240310T080000
END:DAYLIGHT
BEGIN:STANDARD
TZOFFSETFROM:-0500
TZOFFSETTO:-0600
TZNAME:CST
DTSTART:20241103T070000
END:STANDARD
BEGIN:DAYLIGHT
TZOFFSETFROM:-0600
TZOFFSETTO:-0500
TZNAME:CDT
DTSTART:20250309T080000
END:DAYLIGHT
BEGIN:STANDARD
TZOFFSETFROM:-0500
TZOFFSETTO:-0600
TZNAME:CST
DTSTART:20251102T070000
END:STANDARD
BEGIN:DAYLIGHT
TZOFFSETFROM:-0600
TZOFFSETTO:-0500
TZNAME:CDT
DTSTART:20260308T080000
END:DAYLIGHT
BEGIN:STANDARD
TZOFFSETFROM:-0500
TZOFFSETTO:-0600
TZNAME:CST
DTSTART:20261101T070000
END:STANDARD
END:VTIMEZONE
BEGIN:VEVENT
DTSTART;TZID=America/Chicago:20250107T080000
DTEND;TZID=America/Chicago:20250107T170000
DTSTAMP:20260425T220250
CREATED:20250113T195412Z
LAST-MODIFIED:20250113T195412Z
UID:17128-1736236800-1736269200@hillcrestrvresortfl.com
SUMMARY:shuffleboard
DESCRIPTION:
URL:https://hillcrestrvresortfl.com/event/shuffleboard-148/
END:VEVENT
BEGIN:VEVENT
DTSTART;TZID=America/Chicago:20250107T080000
DTEND;TZID=America/Chicago:20250107T170000
DTSTAMP:20260425T220250
CREATED:20250113T204133Z
LAST-MODIFIED:20250113T204133Z
UID:17174-1736236800-1736269200@hillcrestrvresortfl.com
SUMMARY:Water Aerobics
DESCRIPTION:
URL:https://hillcrestrvresortfl.com/event/water-aerobics-150/
END:VEVENT
BEGIN:VEVENT
DTSTART;TZID=America/Chicago:20250107T080000
DTEND;TZID=America/Chicago:20250107T220000
DTSTAMP:20260425T220250
CREATED:20250113T183226Z
LAST-MODIFIED:20250113T183226Z
UID:17006-1736236800-1736287200@hillcrestrvresortfl.com
SUMMARY:Pickleball
DESCRIPTION:
URL:https://hillcrestrvresortfl.com/event/pickleball-166/
END:VEVENT
BEGIN:VEVENT
DTSTART;TZID=America/Chicago:20250107T090000
DTEND;TZID=America/Chicago:20250107T210000
DTSTAMP:20260425T220250
CREATED:20250113T185636Z
LAST-MODIFIED:20250113T185636Z
UID:17104-1736240400-1736283600@hillcrestrvresortfl.com
SUMMARY:Horseshoes
DESCRIPTION:
URL:https://hillcrestrvresortfl.com/event/horseshoes-164/
END:VEVENT
BEGIN:VEVENT
DTSTART;TZID=America/Chicago:20250107T093000
DTEND;TZID=America/Chicago:20250107T103000
DTSTAMP:20260425T220250
CREATED:20250113T132154Z
LAST-MODIFIED:20250113T132154Z
UID:16811-1736242200-1736245800@hillcrestrvresortfl.com
SUMMARY:One Stop Shopping (OSS)
DESCRIPTION:
URL:https://hillcrestrvresortfl.com/event/one-stop-shopping-oss/
END:VEVENT
BEGIN:VEVENT
DTSTART;TZID=America/Chicago:20250107T100000
DTEND;TZID=America/Chicago:20250107T170000
DTSTAMP:20260425T220250
CREATED:20250113T205204Z
LAST-MODIFIED:20250113T205204Z
UID:17224-1736244000-1736269200@hillcrestrvresortfl.com
SUMMARY:Pentanque
DESCRIPTION:
URL:https://hillcrestrvresortfl.com/event/pentanque-85/
END:VEVENT
BEGIN:VEVENT
DTSTART;TZID=America/Chicago:20250107T103000
DTEND;TZID=America/Chicago:20250107T123000
DTSTAMP:20260425T220250
CREATED:20250113T132237Z
LAST-MODIFIED:20250113T132237Z
UID:16813-1736245800-1736253000@hillcrestrvresortfl.com
SUMMARY:Advanced Line Dancing
DESCRIPTION:
URL:https://hillcrestrvresortfl.com/event/advanced-line-dancing/
END:VEVENT
BEGIN:VEVENT
DTSTART;TZID=America/Chicago:20250107T130000
DTEND;TZID=America/Chicago:20250107T150000
DTSTAMP:20260425T220250
CREATED:20250114T132820Z
LAST-MODIFIED:20250114T132820Z
UID:17374-1736254800-1736262000@hillcrestrvresortfl.com
SUMMARY:Men's Billiards
DESCRIPTION:
URL:https://hillcrestrvresortfl.com/event/mens-billiards-58/
END:VEVENT
BEGIN:VEVENT
DTSTART;TZID=America/Chicago:20250107T140000
DTEND;TZID=America/Chicago:20250107T153000
DTSTAMP:20260425T220250
CREATED:20250113T132315Z
LAST-MODIFIED:20250113T132315Z
UID:16815-1736258400-1736263800@hillcrestrvresortfl.com
SUMMARY:Jewelry Craft
DESCRIPTION:
URL:https://hillcrestrvresortfl.com/event/jewelry-craft-4/
END:VEVENT
BEGIN:VEVENT
DTSTART;TZID=America/Chicago:20250107T180000
DTEND;TZID=America/Chicago:20250107T210000
DTSTAMP:20260425T220250
CREATED:20250114T132336Z
LAST-MODIFIED:20250114T132336Z
UID:17354-1736272800-1736283600@hillcrestrvresortfl.com
SUMMARY:Bid Euchre
DESCRIPTION:
URL:https://hillcrestrvresortfl.com/event/bid-euchre-36/
END:VEVENT
BEGIN:VEVENT
DTSTART;TZID=America/Chicago:20250107T180000
DTEND;TZID=America/Chicago:20250107T210000
DTSTAMP:20260425T220250
CREATED:20250114T134126Z
LAST-MODIFIED:20250114T134126Z
UID:17432-1736272800-1736283600@hillcrestrvresortfl.com
SUMMARY:Texas Hold'Em
DESCRIPTION:
URL:https://hillcrestrvresortfl.com/event/texas-holdem-29/
END:VEVENT
BEGIN:VEVENT
DTSTART;TZID=America/Chicago:20250107T190000
DTEND;TZID=America/Chicago:20250107T213000
DTSTAMP:20260425T220250
CREATED:20250113T132342Z
LAST-MODIFIED:20250113T132342Z
UID:16817-1736276400-1736285400@hillcrestrvresortfl.com
SUMMARY:Karaoke
DESCRIPTION:
URL:https://hillcrestrvresortfl.com/event/karaoke-22/
END:VEVENT
END:VCALENDAR