BEGIN:VCALENDAR
VERSION:2.0
PRODID:-//Hillcrest RV Resort - ECPv6.15.20//NONSGML v1.0//EN
CALSCALE:GREGORIAN
METHOD:PUBLISH
X-ORIGINAL-URL:https://hillcrestrvresortfl.com
X-WR-CALDESC:Events for Hillcrest RV Resort
REFRESH-INTERVAL;VALUE=DURATION:PT1H
X-Robots-Tag:noindex
X-PUBLISHED-TTL:PT1H
BEGIN:VTIMEZONE
TZID:America/Chicago
BEGIN:DAYLIGHT
TZOFFSETFROM:-0600
TZOFFSETTO:-0500
TZNAME:CDT
DTSTART:20240310T080000
END:DAYLIGHT
BEGIN:STANDARD
TZOFFSETFROM:-0500
TZOFFSETTO:-0600
TZNAME:CST
DTSTART:20241103T070000
END:STANDARD
BEGIN:DAYLIGHT
TZOFFSETFROM:-0600
TZOFFSETTO:-0500
TZNAME:CDT
DTSTART:20250309T080000
END:DAYLIGHT
BEGIN:STANDARD
TZOFFSETFROM:-0500
TZOFFSETTO:-0600
TZNAME:CST
DTSTART:20251102T070000
END:STANDARD
BEGIN:DAYLIGHT
TZOFFSETFROM:-0600
TZOFFSETTO:-0500
TZNAME:CDT
DTSTART:20260308T080000
END:DAYLIGHT
BEGIN:STANDARD
TZOFFSETFROM:-0500
TZOFFSETTO:-0600
TZNAME:CST
DTSTART:20261101T070000
END:STANDARD
END:VTIMEZONE
BEGIN:VEVENT
DTSTART;TZID=America/Chicago:20250105T080000
DTEND;TZID=America/Chicago:20250105T220000
DTSTAMP:20260425T220938
CREATED:20250113T183144Z
LAST-MODIFIED:20250113T183144Z
UID:17002-1736064000-1736114400@hillcrestrvresortfl.com
SUMMARY:Pickleball
DESCRIPTION:
URL:https://hillcrestrvresortfl.com/event/pickleball-164/
END:VEVENT
BEGIN:VEVENT
DTSTART;TZID=America/Chicago:20250105T090000
DTEND;TZID=America/Chicago:20250105T210000
DTSTAMP:20260425T220938
CREATED:20250113T185720Z
LAST-MODIFIED:20250113T185720Z
UID:17108-1736067600-1736110800@hillcrestrvresortfl.com
SUMMARY:Horseshoes
DESCRIPTION:
URL:https://hillcrestrvresortfl.com/event/horseshoes-166/
END:VEVENT
BEGIN:VEVENT
DTSTART;TZID=America/Chicago:20250105T100000
DTEND;TZID=America/Chicago:20250105T120000
DTSTAMP:20260425T220938
CREATED:20250114T133530Z
LAST-MODIFIED:20250114T133530Z
UID:17408-1736071200-1736078400@hillcrestrvresortfl.com
SUMMARY:Church
DESCRIPTION:
URL:https://hillcrestrvresortfl.com/event/church-28/
END:VEVENT
BEGIN:VEVENT
DTSTART;TZID=America/Chicago:20250105T100000
DTEND;TZID=America/Chicago:20250105T170000
DTSTAMP:20260425T220938
CREATED:20250113T205123Z
LAST-MODIFIED:20250113T205123Z
UID:17220-1736071200-1736096400@hillcrestrvresortfl.com
SUMMARY:Pentanque
DESCRIPTION:
URL:https://hillcrestrvresortfl.com/event/pentanque-83/
END:VEVENT
BEGIN:VEVENT
DTSTART;TZID=America/Chicago:20250105T180000
DTEND;TZID=America/Chicago:20250105T190000
DTSTAMP:20260425T220938
CREATED:20250113T131612Z
LAST-MODIFIED:20250113T131612Z
UID:16797-1736100000-1736103600@hillcrestrvresortfl.com
SUMMARY:Ice Cream Social
DESCRIPTION:
URL:https://hillcrestrvresortfl.com/event/ice-cream-social-15/
END:VEVENT
BEGIN:VEVENT
DTSTART;TZID=America/Chicago:20250105T190000
DTEND;TZID=America/Chicago:20250105T210000
DTSTAMP:20260425T220938
CREATED:20250113T131648Z
LAST-MODIFIED:20250113T131648Z
UID:16799-1736103600-1736110800@hillcrestrvresortfl.com
SUMMARY:Jesse Derringer (Entertainment)
DESCRIPTION:
URL:https://hillcrestrvresortfl.com/event/jesse-derringer-entertainment/
END:VEVENT
END:VCALENDAR