BEGIN:VCALENDAR
VERSION:2.0
PRODID:-//Hillcrest RV Resort - ECPv6.15.20//NONSGML v1.0//EN
CALSCALE:GREGORIAN
METHOD:PUBLISH
X-ORIGINAL-URL:https://hillcrestrvresortfl.com
X-WR-CALDESC:Events for Hillcrest RV Resort
REFRESH-INTERVAL;VALUE=DURATION:PT1H
X-Robots-Tag:noindex
X-PUBLISHED-TTL:PT1H
BEGIN:VTIMEZONE
TZID:America/Chicago
BEGIN:DAYLIGHT
TZOFFSETFROM:-0600
TZOFFSETTO:-0500
TZNAME:CDT
DTSTART:20240310T080000
END:DAYLIGHT
BEGIN:STANDARD
TZOFFSETFROM:-0500
TZOFFSETTO:-0600
TZNAME:CST
DTSTART:20241103T070000
END:STANDARD
BEGIN:DAYLIGHT
TZOFFSETFROM:-0600
TZOFFSETTO:-0500
TZNAME:CDT
DTSTART:20250309T080000
END:DAYLIGHT
BEGIN:STANDARD
TZOFFSETFROM:-0500
TZOFFSETTO:-0600
TZNAME:CST
DTSTART:20251102T070000
END:STANDARD
BEGIN:DAYLIGHT
TZOFFSETFROM:-0600
TZOFFSETTO:-0500
TZNAME:CDT
DTSTART:20260308T080000
END:DAYLIGHT
BEGIN:STANDARD
TZOFFSETFROM:-0500
TZOFFSETTO:-0600
TZNAME:CST
DTSTART:20261101T070000
END:STANDARD
END:VTIMEZONE
BEGIN:VEVENT
DTSTART;TZID=America/Chicago:20250104T080000
DTEND;TZID=America/Chicago:20250104T220000
DTSTAMP:20260425T220308
CREATED:20250113T183121Z
LAST-MODIFIED:20250113T183121Z
UID:17000-1735977600-1736028000@hillcrestrvresortfl.com
SUMMARY:Pickleball
DESCRIPTION:
URL:https://hillcrestrvresortfl.com/event/pickleball-163/
END:VEVENT
BEGIN:VEVENT
DTSTART;TZID=America/Chicago:20250104T090000
DTEND;TZID=America/Chicago:20250104T210000
DTSTAMP:20260425T220308
CREATED:20250113T185742Z
LAST-MODIFIED:20250113T185742Z
UID:17110-1735981200-1736024400@hillcrestrvresortfl.com
SUMMARY:Horseshoes
DESCRIPTION:
URL:https://hillcrestrvresortfl.com/event/horseshoes-167/
END:VEVENT
BEGIN:VEVENT
DTSTART;TZID=America/Chicago:20250104T100000
DTEND;TZID=America/Chicago:20250104T170000
DTSTAMP:20260425T220308
CREATED:20250113T205105Z
LAST-MODIFIED:20250113T205105Z
UID:17218-1735984800-1736010000@hillcrestrvresortfl.com
SUMMARY:Pentanque
DESCRIPTION:
URL:https://hillcrestrvresortfl.com/event/pentanque-82/
END:VEVENT
BEGIN:VEVENT
DTSTART;TZID=America/Chicago:20250104T103000
DTEND;TZID=America/Chicago:20250104T123000
DTSTAMP:20260425T220308
CREATED:20250113T131529Z
LAST-MODIFIED:20250113T131529Z
UID:16795-1735986600-1735993800@hillcrestrvresortfl.com
SUMMARY:Couples Line Dancing
DESCRIPTION:
URL:https://hillcrestrvresortfl.com/event/couples-line-dancing-2/
END:VEVENT
END:VCALENDAR