BEGIN:VCALENDAR
VERSION:2.0
PRODID:-//Hillcrest RV Resort - ECPv6.15.20//NONSGML v1.0//EN
CALSCALE:GREGORIAN
METHOD:PUBLISH
X-ORIGINAL-URL:https://hillcrestrvresortfl.com
X-WR-CALDESC:Events for Hillcrest RV Resort
REFRESH-INTERVAL;VALUE=DURATION:PT1H
X-Robots-Tag:noindex
X-PUBLISHED-TTL:PT1H
BEGIN:VTIMEZONE
TZID:America/Chicago
BEGIN:DAYLIGHT
TZOFFSETFROM:-0600
TZOFFSETTO:-0500
TZNAME:CDT
DTSTART:20240310T080000
END:DAYLIGHT
BEGIN:STANDARD
TZOFFSETFROM:-0500
TZOFFSETTO:-0600
TZNAME:CST
DTSTART:20241103T070000
END:STANDARD
BEGIN:DAYLIGHT
TZOFFSETFROM:-0600
TZOFFSETTO:-0500
TZNAME:CDT
DTSTART:20250309T080000
END:DAYLIGHT
BEGIN:STANDARD
TZOFFSETFROM:-0500
TZOFFSETTO:-0600
TZNAME:CST
DTSTART:20251102T070000
END:STANDARD
BEGIN:DAYLIGHT
TZOFFSETFROM:-0600
TZOFFSETTO:-0500
TZNAME:CDT
DTSTART:20260308T080000
END:DAYLIGHT
BEGIN:STANDARD
TZOFFSETFROM:-0500
TZOFFSETTO:-0600
TZNAME:CST
DTSTART:20261101T070000
END:STANDARD
END:VTIMEZONE
BEGIN:VEVENT
DTSTART;TZID=America/Chicago:20250102T080000
DTEND;TZID=America/Chicago:20250102T110000
DTSTAMP:20260425T220306
CREATED:20250113T200048Z
LAST-MODIFIED:20250113T200048Z
UID:17168-1735804800-1735815600@hillcrestrvresortfl.com
SUMMARY:Water Aerobics
DESCRIPTION:
URL:https://hillcrestrvresortfl.com/event/water-aerobics-147/
END:VEVENT
BEGIN:VEVENT
DTSTART;TZID=America/Chicago:20250102T080000
DTEND;TZID=America/Chicago:20250102T220000
DTSTAMP:20260425T220306
CREATED:20250113T183038Z
LAST-MODIFIED:20250113T183038Z
UID:16996-1735804800-1735855200@hillcrestrvresortfl.com
SUMMARY:Pickleball
DESCRIPTION:
URL:https://hillcrestrvresortfl.com/event/pickleball-161/
END:VEVENT
BEGIN:VEVENT
DTSTART;TZID=America/Chicago:20250102T090000
DTEND;TZID=America/Chicago:20250102T103000
DTSTAMP:20260425T220306
CREATED:20250114T131217Z
LAST-MODIFIED:20250114T131217Z
UID:17342-1735808400-1735813800@hillcrestrvresortfl.com
SUMMARY:Choir Practice
DESCRIPTION:
URL:https://hillcrestrvresortfl.com/event/choir-practice-9/
END:VEVENT
BEGIN:VEVENT
DTSTART;TZID=America/Chicago:20250102T090000
DTEND;TZID=America/Chicago:20250102T210000
DTSTAMP:20260425T220306
CREATED:20250113T194201Z
LAST-MODIFIED:20250113T194201Z
UID:17114-1735808400-1735851600@hillcrestrvresortfl.com
SUMMARY:Horseshoes
DESCRIPTION:
URL:https://hillcrestrvresortfl.com/event/horseshoes-169/
END:VEVENT
BEGIN:VEVENT
DTSTART;TZID=America/Chicago:20250102T100000
DTEND;TZID=America/Chicago:20250102T170000
DTSTAMP:20260425T220306
CREATED:20250113T205025Z
LAST-MODIFIED:20250113T205025Z
UID:17214-1735812000-1735837200@hillcrestrvresortfl.com
SUMMARY:Pentanque
DESCRIPTION:
URL:https://hillcrestrvresortfl.com/event/pentanque-80/
END:VEVENT
BEGIN:VEVENT
DTSTART;TZID=America/Chicago:20250102T110000
DTEND;TZID=America/Chicago:20250102T130000
DTSTAMP:20260425T220306
CREATED:20250113T131007Z
LAST-MODIFIED:20250113T131007Z
UID:16779-1735815600-1735822800@hillcrestrvresortfl.com
SUMMARY:Cornhole
DESCRIPTION:
URL:https://hillcrestrvresortfl.com/event/cornhole-5/
END:VEVENT
BEGIN:VEVENT
DTSTART;TZID=America/Chicago:20250102T130000
DTEND;TZID=America/Chicago:20250102T150000
DTSTAMP:20260425T220306
CREATED:20250113T131121Z
LAST-MODIFIED:20250113T131121Z
UID:16781-1735822800-1735830000@hillcrestrvresortfl.com
SUMMARY:Line Dancing
DESCRIPTION:
URL:https://hillcrestrvresortfl.com/event/line-dancing-17/
END:VEVENT
BEGIN:VEVENT
DTSTART;TZID=America/Chicago:20250102T150000
DTEND;TZID=America/Chicago:20250102T170000
DTSTAMP:20260425T220306
CREATED:20250113T131152Z
LAST-MODIFIED:20250113T131152Z
UID:16783-1735830000-1735837200@hillcrestrvresortfl.com
SUMMARY:Acoustic Jam
DESCRIPTION:
URL:https://hillcrestrvresortfl.com/event/acoustic-jam-24/
END:VEVENT
BEGIN:VEVENT
DTSTART;TZID=America/Chicago:20250102T180000
DTEND;TZID=America/Chicago:20250102T210000
DTSTAMP:20260425T220306
CREATED:20250114T132306Z
LAST-MODIFIED:20250114T132306Z
UID:17352-1735840800-1735851600@hillcrestrvresortfl.com
SUMMARY:Bid Euchre
DESCRIPTION:
URL:https://hillcrestrvresortfl.com/event/bid-euchre-35/
END:VEVENT
BEGIN:VEVENT
DTSTART;TZID=America/Chicago:20250102T180000
DTEND;TZID=America/Chicago:20250102T213000
DTSTAMP:20260425T220306
CREATED:20250113T131219Z
LAST-MODIFIED:20250113T131219Z
UID:16785-1735840800-1735853400@hillcrestrvresortfl.com
SUMMARY:Bingo
DESCRIPTION:
URL:https://hillcrestrvresortfl.com/event/bingo-44/
END:VEVENT
BEGIN:VEVENT
DTSTART;TZID=America/Chicago:20250102T183000
DTEND;TZID=America/Chicago:20250102T210000
DTSTAMP:20260425T220306
CREATED:20250114T132717Z
LAST-MODIFIED:20250114T132717Z
UID:17370-1735842600-1735851600@hillcrestrvresortfl.com
SUMMARY:Men's Billiards
DESCRIPTION:
URL:https://hillcrestrvresortfl.com/event/mens-billiards-56/
END:VEVENT
END:VCALENDAR