BEGIN:VCALENDAR
VERSION:2.0
PRODID:-//Hillcrest RV Resort - ECPv6.15.20//NONSGML v1.0//EN
CALSCALE:GREGORIAN
METHOD:PUBLISH
X-WR-CALNAME:Hillcrest RV Resort
X-ORIGINAL-URL:https://hillcrestrvresortfl.com
X-WR-CALDESC:Events for Hillcrest RV Resort
REFRESH-INTERVAL;VALUE=DURATION:PT1H
X-Robots-Tag:noindex
X-PUBLISHED-TTL:PT1H
BEGIN:VTIMEZONE
TZID:America/Chicago
BEGIN:DAYLIGHT
TZOFFSETFROM:-0600
TZOFFSETTO:-0500
TZNAME:CDT
DTSTART:20240310T080000
END:DAYLIGHT
BEGIN:STANDARD
TZOFFSETFROM:-0500
TZOFFSETTO:-0600
TZNAME:CST
DTSTART:20241103T070000
END:STANDARD
BEGIN:DAYLIGHT
TZOFFSETFROM:-0600
TZOFFSETTO:-0500
TZNAME:CDT
DTSTART:20250309T080000
END:DAYLIGHT
BEGIN:STANDARD
TZOFFSETFROM:-0500
TZOFFSETTO:-0600
TZNAME:CST
DTSTART:20251102T070000
END:STANDARD
BEGIN:DAYLIGHT
TZOFFSETFROM:-0600
TZOFFSETTO:-0500
TZNAME:CDT
DTSTART:20260308T080000
END:DAYLIGHT
BEGIN:STANDARD
TZOFFSETFROM:-0500
TZOFFSETTO:-0600
TZNAME:CST
DTSTART:20261101T070000
END:STANDARD
END:VTIMEZONE
BEGIN:VEVENT
DTSTART;TZID=America/Chicago:20250101T080000
DTEND;TZID=America/Chicago:20250101T110000
DTSTAMP:20260425T220249
CREATED:20250113T200026Z
LAST-MODIFIED:20250113T200026Z
UID:17166-1735718400-1735729200@hillcrestrvresortfl.com
SUMMARY:Water Aerobics
DESCRIPTION:
URL:https://hillcrestrvresortfl.com/event/water-aerobics-146/
END:VEVENT
BEGIN:VEVENT
DTSTART;TZID=America/Chicago:20250101T080000
DTEND;TZID=America/Chicago:20250101T170000
DTSTAMP:20260425T220249
CREATED:20250113T194835Z
LAST-MODIFIED:20250113T194835Z
UID:17118-1735718400-1735750800@hillcrestrvresortfl.com
SUMMARY:Horseshoes
DESCRIPTION:
URL:https://hillcrestrvresortfl.com/event/horseshoes-171/
END:VEVENT
BEGIN:VEVENT
DTSTART;TZID=America/Chicago:20250101T080000
DTEND;TZID=America/Chicago:20250101T220000
DTSTAMP:20260425T220249
CREATED:20250113T183012Z
LAST-MODIFIED:20250113T183012Z
UID:16994-1735718400-1735768800@hillcrestrvresortfl.com
SUMMARY:Pickleball
DESCRIPTION:
URL:https://hillcrestrvresortfl.com/event/pickleball-160/
END:VEVENT
BEGIN:VEVENT
DTSTART;TZID=America/Chicago:20250101T090000
DTEND;TZID=America/Chicago:20250101T210000
DTSTAMP:20260425T220249
CREATED:20250113T194223Z
LAST-MODIFIED:20250113T194223Z
UID:17116-1735722000-1735765200@hillcrestrvresortfl.com
SUMMARY:Horseshoes
DESCRIPTION:
URL:https://hillcrestrvresortfl.com/event/horseshoes-170/
END:VEVENT
BEGIN:VEVENT
DTSTART;TZID=America/Chicago:20250101T100000
DTEND;TZID=America/Chicago:20250101T120000
DTSTAMP:20260425T220249
CREATED:20250114T130108Z
LAST-MODIFIED:20250114T130108Z
UID:17304-1735725600-1735732800@hillcrestrvresortfl.com
SUMMARY:Scrabble
DESCRIPTION:
URL:https://hillcrestrvresortfl.com/event/scrabble-23/
END:VEVENT
BEGIN:VEVENT
DTSTART;TZID=America/Chicago:20250101T100000
DTEND;TZID=America/Chicago:20250101T130000
DTSTAMP:20260425T220249
CREATED:20250114T124627Z
LAST-MODIFIED:20250114T124627Z
UID:17275-1735725600-1735736400@hillcrestrvresortfl.com
SUMMARY:Women's Billiards
DESCRIPTION:
URL:https://hillcrestrvresortfl.com/event/womens-billiards-29/
END:VEVENT
BEGIN:VEVENT
DTSTART;TZID=America/Chicago:20250101T100000
DTEND;TZID=America/Chicago:20250101T170000
DTSTAMP:20260425T220249
CREATED:20250113T205008Z
LAST-MODIFIED:20250113T205008Z
UID:17212-1735725600-1735750800@hillcrestrvresortfl.com
SUMMARY:Pentanque
DESCRIPTION:
URL:https://hillcrestrvresortfl.com/event/pentanque-79/
END:VEVENT
BEGIN:VEVENT
DTSTART;TZID=America/Chicago:20250101T103000
DTEND;TZID=America/Chicago:20250101T170000
DTSTAMP:20260425T220249
CREATED:20250114T130315Z
LAST-MODIFIED:20250114T130315Z
UID:17314-1735727400-1735750800@hillcrestrvresortfl.com
SUMMARY:Golf
DESCRIPTION:
URL:https://hillcrestrvresortfl.com/event/golf-9/
END:VEVENT
BEGIN:VEVENT
DTSTART;TZID=America/Chicago:20250101T180000
DTEND;TZID=America/Chicago:20250101T210000
DTSTAMP:20260425T220249
CREATED:20250113T130912Z
LAST-MODIFIED:20250113T130912Z
UID:16777-1735754400-1735765200@hillcrestrvresortfl.com
SUMMARY:Darts
DESCRIPTION:
URL:https://hillcrestrvresortfl.com/event/darts-17/
END:VEVENT
BEGIN:VEVENT
DTSTART;TZID=America/Chicago:20250101T180000
DTEND;TZID=America/Chicago:20250101T210000
DTSTAMP:20260425T220249
CREATED:20250114T130524Z
LAST-MODIFIED:20250114T130524Z
UID:17324-1735754400-1735765200@hillcrestrvresortfl.com
SUMMARY:Game Night
DESCRIPTION:
URL:https://hillcrestrvresortfl.com/event/game-night-46/
END:VEVENT
END:VCALENDAR