BEGIN:VCALENDAR
VERSION:2.0
PRODID:-//Hillcrest RV Resort - ECPv6.15.20//NONSGML v1.0//EN
CALSCALE:GREGORIAN
METHOD:PUBLISH
X-ORIGINAL-URL:https://hillcrestrvresortfl.com
X-WR-CALDESC:Events for Hillcrest RV Resort
REFRESH-INTERVAL;VALUE=DURATION:PT1H
X-Robots-Tag:noindex
X-PUBLISHED-TTL:PT1H
BEGIN:VTIMEZONE
TZID:America/Chicago
BEGIN:DAYLIGHT
TZOFFSETFROM:-0600
TZOFFSETTO:-0500
TZNAME:CDT
DTSTART:20230312T080000
END:DAYLIGHT
BEGIN:STANDARD
TZOFFSETFROM:-0500
TZOFFSETTO:-0600
TZNAME:CST
DTSTART:20231105T070000
END:STANDARD
BEGIN:DAYLIGHT
TZOFFSETFROM:-0600
TZOFFSETTO:-0500
TZNAME:CDT
DTSTART:20240310T080000
END:DAYLIGHT
BEGIN:STANDARD
TZOFFSETFROM:-0500
TZOFFSETTO:-0600
TZNAME:CST
DTSTART:20241103T070000
END:STANDARD
BEGIN:DAYLIGHT
TZOFFSETFROM:-0600
TZOFFSETTO:-0500
TZNAME:CDT
DTSTART:20250309T080000
END:DAYLIGHT
BEGIN:STANDARD
TZOFFSETFROM:-0500
TZOFFSETTO:-0600
TZNAME:CST
DTSTART:20251102T070000
END:STANDARD
END:VTIMEZONE
BEGIN:VEVENT
DTSTART;VALUE=DATE:20241231
DTEND;VALUE=DATE:20250101
DTSTAMP:20260425T220306
CREATED:20241127T131752Z
LAST-MODIFIED:20241127T131752Z
UID:16723-1735603200-1735689599@hillcrestrvresortfl.com
SUMMARY:Pickleball
DESCRIPTION:
URL:https://hillcrestrvresortfl.com/event/pickleball-159/
END:VEVENT
BEGIN:VEVENT
DTSTART;TZID=America/Chicago:20241231T080000
DTEND;TZID=America/Chicago:20241231T110000
DTSTAMP:20260425T220306
CREATED:20241126T181245Z
LAST-MODIFIED:20241126T181245Z
UID:16419-1735632000-1735642800@hillcrestrvresortfl.com
SUMMARY:Water Aerobics
DESCRIPTION:
URL:https://hillcrestrvresortfl.com/event/water-aerobics-145/
END:VEVENT
BEGIN:VEVENT
DTSTART;TZID=America/Chicago:20241231T090000
DTEND;TZID=America/Chicago:20241231T170000
DTSTAMP:20260425T220306
CREATED:20241127T132636Z
LAST-MODIFIED:20241127T132636Z
UID:16767-1735635600-1735664400@hillcrestrvresortfl.com
SUMMARY:Horseshoes
DESCRIPTION:
URL:https://hillcrestrvresortfl.com/event/horseshoes-139/
END:VEVENT
BEGIN:VEVENT
DTSTART;TZID=America/Chicago:20241231T093000
DTEND;TZID=America/Chicago:20241231T103000
DTSTAMP:20260425T220306
CREATED:20241126T195906Z
LAST-MODIFIED:20241126T195906Z
UID:16555-1735637400-1735641000@hillcrestrvresortfl.com
SUMMARY:OSS (One Stop Shopping)
DESCRIPTION:
URL:https://hillcrestrvresortfl.com/event/oss-one-stop-shopping-5/
END:VEVENT
BEGIN:VEVENT
DTSTART;TZID=America/Chicago:20241231T093000
DTEND;TZID=America/Chicago:20241231T113000
DTSTAMP:20260425T220306
CREATED:20241126T170852Z
LAST-MODIFIED:20241126T170852Z
UID:16373-1735637400-1735644600@hillcrestrvresortfl.com
SUMMARY:Shuffleboard
DESCRIPTION:
URL:https://hillcrestrvresortfl.com/event/shuffleboard-146/
END:VEVENT
BEGIN:VEVENT
DTSTART;TZID=America/Chicago:20241231T100000
DTEND;TZID=America/Chicago:20241231T150000
DTSTAMP:20260425T220306
CREATED:20241126T185108Z
LAST-MODIFIED:20241126T185108Z
UID:16481-1735639200-1735657200@hillcrestrvresortfl.com
SUMMARY:Pentanque
DESCRIPTION:
URL:https://hillcrestrvresortfl.com/event/pentanque-78/
END:VEVENT
BEGIN:VEVENT
DTSTART;TZID=America/Chicago:20241231T103000
DTEND;TZID=America/Chicago:20241231T120000
DTSTAMP:20260425T220306
CREATED:20241126T200218Z
LAST-MODIFIED:20241126T200218Z
UID:16565-1735641000-1735646400@hillcrestrvresortfl.com
SUMMARY:Adv Line Dancing (Robert)
DESCRIPTION:
URL:https://hillcrestrvresortfl.com/event/adv-line-dancing-robert-5/
END:VEVENT
BEGIN:VEVENT
DTSTART;TZID=America/Chicago:20241231T130000
DTEND;TZID=America/Chicago:20241231T170000
DTSTAMP:20260425T220306
CREATED:20241126T141109Z
LAST-MODIFIED:20241126T141109Z
UID:16257-1735650000-1735664400@hillcrestrvresortfl.com
SUMMARY:Men's Billiards
DESCRIPTION:
URL:https://hillcrestrvresortfl.com/event/mens-billiards-47/
END:VEVENT
BEGIN:VEVENT
DTSTART;TZID=America/Chicago:20241231T140000
DTEND;TZID=America/Chicago:20241231T160000
DTSTAMP:20260425T220306
CREATED:20241126T202846Z
LAST-MODIFIED:20241126T202846Z
UID:16585-1735653600-1735660800@hillcrestrvresortfl.com
SUMMARY:Jewelry Craft
DESCRIPTION:
URL:https://hillcrestrvresortfl.com/event/jewelry-craft-3/
END:VEVENT
BEGIN:VEVENT
DTSTART;TZID=America/Chicago:20241231T180000
DTEND;TZID=America/Chicago:20241231T210000
DTSTAMP:20260425T220306
CREATED:20241126T141721Z
LAST-MODIFIED:20241126T141721Z
UID:16281-1735668000-1735678800@hillcrestrvresortfl.com
SUMMARY:Bid Euchre
DESCRIPTION:
URL:https://hillcrestrvresortfl.com/event/bid-euchre-30/
END:VEVENT
BEGIN:VEVENT
DTSTART;TZID=America/Chicago:20241231T180000
DTEND;TZID=America/Chicago:20241231T210000
DTSTAMP:20260425T220306
CREATED:20241126T142108Z
LAST-MODIFIED:20241126T142108Z
UID:16297-1735668000-1735678800@hillcrestrvresortfl.com
SUMMARY:Texas Hold'Em
DESCRIPTION:
URL:https://hillcrestrvresortfl.com/event/texas-holdem-28/
END:VEVENT
BEGIN:VEVENT
DTSTART;TZID=America/Chicago:20241231T193000
DTEND;TZID=America/Chicago:20241231T233000
DTSTAMP:20260425T220306
CREATED:20241126T202928Z
LAST-MODIFIED:20241126T202928Z
UID:16587-1735673400-1735687800@hillcrestrvresortfl.com
SUMMARY:New Year's Eve Dance w/DJ
DESCRIPTION:
URL:https://hillcrestrvresortfl.com/event/new-years-eve-dance-w-dj/
END:VEVENT
END:VCALENDAR