BEGIN:VCALENDAR
VERSION:2.0
PRODID:-//Hillcrest RV Resort - ECPv6.15.20//NONSGML v1.0//EN
CALSCALE:GREGORIAN
METHOD:PUBLISH
X-WR-CALNAME:Hillcrest RV Resort
X-ORIGINAL-URL:https://hillcrestrvresortfl.com
X-WR-CALDESC:Events for Hillcrest RV Resort
REFRESH-INTERVAL;VALUE=DURATION:PT1H
X-Robots-Tag:noindex
X-PUBLISHED-TTL:PT1H
BEGIN:VTIMEZONE
TZID:America/Chicago
BEGIN:DAYLIGHT
TZOFFSETFROM:-0600
TZOFFSETTO:-0500
TZNAME:CDT
DTSTART:20230312T080000
END:DAYLIGHT
BEGIN:STANDARD
TZOFFSETFROM:-0500
TZOFFSETTO:-0600
TZNAME:CST
DTSTART:20231105T070000
END:STANDARD
BEGIN:DAYLIGHT
TZOFFSETFROM:-0600
TZOFFSETTO:-0500
TZNAME:CDT
DTSTART:20240310T080000
END:DAYLIGHT
BEGIN:STANDARD
TZOFFSETFROM:-0500
TZOFFSETTO:-0600
TZNAME:CST
DTSTART:20241103T070000
END:STANDARD
BEGIN:DAYLIGHT
TZOFFSETFROM:-0600
TZOFFSETTO:-0500
TZNAME:CDT
DTSTART:20250309T080000
END:DAYLIGHT
BEGIN:STANDARD
TZOFFSETFROM:-0500
TZOFFSETTO:-0600
TZNAME:CST
DTSTART:20251102T070000
END:STANDARD
END:VTIMEZONE
BEGIN:VEVENT
DTSTART;VALUE=DATE:20241226
DTEND;VALUE=DATE:20241227
DTSTAMP:20260425T232009
CREATED:20241127T131622Z
LAST-MODIFIED:20241127T131622Z
UID:16713-1735171200-1735257599@hillcrestrvresortfl.com
SUMMARY:Pickleball
DESCRIPTION:
URL:https://hillcrestrvresortfl.com/event/pickleball-154/
END:VEVENT
BEGIN:VEVENT
DTSTART;TZID=America/Chicago:20241226T080000
DTEND;TZID=America/Chicago:20241226T110000
DTSTAMP:20260425T232009
CREATED:20241126T181039Z
LAST-MODIFIED:20241126T181039Z
UID:16411-1735200000-1735210800@hillcrestrvresortfl.com
SUMMARY:Water Aerobics
DESCRIPTION:
URL:https://hillcrestrvresortfl.com/event/water-aerobics-142/
END:VEVENT
BEGIN:VEVENT
DTSTART;TZID=America/Chicago:20241226T090000
DTEND;TZID=America/Chicago:20241226T103000
DTSTAMP:20260425T232009
CREATED:20241126T142657Z
LAST-MODIFIED:20241126T142657Z
UID:16321-1735203600-1735209000@hillcrestrvresortfl.com
SUMMARY:Choir Practice
DESCRIPTION:
URL:https://hillcrestrvresortfl.com/event/choir-practice-8/
END:VEVENT
BEGIN:VEVENT
DTSTART;TZID=America/Chicago:20241226T090000
DTEND;TZID=America/Chicago:20241226T170000
DTSTAMP:20260425T232009
CREATED:20241127T132551Z
LAST-MODIFIED:20241127T132551Z
UID:16761-1735203600-1735232400@hillcrestrvresortfl.com
SUMMARY:Horseshoes
DESCRIPTION:
URL:https://hillcrestrvresortfl.com/event/horseshoes-136/
END:VEVENT
BEGIN:VEVENT
DTSTART;TZID=America/Chicago:20241226T093000
DTEND;TZID=America/Chicago:20241226T123000
DTSTAMP:20260425T232009
CREATED:20241126T170748Z
LAST-MODIFIED:20241126T170748Z
UID:16367-1735205400-1735216200@hillcrestrvresortfl.com
SUMMARY:Shuffleboard
DESCRIPTION:
URL:https://hillcrestrvresortfl.com/event/shuffleboard-143/
END:VEVENT
BEGIN:VEVENT
DTSTART;TZID=America/Chicago:20241226T100000
DTEND;TZID=America/Chicago:20241226T113000
DTSTAMP:20260425T232009
CREATED:20241126T204623Z
LAST-MODIFIED:20241126T204623Z
UID:16623-1735207200-1735212600@hillcrestrvresortfl.com
SUMMARY:Dancersize
DESCRIPTION:
URL:https://hillcrestrvresortfl.com/event/dancersize-8/
END:VEVENT
BEGIN:VEVENT
DTSTART;TZID=America/Chicago:20241226T100000
DTEND;TZID=America/Chicago:20241226T150000
DTSTAMP:20260425T232009
CREATED:20241126T182939Z
LAST-MODIFIED:20241126T182939Z
UID:16471-1735207200-1735225200@hillcrestrvresortfl.com
SUMMARY:Pentanque
DESCRIPTION:
URL:https://hillcrestrvresortfl.com/event/pentanque-73/
END:VEVENT
BEGIN:VEVENT
DTSTART;TZID=America/Chicago:20241226T130000
DTEND;TZID=America/Chicago:20241226T143000
DTSTAMP:20260425T232009
CREATED:20241126T204828Z
LAST-MODIFIED:20241126T204828Z
UID:16631-1735218000-1735223400@hillcrestrvresortfl.com
SUMMARY:Line Dancing W/Dena
DESCRIPTION:
URL:https://hillcrestrvresortfl.com/event/line-dancing-w-dena-4/
END:VEVENT
BEGIN:VEVENT
DTSTART;TZID=America/Chicago:20241226T150000
DTEND;TZID=America/Chicago:20241226T170000
DTSTAMP:20260425T232009
CREATED:20241126T205026Z
LAST-MODIFIED:20241126T205026Z
UID:16639-1735225200-1735232400@hillcrestrvresortfl.com
SUMMARY:Acoustic Jam
DESCRIPTION:
URL:https://hillcrestrvresortfl.com/event/acoustic-jam-23/
END:VEVENT
BEGIN:VEVENT
DTSTART;TZID=America/Chicago:20241226T180000
DTEND;TZID=America/Chicago:20241226T210000
DTSTAMP:20260425T232009
CREATED:20241126T141906Z
LAST-MODIFIED:20241126T141906Z
UID:16289-1735236000-1735246800@hillcrestrvresortfl.com
SUMMARY:Bid Euchre
DESCRIPTION:
URL:https://hillcrestrvresortfl.com/event/bid-euchre-34/
END:VEVENT
BEGIN:VEVENT
DTSTART;TZID=America/Chicago:20241226T183000
DTEND;TZID=America/Chicago:20241226T210000
DTSTAMP:20260425T232009
CREATED:20241126T141309Z
LAST-MODIFIED:20241126T141309Z
UID:16265-1735237800-1735246800@hillcrestrvresortfl.com
SUMMARY:Men's Billiards
DESCRIPTION:
URL:https://hillcrestrvresortfl.com/event/mens-billiards-51/
END:VEVENT
BEGIN:VEVENT
DTSTART;TZID=America/Chicago:20241226T183000
DTEND;TZID=America/Chicago:20241226T210000
DTSTAMP:20260425T232009
CREATED:20241126T194403Z
LAST-MODIFIED:20241126T194403Z
UID:16537-1735237800-1735246800@hillcrestrvresortfl.com
SUMMARY:Bingo
DESCRIPTION:
URL:https://hillcrestrvresortfl.com/event/bingo-43/
END:VEVENT
END:VCALENDAR