BEGIN:VCALENDAR
VERSION:2.0
PRODID:-//Hillcrest RV Resort - ECPv6.15.20//NONSGML v1.0//EN
CALSCALE:GREGORIAN
METHOD:PUBLISH
X-ORIGINAL-URL:https://hillcrestrvresortfl.com
X-WR-CALDESC:Events for Hillcrest RV Resort
REFRESH-INTERVAL;VALUE=DURATION:PT1H
X-Robots-Tag:noindex
X-PUBLISHED-TTL:PT1H
BEGIN:VTIMEZONE
TZID:America/Chicago
BEGIN:DAYLIGHT
TZOFFSETFROM:-0600
TZOFFSETTO:-0500
TZNAME:CDT
DTSTART:20230312T080000
END:DAYLIGHT
BEGIN:STANDARD
TZOFFSETFROM:-0500
TZOFFSETTO:-0600
TZNAME:CST
DTSTART:20231105T070000
END:STANDARD
BEGIN:DAYLIGHT
TZOFFSETFROM:-0600
TZOFFSETTO:-0500
TZNAME:CDT
DTSTART:20240310T080000
END:DAYLIGHT
BEGIN:STANDARD
TZOFFSETFROM:-0500
TZOFFSETTO:-0600
TZNAME:CST
DTSTART:20241103T070000
END:STANDARD
BEGIN:DAYLIGHT
TZOFFSETFROM:-0600
TZOFFSETTO:-0500
TZNAME:CDT
DTSTART:20250309T080000
END:DAYLIGHT
BEGIN:STANDARD
TZOFFSETFROM:-0500
TZOFFSETTO:-0600
TZNAME:CST
DTSTART:20251102T070000
END:STANDARD
END:VTIMEZONE
BEGIN:VEVENT
DTSTART;VALUE=DATE:20241225
DTEND;VALUE=DATE:20241226
DTSTAMP:20260425T232044
CREATED:20241127T131607Z
LAST-MODIFIED:20241127T131607Z
UID:16711-1735084800-1735171199@hillcrestrvresortfl.com
SUMMARY:Pickleball
DESCRIPTION:
URL:https://hillcrestrvresortfl.com/event/pickleball-153/
END:VEVENT
BEGIN:VEVENT
DTSTART;TZID=America/Chicago:20241225T080000
DTEND;TZID=America/Chicago:20241225T110000
DTSTAMP:20260425T232044
CREATED:20241126T181019Z
LAST-MODIFIED:20241126T181019Z
UID:16409-1735113600-1735124400@hillcrestrvresortfl.com
SUMMARY:Water Aerobics
DESCRIPTION:
URL:https://hillcrestrvresortfl.com/event/water-aerobics-141/
END:VEVENT
BEGIN:VEVENT
DTSTART;TZID=America/Chicago:20241225T090000
DTEND;TZID=America/Chicago:20241225T170000
DTSTAMP:20260425T232044
CREATED:20241127T132535Z
LAST-MODIFIED:20241127T132535Z
UID:16759-1735117200-1735146000@hillcrestrvresortfl.com
SUMMARY:Horseshoes
DESCRIPTION:
URL:https://hillcrestrvresortfl.com/event/horseshoes-135/
END:VEVENT
BEGIN:VEVENT
DTSTART;TZID=America/Chicago:20241225T093000
DTEND;TZID=America/Chicago:20241225T113000
DTSTAMP:20260425T232044
CREATED:20241126T170652Z
LAST-MODIFIED:20241126T170652Z
UID:16363-1735119000-1735126200@hillcrestrvresortfl.com
SUMMARY:Shuffleboard
DESCRIPTION:
URL:https://hillcrestrvresortfl.com/event/shuffleboard-141/
END:VEVENT
BEGIN:VEVENT
DTSTART;TZID=America/Chicago:20241225T100000
DTEND;TZID=America/Chicago:20241225T130000
DTSTAMP:20260425T232044
CREATED:20241126T142321Z
LAST-MODIFIED:20241126T142321Z
UID:16305-1735120800-1735131600@hillcrestrvresortfl.com
SUMMARY:Scrabble
DESCRIPTION:
URL:https://hillcrestrvresortfl.com/event/scrabble-22/
END:VEVENT
BEGIN:VEVENT
DTSTART;TZID=America/Chicago:20241225T100000
DTEND;TZID=America/Chicago:20241225T150000
DTSTAMP:20260425T232044
CREATED:20241126T182915Z
LAST-MODIFIED:20241126T182915Z
UID:16469-1735120800-1735138800@hillcrestrvresortfl.com
SUMMARY:Pentanque
DESCRIPTION:
URL:https://hillcrestrvresortfl.com/event/pentanque-72/
END:VEVENT
BEGIN:VEVENT
DTSTART;TZID=America/Chicago:20241225T103000
DTEND;TZID=America/Chicago:20241225T170000
DTSTAMP:20260425T232044
CREATED:20241126T142453Z
LAST-MODIFIED:20241126T142453Z
UID:16313-1735122600-1735146000@hillcrestrvresortfl.com
SUMMARY:Golf
DESCRIPTION:
URL:https://hillcrestrvresortfl.com/event/golf-8/
END:VEVENT
BEGIN:VEVENT
DTSTART;TZID=America/Chicago:20241225T160000
DTEND;TZID=America/Chicago:20241225T180000
DTSTAMP:20260425T232044
CREATED:20241126T203310Z
LAST-MODIFIED:20241126T203310Z
UID:16601-1735142400-1735149600@hillcrestrvresortfl.com
SUMMARY:Christmas Dinner
DESCRIPTION:
URL:https://hillcrestrvresortfl.com/event/christmas-dinner-2/
END:VEVENT
BEGIN:VEVENT
DTSTART;TZID=America/Chicago:20241225T180000
DTEND;TZID=America/Chicago:20241225T210000
DTSTAMP:20260425T232044
CREATED:20241126T140845Z
LAST-MODIFIED:20241126T140845Z
UID:16247-1735149600-1735160400@hillcrestrvresortfl.com
SUMMARY:Game Night
DESCRIPTION:
URL:https://hillcrestrvresortfl.com/event/game-night-45/
END:VEVENT
END:VCALENDAR