BEGIN:VCALENDAR
VERSION:2.0
PRODID:-//Hillcrest RV Resort - ECPv6.15.20//NONSGML v1.0//EN
CALSCALE:GREGORIAN
METHOD:PUBLISH
X-WR-CALNAME:Hillcrest RV Resort
X-ORIGINAL-URL:https://hillcrestrvresortfl.com
X-WR-CALDESC:Events for Hillcrest RV Resort
REFRESH-INTERVAL;VALUE=DURATION:PT1H
X-Robots-Tag:noindex
X-PUBLISHED-TTL:PT1H
BEGIN:VTIMEZONE
TZID:America/Chicago
BEGIN:DAYLIGHT
TZOFFSETFROM:-0600
TZOFFSETTO:-0500
TZNAME:CDT
DTSTART:20230312T080000
END:DAYLIGHT
BEGIN:STANDARD
TZOFFSETFROM:-0500
TZOFFSETTO:-0600
TZNAME:CST
DTSTART:20231105T070000
END:STANDARD
BEGIN:DAYLIGHT
TZOFFSETFROM:-0600
TZOFFSETTO:-0500
TZNAME:CDT
DTSTART:20240310T080000
END:DAYLIGHT
BEGIN:STANDARD
TZOFFSETFROM:-0500
TZOFFSETTO:-0600
TZNAME:CST
DTSTART:20241103T070000
END:STANDARD
BEGIN:DAYLIGHT
TZOFFSETFROM:-0600
TZOFFSETTO:-0500
TZNAME:CDT
DTSTART:20250309T080000
END:DAYLIGHT
BEGIN:STANDARD
TZOFFSETFROM:-0500
TZOFFSETTO:-0600
TZNAME:CST
DTSTART:20251102T070000
END:STANDARD
END:VTIMEZONE
BEGIN:VEVENT
DTSTART;VALUE=DATE:20241224
DTEND;VALUE=DATE:20241225
DTSTAMP:20260425T232010
CREATED:20241127T131542Z
LAST-MODIFIED:20241127T131542Z
UID:16709-1734998400-1735084799@hillcrestrvresortfl.com
SUMMARY:Pickleball
DESCRIPTION:
URL:https://hillcrestrvresortfl.com/event/pickleball-152/
END:VEVENT
BEGIN:VEVENT
DTSTART;TZID=America/Chicago:20241224T090000
DTEND;TZID=America/Chicago:20241224T170000
DTSTAMP:20260425T232010
CREATED:20241127T132519Z
LAST-MODIFIED:20241127T132519Z
UID:16757-1735030800-1735059600@hillcrestrvresortfl.com
SUMMARY:Horseshoes
DESCRIPTION:
URL:https://hillcrestrvresortfl.com/event/horseshoes-134/
END:VEVENT
BEGIN:VEVENT
DTSTART;TZID=America/Chicago:20241224T093000
DTEND;TZID=America/Chicago:20241224T103000
DTSTAMP:20260425T232010
CREATED:20241126T195840Z
LAST-MODIFIED:20241126T195840Z
UID:16553-1735032600-1735036200@hillcrestrvresortfl.com
SUMMARY:OSS (One Stop Shopping)
DESCRIPTION:
URL:https://hillcrestrvresortfl.com/event/oss-one-stop-shopping-4/
END:VEVENT
BEGIN:VEVENT
DTSTART;TZID=America/Chicago:20241224T093000
DTEND;TZID=America/Chicago:20241224T113000
DTSTAMP:20260425T232010
CREATED:20241126T170723Z
LAST-MODIFIED:20241126T170723Z
UID:16365-1735032600-1735039800@hillcrestrvresortfl.com
SUMMARY:Shuffleboard
DESCRIPTION:
URL:https://hillcrestrvresortfl.com/event/shuffleboard-142/
END:VEVENT
BEGIN:VEVENT
DTSTART;TZID=America/Chicago:20241224T100000
DTEND;TZID=America/Chicago:20241224T150000
DTSTAMP:20260425T232010
CREATED:20241126T182854Z
LAST-MODIFIED:20241126T182854Z
UID:16467-1735034400-1735052400@hillcrestrvresortfl.com
SUMMARY:Pentanque
DESCRIPTION:
URL:https://hillcrestrvresortfl.com/event/pentanque-71/
END:VEVENT
BEGIN:VEVENT
DTSTART;TZID=America/Chicago:20241224T103000
DTEND;TZID=America/Chicago:20241224T120000
DTSTAMP:20260425T232010
CREATED:20241126T200151Z
LAST-MODIFIED:20241126T200151Z
UID:16563-1735036200-1735041600@hillcrestrvresortfl.com
SUMMARY:Adv Line Dancing (Robert)
DESCRIPTION:
URL:https://hillcrestrvresortfl.com/event/adv-line-dancing-robert-4/
END:VEVENT
BEGIN:VEVENT
DTSTART;TZID=America/Chicago:20241224T130000
DTEND;TZID=America/Chicago:20241224T170000
DTSTAMP:20260425T232010
CREATED:20241126T141047Z
LAST-MODIFIED:20241126T141047Z
UID:16255-1735045200-1735059600@hillcrestrvresortfl.com
SUMMARY:Men's Billiards
DESCRIPTION:
URL:https://hillcrestrvresortfl.com/event/mens-billiards-46/
END:VEVENT
BEGIN:VEVENT
DTSTART;TZID=America/Chicago:20241224T140000
DTEND;TZID=America/Chicago:20241224T160000
DTSTAMP:20260425T232010
CREATED:20241126T202822Z
LAST-MODIFIED:20241126T202822Z
UID:16583-1735048800-1735056000@hillcrestrvresortfl.com
SUMMARY:Jewelry Craft
DESCRIPTION:
URL:https://hillcrestrvresortfl.com/event/jewelry-craft-2/
END:VEVENT
BEGIN:VEVENT
DTSTART;TZID=America/Chicago:20241224T180000
DTEND;TZID=America/Chicago:20241224T210000
DTSTAMP:20260425T232010
CREATED:20241126T202406Z
LAST-MODIFIED:20241126T202406Z
UID:16573-1735063200-1735074000@hillcrestrvresortfl.com
SUMMARY:Karaoke
DESCRIPTION:
URL:https://hillcrestrvresortfl.com/event/karaoke-21/
END:VEVENT
BEGIN:VEVENT
DTSTART;TZID=America/Chicago:20241224T210000
DTEND;TZID=America/Chicago:20241224T223000
DTSTAMP:20260425T232010
CREATED:20241127T141055Z
LAST-MODIFIED:20241127T141055Z
UID:16773-1735074000-1735079400@hillcrestrvresortfl.com
SUMMARY:Christmas Candle Light Service
DESCRIPTION:
URL:https://hillcrestrvresortfl.com/event/christmas-candle-light-service/
END:VEVENT
END:VCALENDAR