BEGIN:VCALENDAR
VERSION:2.0
PRODID:-//Hillcrest RV Resort - ECPv6.15.20//NONSGML v1.0//EN
CALSCALE:GREGORIAN
METHOD:PUBLISH
X-WR-CALNAME:Hillcrest RV Resort
X-ORIGINAL-URL:https://hillcrestrvresortfl.com
X-WR-CALDESC:Events for Hillcrest RV Resort
REFRESH-INTERVAL;VALUE=DURATION:PT1H
X-Robots-Tag:noindex
X-PUBLISHED-TTL:PT1H
BEGIN:VTIMEZONE
TZID:America/Chicago
BEGIN:DAYLIGHT
TZOFFSETFROM:-0600
TZOFFSETTO:-0500
TZNAME:CDT
DTSTART:20230312T080000
END:DAYLIGHT
BEGIN:STANDARD
TZOFFSETFROM:-0500
TZOFFSETTO:-0600
TZNAME:CST
DTSTART:20231105T070000
END:STANDARD
BEGIN:DAYLIGHT
TZOFFSETFROM:-0600
TZOFFSETTO:-0500
TZNAME:CDT
DTSTART:20240310T080000
END:DAYLIGHT
BEGIN:STANDARD
TZOFFSETFROM:-0500
TZOFFSETTO:-0600
TZNAME:CST
DTSTART:20241103T070000
END:STANDARD
BEGIN:DAYLIGHT
TZOFFSETFROM:-0600
TZOFFSETTO:-0500
TZNAME:CDT
DTSTART:20250309T080000
END:DAYLIGHT
BEGIN:STANDARD
TZOFFSETFROM:-0500
TZOFFSETTO:-0600
TZNAME:CST
DTSTART:20251102T070000
END:STANDARD
END:VTIMEZONE
BEGIN:VEVENT
DTSTART;VALUE=DATE:20241223
DTEND;VALUE=DATE:20241224
DTSTAMP:20260425T231937
CREATED:20241127T131525Z
LAST-MODIFIED:20241127T131525Z
UID:16707-1734912000-1734998399@hillcrestrvresortfl.com
SUMMARY:Pickleball
DESCRIPTION:
URL:https://hillcrestrvresortfl.com/event/pickleball-151/
END:VEVENT
BEGIN:VEVENT
DTSTART;TZID=America/Chicago:20241223T073000
DTEND;TZID=America/Chicago:20241223T090000
DTSTAMP:20260425T231937
CREATED:20241126T190606Z
LAST-MODIFIED:20241126T190606Z
UID:16507-1734939000-1734944400@hillcrestrvresortfl.com
SUMMARY:Breakfast
DESCRIPTION:
URL:https://hillcrestrvresortfl.com/event/breakfast-18/
END:VEVENT
BEGIN:VEVENT
DTSTART;TZID=America/Chicago:20241223T080000
DTEND;TZID=America/Chicago:20241223T110000
DTSTAMP:20260425T231937
CREATED:20241126T180853Z
LAST-MODIFIED:20241126T180853Z
UID:16405-1734940800-1734951600@hillcrestrvresortfl.com
SUMMARY:Water Aerobics
DESCRIPTION:
URL:https://hillcrestrvresortfl.com/event/water-aerobics-139/
END:VEVENT
BEGIN:VEVENT
DTSTART;TZID=America/Chicago:20241223T090000
DTEND;TZID=America/Chicago:20241223T170000
DTSTAMP:20260425T231937
CREATED:20241127T132503Z
LAST-MODIFIED:20241127T132503Z
UID:16755-1734944400-1734973200@hillcrestrvresortfl.com
SUMMARY:Horseshoes
DESCRIPTION:
URL:https://hillcrestrvresortfl.com/event/horseshoes-133/
END:VEVENT
BEGIN:VEVENT
DTSTART;TZID=America/Chicago:20241223T093000
DTEND;TZID=America/Chicago:20241223T113000
DTSTAMP:20260425T231937
CREATED:20241126T170627Z
LAST-MODIFIED:20241126T170627Z
UID:16361-1734946200-1734953400@hillcrestrvresortfl.com
SUMMARY:Shuffleboard
DESCRIPTION:
URL:https://hillcrestrvresortfl.com/event/shuffleboard-140/
END:VEVENT
BEGIN:VEVENT
DTSTART;TZID=America/Chicago:20241223T100000
DTEND;TZID=America/Chicago:20241223T110000
DTSTAMP:20260425T231937
CREATED:20241126T194611Z
LAST-MODIFIED:20241126T194611Z
UID:16543-1734948000-1734951600@hillcrestrvresortfl.com
SUMMARY:Dancersize
DESCRIPTION:
URL:https://hillcrestrvresortfl.com/event/dancersize-3/
END:VEVENT
BEGIN:VEVENT
DTSTART;TZID=America/Chicago:20241223T100000
DTEND;TZID=America/Chicago:20241223T150000
DTSTAMP:20260425T231937
CREATED:20241126T182834Z
LAST-MODIFIED:20241126T182834Z
UID:16465-1734948000-1734966000@hillcrestrvresortfl.com
SUMMARY:Pentanque
DESCRIPTION:
URL:https://hillcrestrvresortfl.com/event/pentanque-70/
END:VEVENT
BEGIN:VEVENT
DTSTART;TZID=America/Chicago:20241223T130000
DTEND;TZID=America/Chicago:20241223T170000
DTSTAMP:20260425T231937
CREATED:20241126T140342Z
LAST-MODIFIED:20241126T140342Z
UID:16227-1734958800-1734973200@hillcrestrvresortfl.com
SUMMARY:Cribbage
DESCRIPTION:
URL:https://hillcrestrvresortfl.com/event/cribbage-17/
END:VEVENT
BEGIN:VEVENT
DTSTART;TZID=America/Chicago:20241223T180000
DTEND;TZID=America/Chicago:20241223T210000
DTSTAMP:20260425T231937
CREATED:20241126T140628Z
LAST-MODIFIED:20241126T140628Z
UID:16237-1734976800-1734987600@hillcrestrvresortfl.com
SUMMARY:Game Night
DESCRIPTION:
URL:https://hillcrestrvresortfl.com/event/game-night-40/
END:VEVENT
BEGIN:VEVENT
DTSTART;TZID=America/Chicago:20241223T183000
DTEND;TZID=America/Chicago:20241223T210000
DTSTAMP:20260425T231937
CREATED:20241126T194146Z
LAST-MODIFIED:20241126T194146Z
UID:16527-1734978600-1734987600@hillcrestrvresortfl.com
SUMMARY:Bingo
DESCRIPTION:
URL:https://hillcrestrvresortfl.com/event/bingo-38/
END:VEVENT
END:VCALENDAR