BEGIN:VCALENDAR
VERSION:2.0
PRODID:-//Hillcrest RV Resort - ECPv6.15.20//NONSGML v1.0//EN
CALSCALE:GREGORIAN
METHOD:PUBLISH
X-ORIGINAL-URL:https://hillcrestrvresortfl.com
X-WR-CALDESC:Events for Hillcrest RV Resort
REFRESH-INTERVAL;VALUE=DURATION:PT1H
X-Robots-Tag:noindex
X-PUBLISHED-TTL:PT1H
BEGIN:VTIMEZONE
TZID:America/Chicago
BEGIN:DAYLIGHT
TZOFFSETFROM:-0600
TZOFFSETTO:-0500
TZNAME:CDT
DTSTART:20230312T080000
END:DAYLIGHT
BEGIN:STANDARD
TZOFFSETFROM:-0500
TZOFFSETTO:-0600
TZNAME:CST
DTSTART:20231105T070000
END:STANDARD
BEGIN:DAYLIGHT
TZOFFSETFROM:-0600
TZOFFSETTO:-0500
TZNAME:CDT
DTSTART:20240310T080000
END:DAYLIGHT
BEGIN:STANDARD
TZOFFSETFROM:-0500
TZOFFSETTO:-0600
TZNAME:CST
DTSTART:20241103T070000
END:STANDARD
BEGIN:DAYLIGHT
TZOFFSETFROM:-0600
TZOFFSETTO:-0500
TZNAME:CDT
DTSTART:20250309T080000
END:DAYLIGHT
BEGIN:STANDARD
TZOFFSETFROM:-0500
TZOFFSETTO:-0600
TZNAME:CST
DTSTART:20251102T070000
END:STANDARD
END:VTIMEZONE
BEGIN:VEVENT
DTSTART;VALUE=DATE:20241220
DTEND;VALUE=DATE:20241221
DTSTAMP:20260425T231658
CREATED:20241127T131428Z
LAST-MODIFIED:20241127T131428Z
UID:16701-1734652800-1734739199@hillcrestrvresortfl.com
SUMMARY:Pickleball
DESCRIPTION:
URL:https://hillcrestrvresortfl.com/event/pickleball-148/
END:VEVENT
BEGIN:VEVENT
DTSTART;TZID=America/Chicago:20241220T080000
DTEND;TZID=America/Chicago:20241220T110000
DTSTAMP:20260425T231658
CREATED:20241126T180834Z
LAST-MODIFIED:20241126T180834Z
UID:16403-1734681600-1734692400@hillcrestrvresortfl.com
SUMMARY:Water Aerobics
DESCRIPTION:
URL:https://hillcrestrvresortfl.com/event/water-aerobics-138/
END:VEVENT
BEGIN:VEVENT
DTSTART;TZID=America/Chicago:20241220T090000
DTEND;TZID=America/Chicago:20241220T103000
DTSTAMP:20260425T231658
CREATED:20241126T205702Z
LAST-MODIFIED:20241126T205702Z
UID:16647-1734685200-1734690600@hillcrestrvresortfl.com
SUMMARY:Bone Builder Exercises
DESCRIPTION:
URL:https://hillcrestrvresortfl.com/event/bone-builder-exercises-2/
END:VEVENT
BEGIN:VEVENT
DTSTART;TZID=America/Chicago:20241220T090000
DTEND;TZID=America/Chicago:20241220T170000
DTSTAMP:20260425T231658
CREATED:20241127T132448Z
LAST-MODIFIED:20241127T132448Z
UID:16753-1734685200-1734714000@hillcrestrvresortfl.com
SUMMARY:Horseshoes
DESCRIPTION:
URL:https://hillcrestrvresortfl.com/event/horseshoes-132/
END:VEVENT
BEGIN:VEVENT
DTSTART;TZID=America/Chicago:20241220T093000
DTEND;TZID=America/Chicago:20241220T110000
DTSTAMP:20260425T231658
CREATED:20241126T145225Z
LAST-MODIFIED:20241126T145225Z
UID:16359-1734687000-1734692400@hillcrestrvresortfl.com
SUMMARY:Shuffleboard
DESCRIPTION:
URL:https://hillcrestrvresortfl.com/event/shuffleboard-139/
END:VEVENT
BEGIN:VEVENT
DTSTART;TZID=America/Chicago:20241220T100000
DTEND;TZID=America/Chicago:20241220T150000
DTSTAMP:20260425T231658
CREATED:20241126T182700Z
LAST-MODIFIED:20241126T182700Z
UID:16459-1734688800-1734706800@hillcrestrvresortfl.com
SUMMARY:Pentanque
DESCRIPTION:
URL:https://hillcrestrvresortfl.com/event/pentanque-67/
END:VEVENT
BEGIN:VEVENT
DTSTART;TZID=America/Chicago:20241220T110000
DTEND;TZID=America/Chicago:20241220T120000
DTSTAMP:20260425T231658
CREATED:20241127T125823Z
LAST-MODIFIED:20241127T125823Z
UID:16653-1734692400-1734696000@hillcrestrvresortfl.com
SUMMARY:Rock Painting
DESCRIPTION:
URL:https://hillcrestrvresortfl.com/event/rock-painting-20/
END:VEVENT
BEGIN:VEVENT
DTSTART;TZID=America/Chicago:20241220T130000
DTEND;TZID=America/Chicago:20241220T170000
DTSTAMP:20260425T231658
CREATED:20241126T141450Z
LAST-MODIFIED:20241126T141450Z
UID:16271-1734699600-1734714000@hillcrestrvresortfl.com
SUMMARY:Men's Billiards
DESCRIPTION:
URL:https://hillcrestrvresortfl.com/event/mens-billiards-54/
END:VEVENT
BEGIN:VEVENT
DTSTART;TZID=America/Chicago:20241220T130000
DTEND;TZID=America/Chicago:20241220T170000
DTSTAMP:20260425T231658
CREATED:20241126T142808Z
LAST-MODIFIED:20241126T142808Z
UID:16327-1734699600-1734714000@hillcrestrvresortfl.com
SUMMARY:Bowling
DESCRIPTION:
URL:https://hillcrestrvresortfl.com/event/bowling-26/
END:VEVENT
BEGIN:VEVENT
DTSTART;TZID=America/Chicago:20241220T183000
DTEND;TZID=America/Chicago:20241220T213000
DTSTAMP:20260425T231658
CREATED:20241127T130006Z
LAST-MODIFIED:20241127T130006Z
UID:16659-1734719400-1734730200@hillcrestrvresortfl.com
SUMMARY:Friday Night Jam
DESCRIPTION:
URL:https://hillcrestrvresortfl.com/event/friday-night-jam-2/
END:VEVENT
END:VCALENDAR