BEGIN:VCALENDAR
VERSION:2.0
PRODID:-//Hillcrest RV Resort - ECPv6.15.20//NONSGML v1.0//EN
CALSCALE:GREGORIAN
METHOD:PUBLISH
X-ORIGINAL-URL:https://hillcrestrvresortfl.com
X-WR-CALDESC:Events for Hillcrest RV Resort
REFRESH-INTERVAL;VALUE=DURATION:PT1H
X-Robots-Tag:noindex
X-PUBLISHED-TTL:PT1H
BEGIN:VTIMEZONE
TZID:America/Chicago
BEGIN:DAYLIGHT
TZOFFSETFROM:-0600
TZOFFSETTO:-0500
TZNAME:CDT
DTSTART:20230312T080000
END:DAYLIGHT
BEGIN:STANDARD
TZOFFSETFROM:-0500
TZOFFSETTO:-0600
TZNAME:CST
DTSTART:20231105T070000
END:STANDARD
BEGIN:DAYLIGHT
TZOFFSETFROM:-0600
TZOFFSETTO:-0500
TZNAME:CDT
DTSTART:20240310T080000
END:DAYLIGHT
BEGIN:STANDARD
TZOFFSETFROM:-0500
TZOFFSETTO:-0600
TZNAME:CST
DTSTART:20241103T070000
END:STANDARD
BEGIN:DAYLIGHT
TZOFFSETFROM:-0600
TZOFFSETTO:-0500
TZNAME:CDT
DTSTART:20250309T080000
END:DAYLIGHT
BEGIN:STANDARD
TZOFFSETFROM:-0500
TZOFFSETTO:-0600
TZNAME:CST
DTSTART:20251102T070000
END:STANDARD
END:VTIMEZONE
BEGIN:VEVENT
DTSTART;VALUE=DATE:20241218
DTEND;VALUE=DATE:20241219
DTSTAMP:20260425T232047
CREATED:20241127T131356Z
LAST-MODIFIED:20241127T131356Z
UID:16697-1734480000-1734566399@hillcrestrvresortfl.com
SUMMARY:Pickleball
DESCRIPTION:
URL:https://hillcrestrvresortfl.com/event/pickleball-146/
END:VEVENT
BEGIN:VEVENT
DTSTART;TZID=America/Chicago:20241218T080000
DTEND;TZID=America/Chicago:20241218T110000
DTSTAMP:20260425T232047
CREATED:20241126T180754Z
LAST-MODIFIED:20241126T180754Z
UID:16399-1734508800-1734519600@hillcrestrvresortfl.com
SUMMARY:Water Aerobics
DESCRIPTION:
URL:https://hillcrestrvresortfl.com/event/water-aerobics-136/
END:VEVENT
BEGIN:VEVENT
DTSTART;TZID=America/Chicago:20241218T090000
DTEND;TZID=America/Chicago:20241218T103000
DTSTAMP:20260425T232047
CREATED:20241126T203113Z
LAST-MODIFIED:20241126T203113Z
UID:16593-1734512400-1734517800@hillcrestrvresortfl.com
SUMMARY:Bone Builder Exercise
DESCRIPTION:
URL:https://hillcrestrvresortfl.com/event/bone-builder-exercise-3/
END:VEVENT
BEGIN:VEVENT
DTSTART;TZID=America/Chicago:20241218T090000
DTEND;TZID=America/Chicago:20241218T170000
DTSTAMP:20260425T232047
CREATED:20241127T132419Z
LAST-MODIFIED:20241127T132419Z
UID:16749-1734512400-1734541200@hillcrestrvresortfl.com
SUMMARY:Horseshoes
DESCRIPTION:
URL:https://hillcrestrvresortfl.com/event/horseshoes-130/
END:VEVENT
BEGIN:VEVENT
DTSTART;TZID=America/Chicago:20241218T093000
DTEND;TZID=America/Chicago:20241218T110000
DTSTAMP:20260425T232047
CREATED:20241126T145139Z
LAST-MODIFIED:20241126T145139Z
UID:16355-1734514200-1734519600@hillcrestrvresortfl.com
SUMMARY:Shuffleboard
DESCRIPTION:
URL:https://hillcrestrvresortfl.com/event/shuffleboard-137/
END:VEVENT
BEGIN:VEVENT
DTSTART;TZID=America/Chicago:20241218T100000
DTEND;TZID=America/Chicago:20241218T130000
DTSTAMP:20260425T232047
CREATED:20241126T142254Z
LAST-MODIFIED:20241126T142254Z
UID:16303-1734516000-1734526800@hillcrestrvresortfl.com
SUMMARY:Scrabble
DESCRIPTION:
URL:https://hillcrestrvresortfl.com/event/scrabble-21/
END:VEVENT
BEGIN:VEVENT
DTSTART;TZID=America/Chicago:20241218T100000
DTEND;TZID=America/Chicago:20241218T150000
DTSTAMP:20260425T232047
CREATED:20241126T182617Z
LAST-MODIFIED:20241126T182617Z
UID:16455-1734516000-1734534000@hillcrestrvresortfl.com
SUMMARY:Pentanque
DESCRIPTION:
URL:https://hillcrestrvresortfl.com/event/pentanque-65/
END:VEVENT
BEGIN:VEVENT
DTSTART;TZID=America/Chicago:20241218T103000
DTEND;TZID=America/Chicago:20241218T170000
DTSTAMP:20260425T232047
CREATED:20241126T142434Z
LAST-MODIFIED:20241126T142434Z
UID:16311-1734517800-1734541200@hillcrestrvresortfl.com
SUMMARY:Golf
DESCRIPTION:
URL:https://hillcrestrvresortfl.com/event/golf-7/
END:VEVENT
BEGIN:VEVENT
DTSTART;TZID=America/Chicago:20241218T110000
DTEND;TZID=America/Chicago:20241218T120000
DTSTAMP:20260425T232047
CREATED:20241126T203241Z
LAST-MODIFIED:20241126T203241Z
UID:16599-1734519600-1734523200@hillcrestrvresortfl.com
SUMMARY:Bible Study
DESCRIPTION:
URL:https://hillcrestrvresortfl.com/event/bible-study-10/
END:VEVENT
BEGIN:VEVENT
DTSTART;TZID=America/Chicago:20241218T130000
DTEND;TZID=America/Chicago:20241218T150000
DTSTAMP:20260425T232047
CREATED:20241126T203437Z
LAST-MODIFIED:20241126T203437Z
UID:16607-1734526800-1734534000@hillcrestrvresortfl.com
SUMMARY:Fiddler's Jam
DESCRIPTION:
URL:https://hillcrestrvresortfl.com/event/fiddlers-jam-20/
END:VEVENT
BEGIN:VEVENT
DTSTART;TZID=America/Chicago:20241218T180000
DTEND;TZID=America/Chicago:20241218T210000
DTSTAMP:20260425T232047
CREATED:20241126T140817Z
LAST-MODIFIED:20241126T140817Z
UID:16245-1734544800-1734555600@hillcrestrvresortfl.com
SUMMARY:Game Night
DESCRIPTION:
URL:https://hillcrestrvresortfl.com/event/game-night-44/
END:VEVENT
BEGIN:VEVENT
DTSTART;TZID=America/Chicago:20241218T180000
DTEND;TZID=America/Chicago:20241218T210000
DTSTAMP:20260425T232047
CREATED:20241126T203653Z
LAST-MODIFIED:20241126T203653Z
UID:16613-1734544800-1734555600@hillcrestrvresortfl.com
SUMMARY:Darts
DESCRIPTION:
URL:https://hillcrestrvresortfl.com/event/darts-16/
END:VEVENT
BEGIN:VEVENT
DTSTART;TZID=America/Chicago:20241218T183000
DTEND;TZID=America/Chicago:20241218T210000
DTSTAMP:20260425T232047
CREATED:20241126T204416Z
LAST-MODIFIED:20241126T204416Z
UID:16615-1734546600-1734555600@hillcrestrvresortfl.com
SUMMARY:Golf Cart & Bike Parade
DESCRIPTION:
URL:https://hillcrestrvresortfl.com/event/golf-cart-bike-parade/
END:VEVENT
END:VCALENDAR