BEGIN:VCALENDAR
VERSION:2.0
PRODID:-//Hillcrest RV Resort - ECPv6.15.20//NONSGML v1.0//EN
CALSCALE:GREGORIAN
METHOD:PUBLISH
X-ORIGINAL-URL:https://hillcrestrvresortfl.com
X-WR-CALDESC:Events for Hillcrest RV Resort
REFRESH-INTERVAL;VALUE=DURATION:PT1H
X-Robots-Tag:noindex
X-PUBLISHED-TTL:PT1H
BEGIN:VTIMEZONE
TZID:America/Chicago
BEGIN:DAYLIGHT
TZOFFSETFROM:-0600
TZOFFSETTO:-0500
TZNAME:CDT
DTSTART:20230312T080000
END:DAYLIGHT
BEGIN:STANDARD
TZOFFSETFROM:-0500
TZOFFSETTO:-0600
TZNAME:CST
DTSTART:20231105T070000
END:STANDARD
BEGIN:DAYLIGHT
TZOFFSETFROM:-0600
TZOFFSETTO:-0500
TZNAME:CDT
DTSTART:20240310T080000
END:DAYLIGHT
BEGIN:STANDARD
TZOFFSETFROM:-0500
TZOFFSETTO:-0600
TZNAME:CST
DTSTART:20241103T070000
END:STANDARD
BEGIN:DAYLIGHT
TZOFFSETFROM:-0600
TZOFFSETTO:-0500
TZNAME:CDT
DTSTART:20250309T080000
END:DAYLIGHT
BEGIN:STANDARD
TZOFFSETFROM:-0500
TZOFFSETTO:-0600
TZNAME:CST
DTSTART:20251102T070000
END:STANDARD
END:VTIMEZONE
BEGIN:VEVENT
DTSTART;VALUE=DATE:20241215
DTEND;VALUE=DATE:20241216
DTSTAMP:20260425T232044
CREATED:20241127T131247Z
LAST-MODIFIED:20241127T131247Z
UID:16691-1734220800-1734307199@hillcrestrvresortfl.com
SUMMARY:Pickleball
DESCRIPTION:
URL:https://hillcrestrvresortfl.com/event/pickleball-143/
END:VEVENT
BEGIN:VEVENT
DTSTART;TZID=America/Chicago:20241215T100000
DTEND;TZID=America/Chicago:20241215T123000
DTSTAMP:20260425T232044
CREATED:20241126T134348Z
LAST-MODIFIED:20241126T134348Z
UID:16215-1734256800-1734265800@hillcrestrvresortfl.com
SUMMARY:Church
DESCRIPTION:
URL:https://hillcrestrvresortfl.com/event/church-25/
END:VEVENT
BEGIN:VEVENT
DTSTART;TZID=America/Chicago:20241215T100000
DTEND;TZID=America/Chicago:20241215T150000
DTSTAMP:20260425T232044
CREATED:20241126T182503Z
LAST-MODIFIED:20241126T182503Z
UID:16449-1734256800-1734274800@hillcrestrvresortfl.com
SUMMARY:Pentanque
DESCRIPTION:
URL:https://hillcrestrvresortfl.com/event/pentanque-62/
END:VEVENT
BEGIN:VEVENT
DTSTART;TZID=America/Chicago:20241215T180000
DTEND;TZID=America/Chicago:20241215T190000
DTSTAMP:20260425T232044
CREATED:20241126T185522Z
LAST-MODIFIED:20241126T185825Z
UID:16485-1734285600-1734289200@hillcrestrvresortfl.com
SUMMARY:Ice Cream Social
DESCRIPTION:
URL:https://hillcrestrvresortfl.com/event/ice-cream-social-12/
END:VEVENT
BEGIN:VEVENT
DTSTART;TZID=America/Chicago:20241215T190000
DTEND;TZID=America/Chicago:20241215T213000
DTSTAMP:20260425T232044
CREATED:20241126T190155Z
LAST-MODIFIED:20241126T190155Z
UID:16495-1734289200-1734298200@hillcrestrvresortfl.com
SUMMARY:Entertainment (Charles Williams)
DESCRIPTION:
URL:https://hillcrestrvresortfl.com/event/entertainment-charles-williams-2/
END:VEVENT
END:VCALENDAR