BEGIN:VCALENDAR
VERSION:2.0
PRODID:-//Hillcrest RV Resort - ECPv6.15.20//NONSGML v1.0//EN
CALSCALE:GREGORIAN
METHOD:PUBLISH
X-WR-CALNAME:Hillcrest RV Resort
X-ORIGINAL-URL:https://hillcrestrvresortfl.com
X-WR-CALDESC:Events for Hillcrest RV Resort
REFRESH-INTERVAL;VALUE=DURATION:PT1H
X-Robots-Tag:noindex
X-PUBLISHED-TTL:PT1H
BEGIN:VTIMEZONE
TZID:America/Chicago
BEGIN:DAYLIGHT
TZOFFSETFROM:-0600
TZOFFSETTO:-0500
TZNAME:CDT
DTSTART:20230312T080000
END:DAYLIGHT
BEGIN:STANDARD
TZOFFSETFROM:-0500
TZOFFSETTO:-0600
TZNAME:CST
DTSTART:20231105T070000
END:STANDARD
BEGIN:DAYLIGHT
TZOFFSETFROM:-0600
TZOFFSETTO:-0500
TZNAME:CDT
DTSTART:20240310T080000
END:DAYLIGHT
BEGIN:STANDARD
TZOFFSETFROM:-0500
TZOFFSETTO:-0600
TZNAME:CST
DTSTART:20241103T070000
END:STANDARD
BEGIN:DAYLIGHT
TZOFFSETFROM:-0600
TZOFFSETTO:-0500
TZNAME:CDT
DTSTART:20250309T080000
END:DAYLIGHT
BEGIN:STANDARD
TZOFFSETFROM:-0500
TZOFFSETTO:-0600
TZNAME:CST
DTSTART:20251102T070000
END:STANDARD
END:VTIMEZONE
BEGIN:VEVENT
DTSTART;VALUE=DATE:20241213
DTEND;VALUE=DATE:20241214
DTSTAMP:20260425T232011
CREATED:20241127T131200Z
LAST-MODIFIED:20241127T131200Z
UID:16687-1734048000-1734134399@hillcrestrvresortfl.com
SUMMARY:Pickleball
DESCRIPTION:
URL:https://hillcrestrvresortfl.com/event/pickleball-141/
END:VEVENT
BEGIN:VEVENT
DTSTART;TZID=America/Chicago:20241213T080000
DTEND;TZID=America/Chicago:20241213T110000
DTSTAMP:20260425T232011
CREATED:20241126T180448Z
LAST-MODIFIED:20241126T180448Z
UID:16393-1734076800-1734087600@hillcrestrvresortfl.com
SUMMARY:Water Aerobics
DESCRIPTION:
URL:https://hillcrestrvresortfl.com/event/water-aerobics-133/
END:VEVENT
BEGIN:VEVENT
DTSTART;TZID=America/Chicago:20241213T090000
DTEND;TZID=America/Chicago:20241213T103000
DTSTAMP:20260425T232011
CREATED:20241126T205637Z
LAST-MODIFIED:20241126T205637Z
UID:16645-1734080400-1734085800@hillcrestrvresortfl.com
SUMMARY:Bone Builder Exercises
DESCRIPTION:
URL:https://hillcrestrvresortfl.com/event/bone-builder-exercises/
END:VEVENT
BEGIN:VEVENT
DTSTART;TZID=America/Chicago:20241213T090000
DTEND;TZID=America/Chicago:20241213T170000
DTSTAMP:20260425T232011
CREATED:20241127T132326Z
LAST-MODIFIED:20241127T132326Z
UID:16743-1734080400-1734109200@hillcrestrvresortfl.com
SUMMARY:Horseshoes
DESCRIPTION:
URL:https://hillcrestrvresortfl.com/event/horseshoes-127/
END:VEVENT
BEGIN:VEVENT
DTSTART;TZID=America/Chicago:20241213T100000
DTEND;TZID=America/Chicago:20241213T150000
DTSTAMP:20260425T232011
CREATED:20241126T182416Z
LAST-MODIFIED:20241126T182416Z
UID:16445-1734084000-1734102000@hillcrestrvresortfl.com
SUMMARY:Pentanque
DESCRIPTION:
URL:https://hillcrestrvresortfl.com/event/pentanque-60/
END:VEVENT
BEGIN:VEVENT
DTSTART;TZID=America/Chicago:20241213T110000
DTEND;TZID=America/Chicago:20241213T120000
DTSTAMP:20260425T232011
CREATED:20241127T125754Z
LAST-MODIFIED:20241127T125754Z
UID:16651-1734087600-1734091200@hillcrestrvresortfl.com
SUMMARY:Rock Painting
DESCRIPTION:
URL:https://hillcrestrvresortfl.com/event/rock-painting-19/
END:VEVENT
BEGIN:VEVENT
DTSTART;TZID=America/Chicago:20241213T130000
DTEND;TZID=America/Chicago:20241213T170000
DTSTAMP:20260425T232011
CREATED:20241126T141428Z
LAST-MODIFIED:20241126T141428Z
UID:16269-1734094800-1734109200@hillcrestrvresortfl.com
SUMMARY:Men's Billiards
DESCRIPTION:
URL:https://hillcrestrvresortfl.com/event/mens-billiards-53/
END:VEVENT
BEGIN:VEVENT
DTSTART;TZID=America/Chicago:20241213T130000
DTEND;TZID=America/Chicago:20241213T170000
DTSTAMP:20260425T232011
CREATED:20241126T142748Z
LAST-MODIFIED:20241126T142748Z
UID:16325-1734094800-1734109200@hillcrestrvresortfl.com
SUMMARY:Bowling
DESCRIPTION:
URL:https://hillcrestrvresortfl.com/event/bowling-25/
END:VEVENT
BEGIN:VEVENT
DTSTART;TZID=America/Chicago:20241213T183000
DTEND;TZID=America/Chicago:20241213T213000
DTSTAMP:20260425T232011
CREATED:20241127T125940Z
LAST-MODIFIED:20241127T125940Z
UID:16657-1734114600-1734125400@hillcrestrvresortfl.com
SUMMARY:Friday Night Jam
DESCRIPTION:
URL:https://hillcrestrvresortfl.com/event/friday-night-jam/
END:VEVENT
END:VCALENDAR