BEGIN:VCALENDAR
VERSION:2.0
PRODID:-//Hillcrest RV Resort - ECPv6.15.20//NONSGML v1.0//EN
CALSCALE:GREGORIAN
METHOD:PUBLISH
X-ORIGINAL-URL:https://hillcrestrvresortfl.com
X-WR-CALDESC:Events for Hillcrest RV Resort
REFRESH-INTERVAL;VALUE=DURATION:PT1H
X-Robots-Tag:noindex
X-PUBLISHED-TTL:PT1H
BEGIN:VTIMEZONE
TZID:America/Chicago
BEGIN:DAYLIGHT
TZOFFSETFROM:-0600
TZOFFSETTO:-0500
TZNAME:CDT
DTSTART:20230312T080000
END:DAYLIGHT
BEGIN:STANDARD
TZOFFSETFROM:-0500
TZOFFSETTO:-0600
TZNAME:CST
DTSTART:20231105T070000
END:STANDARD
BEGIN:DAYLIGHT
TZOFFSETFROM:-0600
TZOFFSETTO:-0500
TZNAME:CDT
DTSTART:20240310T080000
END:DAYLIGHT
BEGIN:STANDARD
TZOFFSETFROM:-0500
TZOFFSETTO:-0600
TZNAME:CST
DTSTART:20241103T070000
END:STANDARD
BEGIN:DAYLIGHT
TZOFFSETFROM:-0600
TZOFFSETTO:-0500
TZNAME:CDT
DTSTART:20250309T080000
END:DAYLIGHT
BEGIN:STANDARD
TZOFFSETFROM:-0500
TZOFFSETTO:-0600
TZNAME:CST
DTSTART:20251102T070000
END:STANDARD
END:VTIMEZONE
BEGIN:VEVENT
DTSTART;VALUE=DATE:20241211
DTEND;VALUE=DATE:20241212
DTSTAMP:20260425T232044
CREATED:20241127T131128Z
LAST-MODIFIED:20241127T131128Z
UID:16683-1733875200-1733961599@hillcrestrvresortfl.com
SUMMARY:Pickleball
DESCRIPTION:
URL:https://hillcrestrvresortfl.com/event/pickleball-139/
END:VEVENT
BEGIN:VEVENT
DTSTART;TZID=America/Chicago:20241211T080000
DTEND;TZID=America/Chicago:20241211T110000
DTSTAMP:20260425T232044
CREATED:20241126T180404Z
LAST-MODIFIED:20241126T180404Z
UID:16389-1733904000-1733914800@hillcrestrvresortfl.com
SUMMARY:Water Aerobics
DESCRIPTION:
URL:https://hillcrestrvresortfl.com/event/water-aerobics-131/
END:VEVENT
BEGIN:VEVENT
DTSTART;TZID=America/Chicago:20241211T090000
DTEND;TZID=America/Chicago:20241211T103000
DTSTAMP:20260425T232044
CREATED:20241126T203049Z
LAST-MODIFIED:20241126T203049Z
UID:16591-1733907600-1733913000@hillcrestrvresortfl.com
SUMMARY:Bone Builder Exercise
DESCRIPTION:
URL:https://hillcrestrvresortfl.com/event/bone-builder-exercise-2/
END:VEVENT
BEGIN:VEVENT
DTSTART;TZID=America/Chicago:20241211T090000
DTEND;TZID=America/Chicago:20241211T170000
DTSTAMP:20260425T232044
CREATED:20241127T132253Z
LAST-MODIFIED:20241127T132253Z
UID:16739-1733907600-1733936400@hillcrestrvresortfl.com
SUMMARY:Horseshoes
DESCRIPTION:
URL:https://hillcrestrvresortfl.com/event/horseshoes-125/
END:VEVENT
BEGIN:VEVENT
DTSTART;TZID=America/Chicago:20241211T093000
DTEND;TZID=America/Chicago:20241211T110000
DTSTAMP:20260425T232044
CREATED:20241126T143354Z
LAST-MODIFIED:20241126T143354Z
UID:16347-1733909400-1733914800@hillcrestrvresortfl.com
SUMMARY:Shuffleboard
DESCRIPTION:
URL:https://hillcrestrvresortfl.com/event/shuffleboard-133/
END:VEVENT
BEGIN:VEVENT
DTSTART;TZID=America/Chicago:20241211T100000
DTEND;TZID=America/Chicago:20241211T130000
DTSTAMP:20260425T232044
CREATED:20241126T142227Z
LAST-MODIFIED:20241126T142227Z
UID:16301-1733911200-1733922000@hillcrestrvresortfl.com
SUMMARY:Scrabble
DESCRIPTION:
URL:https://hillcrestrvresortfl.com/event/scrabble-20/
END:VEVENT
BEGIN:VEVENT
DTSTART;TZID=America/Chicago:20241211T100000
DTEND;TZID=America/Chicago:20241211T150000
DTSTAMP:20260425T232044
CREATED:20241126T182324Z
LAST-MODIFIED:20241126T182324Z
UID:16441-1733911200-1733929200@hillcrestrvresortfl.com
SUMMARY:Pentanque
DESCRIPTION:
URL:https://hillcrestrvresortfl.com/event/pentanque-58/
END:VEVENT
BEGIN:VEVENT
DTSTART;TZID=America/Chicago:20241211T103000
DTEND;TZID=America/Chicago:20241211T170000
DTSTAMP:20260425T232044
CREATED:20241126T142417Z
LAST-MODIFIED:20241126T142417Z
UID:16309-1733913000-1733936400@hillcrestrvresortfl.com
SUMMARY:Golf
DESCRIPTION:
URL:https://hillcrestrvresortfl.com/event/golf-6/
END:VEVENT
BEGIN:VEVENT
DTSTART;TZID=America/Chicago:20241211T110000
DTEND;TZID=America/Chicago:20241211T120000
DTSTAMP:20260425T232044
CREATED:20241126T203215Z
LAST-MODIFIED:20241126T203215Z
UID:16597-1733914800-1733918400@hillcrestrvresortfl.com
SUMMARY:Bible Study
DESCRIPTION:
URL:https://hillcrestrvresortfl.com/event/bible-study-9/
END:VEVENT
BEGIN:VEVENT
DTSTART;TZID=America/Chicago:20241211T130000
DTEND;TZID=America/Chicago:20241211T150000
DTSTAMP:20260425T232044
CREATED:20241126T203413Z
LAST-MODIFIED:20241126T203413Z
UID:16605-1733922000-1733929200@hillcrestrvresortfl.com
SUMMARY:Fiddler's Jam
DESCRIPTION:
URL:https://hillcrestrvresortfl.com/event/fiddlers-jam-19/
END:VEVENT
BEGIN:VEVENT
DTSTART;TZID=America/Chicago:20241211T180000
DTEND;TZID=America/Chicago:20241211T210000
DTSTAMP:20260425T232044
CREATED:20241126T140751Z
LAST-MODIFIED:20241126T140751Z
UID:16243-1733940000-1733950800@hillcrestrvresortfl.com
SUMMARY:Game Night
DESCRIPTION:
URL:https://hillcrestrvresortfl.com/event/game-night-43/
END:VEVENT
BEGIN:VEVENT
DTSTART;TZID=America/Chicago:20241211T180000
DTEND;TZID=America/Chicago:20241211T210000
DTSTAMP:20260425T232044
CREATED:20241126T203623Z
LAST-MODIFIED:20241126T203623Z
UID:16611-1733940000-1733950800@hillcrestrvresortfl.com
SUMMARY:Darts
DESCRIPTION:
URL:https://hillcrestrvresortfl.com/event/darts-15/
END:VEVENT
END:VCALENDAR