BEGIN:VCALENDAR
VERSION:2.0
PRODID:-//Hillcrest RV Resort - ECPv6.15.20//NONSGML v1.0//EN
CALSCALE:GREGORIAN
METHOD:PUBLISH
X-ORIGINAL-URL:https://hillcrestrvresortfl.com
X-WR-CALDESC:Events for Hillcrest RV Resort
REFRESH-INTERVAL;VALUE=DURATION:PT1H
X-Robots-Tag:noindex
X-PUBLISHED-TTL:PT1H
BEGIN:VTIMEZONE
TZID:America/Chicago
BEGIN:DAYLIGHT
TZOFFSETFROM:-0600
TZOFFSETTO:-0500
TZNAME:CDT
DTSTART:20230312T080000
END:DAYLIGHT
BEGIN:STANDARD
TZOFFSETFROM:-0500
TZOFFSETTO:-0600
TZNAME:CST
DTSTART:20231105T070000
END:STANDARD
BEGIN:DAYLIGHT
TZOFFSETFROM:-0600
TZOFFSETTO:-0500
TZNAME:CDT
DTSTART:20240310T080000
END:DAYLIGHT
BEGIN:STANDARD
TZOFFSETFROM:-0500
TZOFFSETTO:-0600
TZNAME:CST
DTSTART:20241103T070000
END:STANDARD
BEGIN:DAYLIGHT
TZOFFSETFROM:-0600
TZOFFSETTO:-0500
TZNAME:CDT
DTSTART:20250309T080000
END:DAYLIGHT
BEGIN:STANDARD
TZOFFSETFROM:-0500
TZOFFSETTO:-0600
TZNAME:CST
DTSTART:20251102T070000
END:STANDARD
END:VTIMEZONE
BEGIN:VEVENT
DTSTART;VALUE=DATE:20241210
DTEND;VALUE=DATE:20241211
DTSTAMP:20260425T231658
CREATED:20241127T131038Z
LAST-MODIFIED:20241127T131038Z
UID:16681-1733788800-1733875199@hillcrestrvresortfl.com
SUMMARY:Pickleball
DESCRIPTION:
URL:https://hillcrestrvresortfl.com/event/pickleball-138/
END:VEVENT
BEGIN:VEVENT
DTSTART;TZID=America/Chicago:20241210T080000
DTEND;TZID=America/Chicago:20241210T110000
DTSTAMP:20260425T231658
CREATED:20241126T180341Z
LAST-MODIFIED:20241126T180341Z
UID:16387-1733817600-1733828400@hillcrestrvresortfl.com
SUMMARY:Water Aerobics
DESCRIPTION:
URL:https://hillcrestrvresortfl.com/event/water-aerobics-130/
END:VEVENT
BEGIN:VEVENT
DTSTART;TZID=America/Chicago:20241210T090000
DTEND;TZID=America/Chicago:20241210T170000
DTSTAMP:20260425T231658
CREATED:20241127T132236Z
LAST-MODIFIED:20241127T132236Z
UID:16737-1733821200-1733850000@hillcrestrvresortfl.com
SUMMARY:Horseshoes
DESCRIPTION:
URL:https://hillcrestrvresortfl.com/event/horseshoes-124/
END:VEVENT
BEGIN:VEVENT
DTSTART;TZID=America/Chicago:20241210T093000
DTEND;TZID=America/Chicago:20241210T103000
DTSTAMP:20260425T231658
CREATED:20241126T195750Z
LAST-MODIFIED:20241126T195750Z
UID:16549-1733823000-1733826600@hillcrestrvresortfl.com
SUMMARY:OSS (One Stop Shopping)
DESCRIPTION:
URL:https://hillcrestrvresortfl.com/event/oss-one-stop-shopping-2/
END:VEVENT
BEGIN:VEVENT
DTSTART;TZID=America/Chicago:20241210T093000
DTEND;TZID=America/Chicago:20241210T110000
DTSTAMP:20260425T231658
CREATED:20241126T143321Z
LAST-MODIFIED:20241126T143321Z
UID:16345-1733823000-1733828400@hillcrestrvresortfl.com
SUMMARY:Shuffleboard
DESCRIPTION:
URL:https://hillcrestrvresortfl.com/event/shuffleboard-132/
END:VEVENT
BEGIN:VEVENT
DTSTART;TZID=America/Chicago:20241210T100000
DTEND;TZID=America/Chicago:20241210T150000
DTSTAMP:20260425T231658
CREATED:20241126T182251Z
LAST-MODIFIED:20241126T182251Z
UID:16439-1733824800-1733842800@hillcrestrvresortfl.com
SUMMARY:Pentanque
DESCRIPTION:
URL:https://hillcrestrvresortfl.com/event/pentanque-57/
END:VEVENT
BEGIN:VEVENT
DTSTART;TZID=America/Chicago:20241210T103000
DTEND;TZID=America/Chicago:20241210T120000
DTSTAMP:20260425T231658
CREATED:20241126T200051Z
LAST-MODIFIED:20241126T200051Z
UID:16559-1733826600-1733832000@hillcrestrvresortfl.com
SUMMARY:Adv Line Dancing (Robert)
DESCRIPTION:
URL:https://hillcrestrvresortfl.com/event/adv-line-dancing-robert-2/
END:VEVENT
BEGIN:VEVENT
DTSTART;TZID=America/Chicago:20241210T120000
DTEND;TZID=America/Chicago:20241210T150000
DTSTAMP:20260425T231658
CREATED:20241126T202458Z
LAST-MODIFIED:20241126T202516Z
UID:16576-1733832000-1733842800@hillcrestrvresortfl.com
SUMMARY:Nickel Bingo/Potluck
DESCRIPTION:
URL:https://hillcrestrvresortfl.com/event/nickel-bingo/
END:VEVENT
BEGIN:VEVENT
DTSTART;TZID=America/Chicago:20241210T130000
DTEND;TZID=America/Chicago:20241210T170000
DTSTAMP:20260425T231658
CREATED:20241126T141006Z
LAST-MODIFIED:20241126T141006Z
UID:16251-1733835600-1733850000@hillcrestrvresortfl.com
SUMMARY:Men's Billiards
DESCRIPTION:
URL:https://hillcrestrvresortfl.com/event/mens-billiards-44/
END:VEVENT
BEGIN:VEVENT
DTSTART;TZID=America/Chicago:20241210T180000
DTEND;TZID=America/Chicago:20241210T210000
DTSTAMP:20260425T231658
CREATED:20241126T141627Z
LAST-MODIFIED:20241126T141627Z
UID:16277-1733853600-1733864400@hillcrestrvresortfl.com
SUMMARY:Bid Euchre
DESCRIPTION:
URL:https://hillcrestrvresortfl.com/event/bid-euchre-28/
END:VEVENT
BEGIN:VEVENT
DTSTART;TZID=America/Chicago:20241210T180000
DTEND;TZID=America/Chicago:20241210T210000
DTSTAMP:20260425T231658
CREATED:20241126T142021Z
LAST-MODIFIED:20241126T142021Z
UID:16293-1733853600-1733864400@hillcrestrvresortfl.com
SUMMARY:Texas Hold'Em
DESCRIPTION:
URL:https://hillcrestrvresortfl.com/event/texas-holdem-26/
END:VEVENT
BEGIN:VEVENT
DTSTART;TZID=America/Chicago:20241210T180000
DTEND;TZID=America/Chicago:20241210T210000
DTSTAMP:20260425T231658
CREATED:20241126T202314Z
LAST-MODIFIED:20241126T202314Z
UID:16569-1733853600-1733864400@hillcrestrvresortfl.com
SUMMARY:Karaoke
DESCRIPTION:
URL:https://hillcrestrvresortfl.com/event/karaoke-19/
END:VEVENT
END:VCALENDAR