BEGIN:VCALENDAR
VERSION:2.0
PRODID:-//Hillcrest RV Resort - ECPv6.15.20//NONSGML v1.0//EN
CALSCALE:GREGORIAN
METHOD:PUBLISH
X-ORIGINAL-URL:https://hillcrestrvresortfl.com
X-WR-CALDESC:Events for Hillcrest RV Resort
REFRESH-INTERVAL;VALUE=DURATION:PT1H
X-Robots-Tag:noindex
X-PUBLISHED-TTL:PT1H
BEGIN:VTIMEZONE
TZID:America/Chicago
BEGIN:DAYLIGHT
TZOFFSETFROM:-0600
TZOFFSETTO:-0500
TZNAME:CDT
DTSTART:20230312T080000
END:DAYLIGHT
BEGIN:STANDARD
TZOFFSETFROM:-0500
TZOFFSETTO:-0600
TZNAME:CST
DTSTART:20231105T070000
END:STANDARD
BEGIN:DAYLIGHT
TZOFFSETFROM:-0600
TZOFFSETTO:-0500
TZNAME:CDT
DTSTART:20240310T080000
END:DAYLIGHT
BEGIN:STANDARD
TZOFFSETFROM:-0500
TZOFFSETTO:-0600
TZNAME:CST
DTSTART:20241103T070000
END:STANDARD
BEGIN:DAYLIGHT
TZOFFSETFROM:-0600
TZOFFSETTO:-0500
TZNAME:CDT
DTSTART:20250309T080000
END:DAYLIGHT
BEGIN:STANDARD
TZOFFSETFROM:-0500
TZOFFSETTO:-0600
TZNAME:CST
DTSTART:20251102T070000
END:STANDARD
END:VTIMEZONE
BEGIN:VEVENT
DTSTART;VALUE=DATE:20241206
DTEND;VALUE=DATE:20241207
DTSTAMP:20260425T232508
CREATED:20241127T130913Z
LAST-MODIFIED:20241127T130913Z
UID:16673-1733443200-1733529599@hillcrestrvresortfl.com
SUMMARY:Pickleball
DESCRIPTION:
URL:https://hillcrestrvresortfl.com/event/pickleball-134/
END:VEVENT
BEGIN:VEVENT
DTSTART;TZID=America/Chicago:20241206T070000
DTEND;TZID=America/Chicago:20241206T170000
DTSTAMP:20260425T232508
CREATED:20241126T205514Z
LAST-MODIFIED:20241126T205514Z
UID:16641-1733468400-1733504400@hillcrestrvresortfl.com
SUMMARY:Missions Yard Sale Setup
DESCRIPTION:
URL:https://hillcrestrvresortfl.com/event/missions-yard-sale-setup/
END:VEVENT
BEGIN:VEVENT
DTSTART;TZID=America/Chicago:20241206T080000
DTEND;TZID=America/Chicago:20241206T110000
DTSTAMP:20260425T232508
CREATED:20241126T180254Z
LAST-MODIFIED:20241126T180254Z
UID:16383-1733472000-1733482800@hillcrestrvresortfl.com
SUMMARY:Water Aerobics
DESCRIPTION:
URL:https://hillcrestrvresortfl.com/event/water-aerobics-128/
END:VEVENT
BEGIN:VEVENT
DTSTART;TZID=America/Chicago:20241206T090000
DTEND;TZID=America/Chicago:20241206T170000
DTSTAMP:20260425T232508
CREATED:20241127T132202Z
LAST-MODIFIED:20241127T132202Z
UID:16733-1733475600-1733504400@hillcrestrvresortfl.com
SUMMARY:Horseshoes
DESCRIPTION:
URL:https://hillcrestrvresortfl.com/event/horseshoes-122/
END:VEVENT
BEGIN:VEVENT
DTSTART;TZID=America/Chicago:20241206T093000
DTEND;TZID=America/Chicago:20241206T110000
DTSTAMP:20260425T232508
CREATED:20241126T143233Z
LAST-MODIFIED:20241126T143233Z
UID:16341-1733477400-1733482800@hillcrestrvresortfl.com
SUMMARY:Shuffleboard
DESCRIPTION:
URL:https://hillcrestrvresortfl.com/event/shuffleboard-130/
END:VEVENT
BEGIN:VEVENT
DTSTART;TZID=America/Chicago:20241206T100000
DTEND;TZID=America/Chicago:20241206T150000
DTSTAMP:20260425T232508
CREATED:20241126T181527Z
LAST-MODIFIED:20241126T181527Z
UID:16431-1733479200-1733497200@hillcrestrvresortfl.com
SUMMARY:Pentanque
DESCRIPTION:
URL:https://hillcrestrvresortfl.com/event/pentanque-53/
END:VEVENT
BEGIN:VEVENT
DTSTART;TZID=America/Chicago:20241206T130000
DTEND;TZID=America/Chicago:20241206T170000
DTSTAMP:20260425T232508
CREATED:20241126T141349Z
LAST-MODIFIED:20241126T141349Z
UID:16267-1733490000-1733504400@hillcrestrvresortfl.com
SUMMARY:Men's Billiards
DESCRIPTION:
URL:https://hillcrestrvresortfl.com/event/mens-billiards-52/
END:VEVENT
BEGIN:VEVENT
DTSTART;TZID=America/Chicago:20241206T130000
DTEND;TZID=America/Chicago:20241206T170000
DTSTAMP:20260425T232508
CREATED:20241126T142730Z
LAST-MODIFIED:20241126T142730Z
UID:16323-1733490000-1733504400@hillcrestrvresortfl.com
SUMMARY:Bowling
DESCRIPTION:
URL:https://hillcrestrvresortfl.com/event/bowling-24/
END:VEVENT
END:VCALENDAR