BEGIN:VCALENDAR
VERSION:2.0
PRODID:-//Hillcrest RV Resort - ECPv6.15.20//NONSGML v1.0//EN
CALSCALE:GREGORIAN
METHOD:PUBLISH
X-ORIGINAL-URL:https://hillcrestrvresortfl.com
X-WR-CALDESC:Events for Hillcrest RV Resort
REFRESH-INTERVAL;VALUE=DURATION:PT1H
X-Robots-Tag:noindex
X-PUBLISHED-TTL:PT1H
BEGIN:VTIMEZONE
TZID:America/Chicago
BEGIN:DAYLIGHT
TZOFFSETFROM:-0600
TZOFFSETTO:-0500
TZNAME:CDT
DTSTART:20230312T080000
END:DAYLIGHT
BEGIN:STANDARD
TZOFFSETFROM:-0500
TZOFFSETTO:-0600
TZNAME:CST
DTSTART:20231105T070000
END:STANDARD
BEGIN:DAYLIGHT
TZOFFSETFROM:-0600
TZOFFSETTO:-0500
TZNAME:CDT
DTSTART:20240310T080000
END:DAYLIGHT
BEGIN:STANDARD
TZOFFSETFROM:-0500
TZOFFSETTO:-0600
TZNAME:CST
DTSTART:20241103T070000
END:STANDARD
BEGIN:DAYLIGHT
TZOFFSETFROM:-0600
TZOFFSETTO:-0500
TZNAME:CDT
DTSTART:20250309T080000
END:DAYLIGHT
BEGIN:STANDARD
TZOFFSETFROM:-0500
TZOFFSETTO:-0600
TZNAME:CST
DTSTART:20251102T070000
END:STANDARD
END:VTIMEZONE
BEGIN:VEVENT
DTSTART;VALUE=DATE:20241205
DTEND;VALUE=DATE:20241206
DTSTAMP:20260425T232046
CREATED:20241127T130809Z
LAST-MODIFIED:20241127T130809Z
UID:16671-1733356800-1733443199@hillcrestrvresortfl.com
SUMMARY:Pickleball
DESCRIPTION:
URL:https://hillcrestrvresortfl.com/event/pickleball-133/
END:VEVENT
BEGIN:VEVENT
DTSTART;TZID=America/Chicago:20241205T080000
DTEND;TZID=America/Chicago:20241205T110000
DTSTAMP:20260425T232046
CREATED:20241126T180233Z
LAST-MODIFIED:20241126T180233Z
UID:16381-1733385600-1733396400@hillcrestrvresortfl.com
SUMMARY:Water Aerobics
DESCRIPTION:
URL:https://hillcrestrvresortfl.com/event/water-aerobics-127/
END:VEVENT
BEGIN:VEVENT
DTSTART;TZID=America/Chicago:20241205T090000
DTEND;TZID=America/Chicago:20241205T103000
DTSTAMP:20260425T232046
CREATED:20241126T142549Z
LAST-MODIFIED:20241126T142549Z
UID:16315-1733389200-1733394600@hillcrestrvresortfl.com
SUMMARY:Choir Practice
DESCRIPTION:
URL:https://hillcrestrvresortfl.com/event/choir-practice-5/
END:VEVENT
BEGIN:VEVENT
DTSTART;TZID=America/Chicago:20241205T090000
DTEND;TZID=America/Chicago:20241205T170000
DTSTAMP:20260425T232046
CREATED:20241127T132145Z
LAST-MODIFIED:20241127T132145Z
UID:16731-1733389200-1733418000@hillcrestrvresortfl.com
SUMMARY:Horseshoes
DESCRIPTION:
URL:https://hillcrestrvresortfl.com/event/horseshoes-121/
END:VEVENT
BEGIN:VEVENT
DTSTART;TZID=America/Chicago:20241205T093000
DTEND;TZID=America/Chicago:20241205T110000
DTSTAMP:20260425T232046
CREATED:20241126T143211Z
LAST-MODIFIED:20241126T143211Z
UID:16339-1733391000-1733396400@hillcrestrvresortfl.com
SUMMARY:Shuffleboard
DESCRIPTION:
URL:https://hillcrestrvresortfl.com/event/shuffleboard-129/
END:VEVENT
BEGIN:VEVENT
DTSTART;TZID=America/Chicago:20241205T100000
DTEND;TZID=America/Chicago:20241205T113000
DTSTAMP:20260425T232046
CREATED:20241126T204517Z
LAST-MODIFIED:20241126T204517Z
UID:16617-1733392800-1733398200@hillcrestrvresortfl.com
SUMMARY:Dancersize
DESCRIPTION:
URL:https://hillcrestrvresortfl.com/event/dancersize-5/
END:VEVENT
BEGIN:VEVENT
DTSTART;TZID=America/Chicago:20241205T100000
DTEND;TZID=America/Chicago:20241205T150000
DTSTAMP:20260425T232046
CREATED:20241126T181507Z
LAST-MODIFIED:20241126T181507Z
UID:16429-1733392800-1733410800@hillcrestrvresortfl.com
SUMMARY:Pentanque
DESCRIPTION:
URL:https://hillcrestrvresortfl.com/event/pentanque-52/
END:VEVENT
BEGIN:VEVENT
DTSTART;TZID=America/Chicago:20241205T110000
DTEND;TZID=America/Chicago:20241205T123000
DTSTAMP:20260425T232046
CREATED:20241126T204702Z
LAST-MODIFIED:20241126T204702Z
UID:16625-1733396400-1733401800@hillcrestrvresortfl.com
SUMMARY:Line Dancing W/Dena
DESCRIPTION:
URL:https://hillcrestrvresortfl.com/event/line-dancing-w-dena/
END:VEVENT
BEGIN:VEVENT
DTSTART;TZID=America/Chicago:20241205T150000
DTEND;TZID=America/Chicago:20241205T170000
DTSTAMP:20260425T232046
CREATED:20241126T204903Z
LAST-MODIFIED:20241126T204903Z
UID:16633-1733410800-1733418000@hillcrestrvresortfl.com
SUMMARY:Acoustic Jam
DESCRIPTION:
URL:https://hillcrestrvresortfl.com/event/acoustic-jam-20/
END:VEVENT
BEGIN:VEVENT
DTSTART;TZID=America/Chicago:20241205T180000
DTEND;TZID=America/Chicago:20241205T210000
DTSTAMP:20260425T232046
CREATED:20241126T141151Z
LAST-MODIFIED:20241126T141151Z
UID:16259-1733421600-1733432400@hillcrestrvresortfl.com
SUMMARY:Men's Billiards
DESCRIPTION:
URL:https://hillcrestrvresortfl.com/event/mens-billiards-48/
END:VEVENT
BEGIN:VEVENT
DTSTART;TZID=America/Chicago:20241205T180000
DTEND;TZID=America/Chicago:20241205T210000
DTSTAMP:20260425T232046
CREATED:20241126T141749Z
LAST-MODIFIED:20241126T141749Z
UID:16283-1733421600-1733432400@hillcrestrvresortfl.com
SUMMARY:Bid Euchre
DESCRIPTION:
URL:https://hillcrestrvresortfl.com/event/bid-euchre-31/
END:VEVENT
BEGIN:VEVENT
DTSTART;TZID=America/Chicago:20241205T183000
DTEND;TZID=America/Chicago:20241205T210000
DTSTAMP:20260425T232046
CREATED:20241126T194249Z
LAST-MODIFIED:20241126T194249Z
UID:16531-1733423400-1733432400@hillcrestrvresortfl.com
SUMMARY:Bingo
DESCRIPTION:
URL:https://hillcrestrvresortfl.com/event/bingo-40/
END:VEVENT
END:VCALENDAR