BEGIN:VCALENDAR
VERSION:2.0
PRODID:-//Hillcrest RV Resort - ECPv6.15.20//NONSGML v1.0//EN
CALSCALE:GREGORIAN
METHOD:PUBLISH
X-WR-CALNAME:Hillcrest RV Resort
X-ORIGINAL-URL:https://hillcrestrvresortfl.com
X-WR-CALDESC:Events for Hillcrest RV Resort
REFRESH-INTERVAL;VALUE=DURATION:PT1H
X-Robots-Tag:noindex
X-PUBLISHED-TTL:PT1H
BEGIN:VTIMEZONE
TZID:America/Chicago
BEGIN:DAYLIGHT
TZOFFSETFROM:-0600
TZOFFSETTO:-0500
TZNAME:CDT
DTSTART:20230312T080000
END:DAYLIGHT
BEGIN:STANDARD
TZOFFSETFROM:-0500
TZOFFSETTO:-0600
TZNAME:CST
DTSTART:20231105T070000
END:STANDARD
BEGIN:DAYLIGHT
TZOFFSETFROM:-0600
TZOFFSETTO:-0500
TZNAME:CDT
DTSTART:20240310T080000
END:DAYLIGHT
BEGIN:STANDARD
TZOFFSETFROM:-0500
TZOFFSETTO:-0600
TZNAME:CST
DTSTART:20241103T070000
END:STANDARD
BEGIN:DAYLIGHT
TZOFFSETFROM:-0600
TZOFFSETTO:-0500
TZNAME:CDT
DTSTART:20250309T080000
END:DAYLIGHT
BEGIN:STANDARD
TZOFFSETFROM:-0500
TZOFFSETTO:-0600
TZNAME:CST
DTSTART:20251102T070000
END:STANDARD
END:VTIMEZONE
BEGIN:VEVENT
DTSTART;VALUE=DATE:20241126
DTEND;VALUE=DATE:20241127
DTSTAMP:20260425T232009
CREATED:20241104T150416Z
LAST-MODIFIED:20241104T150416Z
UID:16104-1732579200-1732665599@hillcrestrvresortfl.com
SUMMARY:Pickleball
DESCRIPTION:
URL:https://hillcrestrvresortfl.com/event/pickleball-124/
END:VEVENT
BEGIN:VEVENT
DTSTART;TZID=America/Chicago:20241126T080000
DTEND;TZID=America/Chicago:20241126T110000
DTSTAMP:20260425T232009
CREATED:20241104T140426Z
LAST-MODIFIED:20241104T140426Z
UID:16012-1732608000-1732618800@hillcrestrvresortfl.com
SUMMARY:Water Aerobics
DESCRIPTION:
URL:https://hillcrestrvresortfl.com/event/water-aerobics-120/
END:VEVENT
BEGIN:VEVENT
DTSTART;TZID=America/Chicago:20241126T090000
DTEND;TZID=America/Chicago:20241126T110000
DTSTAMP:20260425T232009
CREATED:20241106T152012Z
LAST-MODIFIED:20241106T152012Z
UID:16146-1732611600-1732618800@hillcrestrvresortfl.com
SUMMARY:Horseshoes
DESCRIPTION:
URL:https://hillcrestrvresortfl.com/event/horseshoes-114/
END:VEVENT
BEGIN:VEVENT
DTSTART;TZID=America/Chicago:20241126T093000
DTEND;TZID=America/Chicago:20241126T110000
DTSTAMP:20260425T232009
CREATED:20241104T135551Z
LAST-MODIFIED:20241104T135551Z
UID:15972-1732613400-1732618800@hillcrestrvresortfl.com
SUMMARY:Shuffleboard
DESCRIPTION:
URL:https://hillcrestrvresortfl.com/event/shuffleboard-122/
END:VEVENT
BEGIN:VEVENT
DTSTART;TZID=America/Chicago:20241126T093000
DTEND;TZID=America/Chicago:20241126T110000
DTSTAMP:20260425T232009
CREATED:20241106T162215Z
LAST-MODIFIED:20241106T162215Z
UID:16200-1732613400-1732618800@hillcrestrvresortfl.com
SUMMARY:One Stop Shopping
DESCRIPTION:
URL:https://hillcrestrvresortfl.com/event/one-stop-shopping-12/
END:VEVENT
BEGIN:VEVENT
DTSTART;TZID=America/Chicago:20241126T100000
DTEND;TZID=America/Chicago:20241126T150000
DTSTAMP:20260425T232009
CREATED:20241104T145024Z
LAST-MODIFIED:20241104T145024Z
UID:16052-1732615200-1732633200@hillcrestrvresortfl.com
SUMMARY:Pentanque
DESCRIPTION:
URL:https://hillcrestrvresortfl.com/event/pentanque-44/
END:VEVENT
BEGIN:VEVENT
DTSTART;TZID=America/Chicago:20241126T123000
DTEND;TZID=America/Chicago:20241126T150000
DTSTAMP:20260425T232009
CREATED:20241106T162258Z
LAST-MODIFIED:20241106T162258Z
UID:16202-1732624200-1732633200@hillcrestrvresortfl.com
SUMMARY:Couples Line Dancing
DESCRIPTION:
URL:https://hillcrestrvresortfl.com/event/couples-line-dancing/
END:VEVENT
BEGIN:VEVENT
DTSTART;TZID=America/Chicago:20241126T130000
DTEND;TZID=America/Chicago:20241126T140000
DTSTAMP:20260425T232009
CREATED:20241104T130913Z
LAST-MODIFIED:20241104T130913Z
UID:15897-1732626000-1732629600@hillcrestrvresortfl.com
SUMMARY:Men's Billiards
DESCRIPTION:
URL:https://hillcrestrvresortfl.com/event/mens-billiards-36/
END:VEVENT
BEGIN:VEVENT
DTSTART;TZID=America/Chicago:20241126T180000
DTEND;TZID=America/Chicago:20241126T210000
DTSTAMP:20260425T232009
CREATED:20241104T131424Z
LAST-MODIFIED:20241104T131424Z
UID:15915-1732644000-1732654800@hillcrestrvresortfl.com
SUMMARY:Texas Hold'Em
DESCRIPTION:
URL:https://hillcrestrvresortfl.com/event/texas-holdem-24/
END:VEVENT
END:VCALENDAR